Workbook
Name _23: КВ!$A$2:$A$146
Name DUO_Forte_PUSH: #REF!
Name DUO_Forte_Доп_Магнит: #REF!
Name DUO_Forte_Петли_PUSH: #REF!
Name DUO_Forte_Сопряж_Магнита: #REF!
Name DUO_Forte_Тип_Магнита: #REF!
Name DUO_Standart_PUSH: #REF!
Name DUO_Standart_Арт_110: Мех!$E$307:$E$314
Name DUO_Standart_Арт_75: Мех!$E$323:$E$330
Name DUO_Standart_Арт_90: Мех!$E$315:$E$322
Name DUO_Standart_Доп_Магнит: #REF!
Name DUO_Standart_Итого_110: Мех!$C$307:$C$314
Name DUO_Standart_Итого_75: Мех!$C$323:$C$330
Name DUO_Standart_Итого_90: Мех!$C$315:$C$322
Name DUO_Standart_Кол_во_110: Мех!$G$307:$G$314
Name DUO_Standart_Кол_во_75: Мех!$G$323:$G$330
Name DUO_Standart_Кол_во_90: Мех!$G$315:$G$322
Name DUO_Standart_Колво_110_1: Мех!$A$307:$A$314
Name DUO_Standart_Колво_110_2: Мех!$B$307:$B$314
Name DUO_Standart_Колво_75_1: Мех!$A$323:$A$330
Name DUO_Standart_Колво_75_2: Мех!$B$323:$B$330
Name DUO_Standart_Колво_90_1: Мех!$A$315:$A$322
Name DUO_Standart_Колво_90_2: Мех!$B$315:$B$322
Name DUO_Standart_Петли_PUSH: #REF!
Name DUO_Standart_Сопряж_Магнита: #REF!
Name DUO_Standart_Тип_Магнита: #REF!
Name DUOF_Standart_Арт_110: Мех!$E$335:$E$346
Name DUOF_Standart_Арт_75: Мех!$E$359:$E$370
Name DUOF_Standart_Арт_90: Мех!$E$347:$E$358
Name DUOF_Standart_Итого_110: Мех!$C$335:$C$346
Name DUOF_Standart_Итого_75: Мех!$C$359:$C$370
Name DUOF_Standart_Итого_90: Мех!$C$347:$C$358
Name DUOFIndex110: #REF!
Name DUOFIndex75: #REF!
Name DUOFIndex90: #REF!
Name DUOFАмортизатор: #REF!
Name DUOFВес: #REF!
Name DUOFВысота: #REF!
Name DUOFМатериал: #REF!
Name DUOFПетлиДоводка: #REF!
Name DUOFПетлиНетДоводки: #REF!
Name DUOFТолщина: #REF!
Name DUOFУгол: #REF!
Name DUOFШирина: #REF!
Name DUOSIndex110: #REF!
Name DUOSIndex75: #REF!
Name DUOSIndex90: #REF!
Name DUOSУгол: #REF!
Name DUOАмортизатор: #REF!
Name DUOВес: #REF!
Name DUOВысота: #REF!
Name DUOМатериал: #REF!
Name DUOПетлиДоводка: #REF!
Name DUOПетлиНетДоводки: #REF!
Name DUOТолщина: #REF!
Name DUOШирина: #REF!
Name FF17АдаптерАлм: FreeFlap!$M$13
Name FF17ОграничительУгла: FreeFlap!$M$11
Name FF315АдаптерАлм: FreeFlap!$M$40
Name FFD_Арт: Мех!$E$5:$F$20

Sheet PUSH (2)
D1: 1 | F1: 2 | H1: 3 | J1: 2*2 | L1: 2*3
A2: 0 | B2: 200 | C2: A | D2: 1.7 | E2: 3.1 | F2: 3.1 | G2: 4.6
A3: 0 | B3: 200 | C3: B | F3: 3.6 | G3: 5.4 | H3: 5.4 | I3: 7.9
A4: 0 | B4: 200 | C4: C | H4: 6.8 | I4: 8.3 | J4: 8.3 | K4: 12.3 | L4: 12.3 | M4: 14.7
A5: =B2 -> 200 | B5: 225 | C5: A | D5: 1.5 | E5: 2.9 | F5: 2.9 | G5: 4.1
A6: =B3 -> 200 | B6: 225 | C6: B | F6: 3.1 | G6: 4.7 | H6: 4.7 | I6: 7.1
A7: =B4 -> 200 | B7: 225 | C7: C | H7: 6 | I7: 7.1 | J7: 7.1 | K7: 11.6 | L7: 11.6 | M7: 13.1
A8: =B5 -> 225 | B8: =B5+25 -> 250 | C8: A | D8: 1.3 | E8: 3.1 | F8: 3.1 | G8: 3.8
A9: =B6 -> 225 | B9: =B6+25 -> 250 | C9: B | F9: 2.9 | G9: 5.1 | H9: 5.1 | I9: 6.4
A10: =B7 -> 225 | B10: =B7+25 -> 250 | C10: C | H10: 5.4 | I10: 6.9 | J10: 6.9 | K10: 10.5 | L10: 10.5 | M10: 11.8
A11: =B8 -> 250 | B11: =B8+25 -> 275 | C11: A | D11: 1.2 | E11: 3 | F11: 3 | G11: 3.3
A12: =B9 -> 250 | B12: =B9+25 -> 275 | C12: B | D12: 2.5 | E12: 3.3 | F12: 3.3 | G12: 5 | H12: 5 | I12: 5.7
A13: =B10 -> 250 | B13: =B10+25 -> 275 | C13: C | H13: 4.8 | I13: 6.8 | J13: 6.8 | K13: 10 | L13: 10 | M13: 10.6
A14: =B11 -> 275 | B14: =B11+25 -> 300 | C14: A | D14: 1.1 | E14: 2.7 | F14: 2.7 | G14: 3.1
A15: =B12 -> 275 | B15: =B12+25 -> 300 | C15: B | D15: 2.4 | E15: 3 | F15: 3 | G15: 4.6 | H15: 4.6 | I15: 5.1
A16: =B13 -> 275 | B16: =B13+25 -> 300 | C16: C | H16: 4.4 | I16: 6.6 | J16: 6.6 | K16: 9.6
A17: =B14 -> 300 | B17: =B14+25 -> 325 | C17: A | D17: 1 | E17: 2.6 | F17: 2.6 | G17: 2.8
A18: =B15 -> 300 | B18: =B15+25 -> 325 | C18: B | D18: 2.1 | E18: 3 | F18: 3 | G18: 4.2 | H18: 4.2 | I18: 4.6
A19: =B16 -> 300 | B19: =B16+25 -> 325 | C19: C | H19: 4 | I19: 6 | J19: 6 | K19: 8.8
A20: =B17 -> 325 | B20: =B17+25 -> 350 | C20: A | D20: 0.9 | E20: 2.4 | F20: 2.4 | G20: 2.6
A21: =B18 -> 325 | B21: =B18+25 -> 350 | C21: B | D21: 2 | E21: 2.9 | F21: 2.9 | G21: 4.2
A22: =B19 -> 325 | B22: =B19+25 -> 350 | C22: C | F22: 3.7 | G22: 3.9 | H22: 3.9 | I22: 5.9 | J22: 5.9 | K22: 8.1
A23: =B20 -> 350 | B23: =B20+25 -> 375 | C23: A | D23: 0.9 | E23: 2.3
A24: =B21 -> 350 | B24: =B21+25 -> 375 | C24: B | D24: 1.9 | E24: 2.7 | F24: 2.7 | G24: 3.8
A25: =B22 -> 350 | B25: =B22+25 -> 375 | C25: C | F25: 3.5 | G25: 3.9 | H25: 3.9 | I25: 5.7 | J25: 5.7 | K25: 7.5
A26: =B23 -> 375 | B26: =B23+25 -> 400 | C26: A | D26: 0.8 | E26: 2.1
A27: =B24 -> 375 | B27: =B24+25 -> 400 | C27: B | D27: 1.7 | E27: 2.7 | F27: 2.7 | G27: 3.6
A28: =B25 -> 375 | B28: =B25+25 -> 400 | C28: C | F28: 3.2 | G28: 3.8 | H28: 3.8 | I28: 5.6 | J28: 5.6 | K28: 7
A29: =B26 -> 400 | B29: =B26+25 -> 425 | C29: A | D29: 0.7 | E29: 1.9
A30: =B27 -> 400 | B30: =B27+25 -> 425 | C30: B | D30: 1.5 | E30: 2.3 | F30: 2.3 | G30: 4
A31: =B28 -> 400 | B31: =B28+25 -> 425 | C31: C | F31: 2.9 | G31: 4 | H31: 4 | I31: 5 | J31: 5 | K31: 6.5
A32: =B29 -> 425 | B32: =B29+25 -> 450 | C32: A | D32: 0.6 | E32: 1.7
A33: =B30 -> 425 | B33: =B30+25 -> 450 | C33: B | D33: 1.4 | E33: 2.4 | F33: 2.4 | G33: 3.2
A34: =B31 -> 425 | B34: =B31+25 -> 450 | C34: C | F34: 2.7 | G34: 3.3 | H34: 3.3 | I34: 5.1 | J34: 5.1 | K34: 6.1

Sheet Лист3
B4: FREE FOLD
B5: FREE FLAP 1.7
B6: FREE FLAP 3.15
B7: FREE SWING
B8: FREE UP

Sheet Лист2
F2: Тип | G2: Кол-во
B3: 350 | C3: D | D3: 5.2 | E3: 8.1 | F3: 2 | G3: 1
B4: 350 | C4: D | D4: =E3 -> 8.1 | E4: 11 | F4: 3 | G4: 1
B5: 350 | C5: E | D5: 6.7 | E5: 11.8 | F5: 3 | G5: 1
B6: 350 | C6: E | D6: =E5 -> 11.8 | E6: 14.3 | F6: 2 | G6: 2
B7: 350 | C7: F | D7: 10.1 | E7: 17.9 | F7: 2 | G7: 2
B8: 350 | C8: F | D8: =E7 -> 17.9 | E8: 21.4 | F8: 3 | G8: 2
B9: 350 | C9: G | D9: 13.5 | E9: 18.1 | F9: 2 | G9: 2
B10: 350 | C10: G | D10: =E9 -> 18.1 | E10: 27.3 | F10: 3 | G10: 2
B11: 400 | C11: D | D11: 4.7 | E11: 9 | F11: 2 | G11: 1
B12: 400 | C12: D | D12: 9 | E12: 9.6 | F12: 3 | G12: 1
B13: 400 | C13: E | D13: 5.9 | E13: 7.9 | F13: 2 | G13: 1
B14: 400 | C14: E | D14: 7.9 | E14: 11.6 | F14: 3 | G14: 1
B15: 400 | C15: E | D15: =E14 -> 11.6 | E15: 12.4 | F15: 2 | G15: 2
B16: 400 | C16: F | D16: 8.9 | E16: 10.7 | F16: 3 | G16: 1
B17: 400 | C17: F | D17: =E16 -> 10.7 | E17: 17.2 | F17: 2 | G17: 2
B18: 400 | C18: F | D18: =E17 -> 17.2 | E18: 18.6 | F18: 3 | G18: 2
B19: 400 | C19: G | D19: 11.8 | E19: 12.3 | F19: 3 | G19: 1
B20: 400 | C20: G | D20: =E19 -> 12.3 | E20: 17.9 | F20: 2 | G20: 2
B21: 400 | C21: G | D21: =E20 -> 17.9 | E21: 23.3 | F21: 3 | G21: 2
B22: 450 | C22: D | D22: 4.1 | E22: 5 | F22: 1 | G22: 1
B23: 450 | C23: D | D23: =E22 -> 5 | E23: 8.4 | F23: 2 | G23: 1
B24: 450 | C24: E | D24: 5.2 | E24: 7.9 | F24: 2 | G24: 1
B25: 450 | C25: E | D25: 7.9 | E25: 10.9 | F25: 3 | G25: 1
B26: 450 | C26: F | D26: 7.8 | E26: 10.2 | F26: 3 | G26: 1
B27: 450 | C27: F | D27: 10.2 | E27: 16.3 | F27: 2 | G27: 2
B28: 450 | C28: G | D28: 10.4 | E28: 10.8 | F28: 3 | G28: 1
B29: 450 | C29: G | D29: =E28 -> 10.8 | E29: 16.7 | F29: 2 | G29: 2
B30: 450 | C30: G | D30: 16.7 | E30: 20.5 | F30: 3 | G30: 2
B31: 500 | C31: D | D31: 3.7 | E31: 4.9 | F31: 1 | G31: 1
B32: 500 | C32: D | D32: =E31 -> 4.9 | E32: 7.5 | F32: 2 | G32: 1
B33: 500 | C33: E | D33: 4.7 | E33: 7.8 | F33: 2 | G33: 1
B34: 500 | C34: E | D34: 7.8 | E34: 9.7 | F34: 3 | G34: 1
B35: 500 | C35: F | D35: 7 | E35: 10 | F35: 3 | G35: 1
B36: 500 | C36: F | D36: =E35 -> 10 | E36: 14.6 | F36: 2 | G36: 2
B37: 500 | C37: G | D37: 9.2 | E37: 10.7 | F37: 3 | G37: 1
B38: 500 | C38: G | D38: =E37 -> 10.7 | E38: 16 | F38: 2 | G38: 2
B39: 500 | C39: G | D39: 16 | E39: 18.3 | F39: 3 | G39: 2
B40: 550 | C40: D | D40: 3.3 | E40: 4.9 | F40: 1 | G40: 1
B41: 550 | C41: D | D41: =E40 -> 4.9 | E41: 6.8 | F41: 2 | G41: 1
...

Sheet PUSH
G2: FREE FLAP 1.7 | H2: вес | I2: =FFP17Вес -> 4.4776 | J2: Модель | K2: =FreeFlap!E20 -> 372.91.175 | L2: высота | M2: =FFP17Высота -> 400 | N2: Тип толкателя | O2: =FreeFlap!K15 -> Врезной
E3: 1 | F3: 2 | G3: Модель | H3: от | I3: до | J3: Тип толк-ля | K3: Кол-во | L3: от | M3: до | N3: Врезной | O3: Накладной
A4: =IF(AND($M$2>L4,$M$2<=M4),IF(AND($I$2>=H4,$I$2<I4),IF(E4=$K$2,J4,"-"),"-"),"-") -> - | B4: =IF(A4<>"-",ABS((FFP17Вес-H4)/(I4-H4)*2-1),"-") -> - | D4: 1 | E4: 372.91.171 | F4: 372.91.172 | G4: A | H4: 1.7 | I4: 3.1 | J4: 1 | K4: 1 | L4: 0 | M4: 200 | N4: 372.91.480 | O4: 372.91.470
A5: =IF(AND($M$2>L5,$M$2<=M5),IF(AND($I$2>=H5,$I$2<I5),IF(E5=$K$2,J5,"-"),"-"),"-") -> - | B5: =IF(A5<>"-",ABS((FFP18Вес-H5)/(I5-H5)*2-1),"-") -> - | D5: 2 | E5: 372.91.171 | F5: 372.91.172 | G5: A | H5: 3.1 | I5: 4.6 | J5: 1 | K5: 1 | L5: 0 | M5: 200 | N5: 372.91.480 | O5: 372.91.470
A6: =IF(AND($M$2>L6,$M$2<=M6),IF(AND($I$2>=H6,$I$2<I6),IF(E6=$K$2,J6,"-"),"-"),"-") -> - | B6: =IF(A6<>"-",ABS((FFP19Вес-H6)/(I6-H6)*2-1),"-") -> - | D6: 3 | E6: 372.91.173 | F6: 372.91.174 | G6: B | H6: 3.6 | I6: 5.4 | J6: 2 | K6: 1 | L6: 0 | M6: 200 | N6: 372.91.481 | O6: 372.91.471
A7: =IF(AND($M$2>L7,$M$2<=M7),IF(AND($I$2>=H7,$I$2<I7),IF(E7=$K$2,J7,"-"),"-"),"-") -> - | B7: =IF(A7<>"-",ABS((FFP20Вес-H7)/(I7-H7)*2-1),"-") -> - | D7: 4 | E7: 372.91.173 | F7: 372.91.174 | G7: B | H7: 5.4 | I7: 7.9 | J7: 3 | K7: 1 | L7: 0 | M7: 200 | N7: 372.91.482 | O7: 372.91.472
A8: =IF(AND($M$2>L8,$M$2<=M8),IF(AND($I$2>=H8,$I$2<I8),IF(E8=$K$2,J8,"-"),"-"),"-") -> - | B8: =IF(A8<>"-",ABS((FFP21Вес-H8)/(I8-H8)*2-1),"-") -> - | D8: 5 | E8: 372.91.175 | F8: 372.91.176 | G8: C | H8: 6.8 | I8: 8.3 | J8: 3 | K8: 1 | L8: 0 | M8: 200 | N8: 372.91.482 | O8: 372.91.472
A9: =IF(AND($M$2>L9,$M$2<=M9),IF(AND($I$2>=H9,$I$2<I9),IF(E9=$K$2,J9,"-"),"-"),"-") -> - | B9: =IF(A9<>"-",ABS((FFP22Вес-H9)/(I9-H9)*2-1),"-") -> - | D9: 6 | E9: 372.91.175 | F9: 372.91.176 | G9: C | H9: 8.3 | I9: 12.3 | J9: 2 | K9: 2 | L9: 0 | M9: 200 | N9: 372.91.481 | O9: 372.91.471
A10: =IF(AND($M$2>L10,$M$2<=M10),IF(AND($I$2>=H10,$I$2<I10),IF(E10=$K$2,J10,"-"),"-"),"-") -> - | B10: =IF(A10<>"-",ABS((FFP23Вес-H10)/(I10-H10)*2-1),"-") -> - | D10: 7 | E10: 372.91.175 | F10: 372.91.176 | G10: C | H10: 12.3 | I10: 14.7 | J10: 3 | K10: 2 | L10: 0 | M10: 200 | N10: 372.91.482 | O10: 372.91.472
A11: =IF(AND($M$2>L11,$M$2<=M11),IF(AND($I$2>=H11,$I$2<I11),IF(E11=$K$2,J11,"-"),"-"),"-") -> - | B11: =IF(A11<>"-",ABS((FFP24Вес-H11)/(I11-H11)*2-1),"-") -> - | D11: 8 | E11: 372.91.171 | F11: 372.91.172 | G11: A | H11: 1.5 | I11: 2.9 | J11: 1 | K11: 1 | L11: =M4 -> 200 | M11: 225 | N11: 372.91.480 | O11: 372.91.470
A12: =IF(AND($M$2>L12,$M$2<=M12),IF(AND($I$2>=H12,$I$2<I12),IF(E12=$K$2,J12,"-"),"-"),"-") -> - | B12: =IF(A12<>"-",ABS((FFP25Вес-H12)/(I12-H12)*2-1),"-") -> - | D12: 9 | E12: 372.91.171 | F12: 372.91.172 | G12: A | H12: 2.9 | I12: 4.1 | J12: 2 | K12: 1 | L12: =M5 -> 200 | M12: 225 | N12: 372.91.481 | O12: 372.91.471
A13: =IF(AND($M$2>L13,$M$2<=M13),IF(AND($I$2>=H13,$I$2<I13),IF(E13=$K$2,J13,"-"),"-"),"-") -> - | B13: =IF(A13<>"-",ABS((FFP26Вес-H13)/(I13-H13)*2-1),"-") -> - | D13: 10 | E13: 372.91.173 | F13: 372.91.174 | G13: B | H13: 3.1 | I13: 4.7 | J13: 2 | K13: 1 | L13: =M6 -> 200 | M13: 225 | N13: 372.91.481 | O13: 372.91.471
A14: =IF(AND($M$2>L14,$M$2<=M14),IF(AND($I$2>=H14,$I$2<I14),IF(E14=$K$2,J14,"-"),"-"),"-") -> - | B14: =IF(A14<>"-",ABS((FFP27Вес-H14)/(I14-H14)*2-1),"-") -> - | D14: 11 | E14: 372.91.173 | F14: 372.91.174 | G14: B | H14: 4.7 | I14: 7.1 | J14: 3 | K14: 1 | L14: =M7 -> 200 | M14: 225 | N14: 372.91.482 | O14: 372.91.472
A15: =IF(AND($M$2>L15,$M$2<=M15),IF(AND($I$2>=H15,$I$2<I15),IF(E15=$K$2,J15,"-"),"-"),"-") -> - | B15: =IF(A15<>"-",ABS((FFP28Вес-H15)/(I15-H15)*2-1),"-") -> - | D15: 12 | E15: 372.91.175 | F15: 372.91.176 | G15: C | H15: 6 | I15: 7.1 | J15: 3 | K15: 1 | L15: =M8 -> 200 | M15: 225 | N15: 372.91.482 | O15: 372.91.472
A16: =IF(AND($M$2>L16,$M$2<=M16),IF(AND($I$2>=H16,$I$2<I16),IF(E16=$K$2,J16,"-"),"-"),"-") -> - | B16: =IF(A16<>"-",ABS((FFP29Вес-H16)/(I16-H16)*2-1),"-") -> - | D16: 13 | E16: 372.91.175 | F16: 372.91.176 | G16: C | H16: 7.1 | I16: 11.6 | J16: 2 | K16: 2 | L16: =M9 -> 200 | M16: 225 | N16: 372.91.481 | O16: 372.91.471
A17: =IF(AND($M$2>L17,$M$2<=M17),IF(AND($I$2>=H17,$I$2<I17),IF(E17=$K$2,J17,"-"),"-"),"-") -> - | B17: =IF(A17<>"-",ABS((FFP30Вес-H17)/(I17-H17)*2-1),"-") -> - | D17: 14 | E17: 372.91.175 | F17: 372.91.176 | G17: C | H17: 11.6 | I17: 13.1 | J17: 3 | K17: 2 | L17: =M10 -> 200 | M17: 225 | N17: 372.91.482 | O17: 372.91.472
A18: =IF(AND($M$2>L18,$M$2<=M18),IF(AND($I$2>=H18,$I$2<I18),IF(E18=$K$2,J18,"-"),"-"),"-") -> - | B18: =IF(A18<>"-",ABS((FFP31Вес-H18)/(I18-H18)*2-1),"-") -> - | D18: 15 | E18: 372.91.171 | F18: 372.91.172 | G18: A | H18: 1.3 | I18: 3.1 | J18: 1 | K18: 1 | L18: =M11 -> 225 | M18: =M11+25 -> 250 | N18: 372.91.480 | O18: 372.91.470
A19: =IF(AND($M$2>L19,$M$2<=M19),IF(AND($I$2>=H19,$I$2<I19),IF(E19=$K$2,J19,"-"),"-"),"-") -> - | B19: =IF(A19<>"-",ABS((FFP32Вес-H19)/(I19-H19)*2-1),"-") -> - | D19: 16 | E19: 372.91.171 | F19: 372.91.172 | G19: A | H19: 3.1 | I19: 3.8 | J19: 2 | K19: 1 | L19: =M12 -> 225 | M19: =M12+25 -> 250 | N19: 372.91.481 | O19: 372.91.471
A20: =IF(AND($M$2>L20,$M$2<=M20),IF(AND($I$2>=H20,$I$2<I20),IF(E20=$K$2,J20,"-"),"-"),"-") -> - | B20: =IF(A20<>"-",ABS((FFP33Вес-H20)/(I20-H20)*2-1),"-") -> - | D20: 17 | E20: 372.91.173 | F20: 372.91.174 | G20: B | H20: 2.9 | I20: 5.1 | J20: 2 | K20: 1 | L20: =M13 -> 225 | M20: =M13+25 -> 250 | N20: 372.91.481 | O20: 372.91.471
A21: =IF(AND($M$2>L21,$M$2<=M21),IF(AND($I$2>=H21,$I$2<I21),IF(E21=$K$2,J21,"-"),"-"),"-") -> - | B21: =IF(A21<>"-",ABS((FFP34Вес-H21)/(I21-H21)*2-1),"-") -> - | D21: 18 | E21: 372.91.173 | F21: 372.91.174 | G21: B | H21: 5.1 | I21: 6.4 | J21: 3 | K21: 1 | L21: =M14 -> 225 | M21: =M14+25 -> 250 | N21: 372.91.482 | O21: 372.91.472
A22: =IF(AND($M$2>L22,$M$2<=M22),IF(AND($I$2>=H22,$I$2<I22),IF(E22=$K$2,J22,"-"),"-"),"-") -> - | B22: =IF(A22<>"-",ABS((FFP35Вес-H22)/(I22-H22)*2-1),"-") -> - | D22: 19 | E22: 372.91.175 | F22: 372.91.176 | G22: C | H22: 5.4 | I22: 6.9 | J22: 3 | K22: 1 | L22: =M15 -> 225 | M22: =M15+25 -> 250 | N22: 372.91.482 | O22: 372.91.472
A23: =IF(AND($M$2>L23,$M$2<=M23),IF(AND($I$2>=H23,$I$2<I23),IF(E23=$K$2,J23,"-"),"-"),"-") -> - | B23: =IF(A23<>"-",ABS((FFP36Вес-H23)/(I23-H23)*2-1),"-") -> - | D23: 20 | E23: 372.91.175 | F23: 372.91.176 | G23: C | H23: 6.9 | I23: 10.5 | J23: 2 | K23: 2 | L23: =M16 -> 225 | M23: =M16+25 -> 250 | N23: 372.91.481 | O23: 372.91.471
A24: =IF(AND($M$2>L24,$M$2<=M24),IF(AND($I$2>=H24,$I$2<I24),IF(E24=$K$2,J24,"-"),"-"),"-") -> - | B24: =IF(A24<>"-",ABS((FFP37Вес-H24)/(I24-H24)*2-1),"-") -> - | D24: 21 | E24: 372.91.175 | F24: 372.91.176 | G24: C | H24: 10.5 | I24: 11.8 | J24: 3 | K24: 2 | L24: =M17 -> 225 | M24: =M17+25 -> 250 | N24: 372.91.482 | O24: 372.91.472
A25: =IF(AND($M$2>L25,$M$2<=M25),IF(AND($I$2>=H25,$I$2<I25),IF(E25=$K$2,J25,"-"),"-"),"-") -> - | B25: =IF(A25<>"-",ABS((FFP38Вес-H25)/(I25-H25)*2-1),"-") -> - | D25: 22 | E25: 372.91.171 | F25: 372.91.172 | G25: A | H25: 1.2 | I25: 3 | J25: 1 | K25: 1 | L25: =M18 -> 250 | M25: =M18+25 -> 275 | N25: 372.91.480 | O25: 372.91.470
A26: =IF(AND($M$2>L26,$M$2<=M26),IF(AND($I$2>=H26,$I$2<I26),IF(E26=$K$2,J26,"-"),"-"),"-") -> - | B26: =IF(A26<>"-",ABS((FFP39Вес-H26)/(I26-H26)*2-1),"-") -> - | D26: 23 | E26: 372.91.171 | F26: 372.91.172 | G26: A | H26: 3 | I26: 3.3 | J26: 2 | K26: 1 | L26: =M19 -> 250 | M26: =M19+25 -> 275 | N26: 372.91.481 | O26: 372.91.471
A27: =IF(AND($M$2>L27,$M$2<=M27),IF(AND($I$2>=H27,$I$2<I27),IF(E27=$K$2,J27,"-"),"-"),"-") -> - | B27: =IF(A27<>"-",ABS((FFP40Вес-H27)/(I27-H27)*2-1),"-") -> - | D27: 24 | E27: 372.91.173 | F27: 372.91.174 | G27: B | H27: 2.5 | I27: 3.3 | J27: 1 | K27: 1 | L27: =M20 -> 250 | M27: =M20+25 -> 275 | N27: 372.91.480 | O27: 372.91.470
A28: =IF(AND($M$2>L28,$M$2<=M28),IF(AND($I$2>=H28,$I$2<I28),IF(E28=$K$2,J28,"-"),"-"),"-") -> - | B28: =IF(A28<>"-",ABS((FFP41Вес-H28)/(I28-H28)*2-1),"-") -> - | D28: 25 | E28: 372.91.173 | F28: 372.91.174 | G28: B | H28: 3.3 | I28: 5 | J28: 2 | K28: 1 | L28: =M21 -> 250 | M28: =M21+25 -> 275 | N28: 372.91.481 | O28: 372.91.471
A29: =IF(AND($M$2>L29,$M$2<=M29),IF(AND($I$2>=H29,$I$2<I29),IF(E29=$K$2,J29,"-"),"-"),"-") -> - | B29: =IF(A29<>"-",ABS((FFP42Вес-H29)/(I29-H29)*2-1),"-") -> - | D29: 26 | E29: 372.91.173 | F29: 372.91.174 | G29: B | H29: 5 | I29: 5.7 | J29: 3 | K29: 1 | L29: =M22 -> 250 | M29: =M22+25 -> 275 | N29: 372.91.482 | O29: 372.91.472
... A32: =IF(AND($M$2>L32,$M$2<=M32),IF(AND($I$2>=H32,$I$2<I32),IF(E32=$K$2,J32,"-"),"-"),"-") -> - | B32: =IF(A32<>"-",ABS((FFP45Вес-H32)/(I32-H32)*2-1),"-") -> - | D32: 29 | E32: 372.91.175 | F32: 372.91.176 | G32: C | H32: 10 | I32: 10.6 | J32: 3 | K32: 2 | L32: =M25 -> 275 | M32: =M25+25 -> 300 | N32: 372.91.482 | O32: 372.91.472
A33: =IF(AND($M$2>L33,$M$2<=M33),IF(AND($I$2>=H33,$I$2<I33),IF(E33=$K$2,J33,"-"),"-"),"-") -> - | B33: =IF(A33<>"-",ABS((FFP46Вес-H33)/(I33-H33)*2-1),"-") -> - | D33: 30 | E33: 372.91.171 | F33: 372.91.172 | G33: A | H33: 1.1 | I33: 2.7 | J33: 1 | K33: 1 | L33: =M25 -> 275 | M33: =M25+25 -> 300 | N33: 372.91.480 | O33: 372.91.470
A34: =IF(AND($M$2>L34,$M$2<=M34),IF(AND($I$2>=H34,$I$2<I34),IF(E34=$K$2,J34,"-"),"-"),"-") -> - | B34: =IF(A34<>"-",ABS((FFP47Вес-H34)/(I34-H34)*2-1),"-") -> - | D34: 31 | E34: 372.91.171 | F34: 372.91.172 | G34: A | H34: 2.7 | I34: 3.1 | J34: 1 | K34: 1 | L34: =M26 -> 275 | M34: =M26+25 -> 300 | N34: 372.91.480 | O34: 372.91.470
A35: =IF(AND($M$2>L35,$M$2<=M35),IF(AND($I$2>=H35,$I$2<I35),IF(E35=$K$2,J35,"-"),"-"),"-") -> - | B35: =IF(A35<>"-",ABS((FFP48Вес-H35)/(I35-H35)*2-1),"-") -> - | D35: 32 | E35: 372.91.173 | F35: 372.91.174 | G35: B | H35: 2.4 | I35: 3 | J35: 1 | K35: 1 | L35: =M27 -> 275 | M35: =M27+25 -> 300 | N35: 372.91.480 | O35: 372.91.470
A36: =IF(AND($M$2>L36,$M$2<=M36),IF(AND($I$2>=H36,$I$2<I36),IF(E36=$K$2,J36,"-"),"-"),"-") -> - | B36: =IF(A36<>"-",ABS((FFP17Вес-H36)/(I36-H36)*2-1),"-") -> - | D36: 33 | E36: 372.91.173 | F36: 372.91.174 | G36: B | H36: 3 | I36: 4.6 | J36: 2 | K36: 1 | L36: =M28 -> 275 | M36: =M28+25 -> 300 | N36: 372.91.481 | O36: 372.91.471
A37: =IF(AND($M$2>L37,$M$2<=M37),IF(AND($I$2>=H37,$I$2<I37),IF(E37=$K$2,J37,"-"),"-"),"-") -> - | B37: =IF(A37<>"-",ABS((FFP18Вес-H37)/(I37-H37)*2-1),"-") -> - | D37: 34 | E37: 372.91.173 | F37: 372.91.174 | G37: B | H37: 4.6 | I37: 5.1 | J37: 3 | K37: 1 | L37: =M29 -> 275 | M37: =M29+25 -> 300 | N37: 372.91.482 | O37: 372.91.472
A38: =IF(AND($M$2>L38,$M$2<=M38),IF(AND($I$2>=H38,$I$2<I38),IF(E38=$K$2,J38,"-"),"-"),"-") -> - | B38: =IF(A38<>"-",ABS((FFP19Вес-H38)/(I38-H38)*2-1),"-") -> - | D38: 35 | E38: 372.91.175 | F38: 372.91.176 | G38: C | H38: 4.4 | I38: 6.6 | J38: 3 | K38: 1 | L38: =M30 -> 275 | M38: =M30+25 -> 300 | N38: 372.91.482 | O38: 372.91.472
A39: =IF(AND($M$2>L39,$M$2<=M39),IF(AND($I$2>=H39,$I$2<I39),IF(E39=$K$2,J39,"-"),"-"),"-") -> - | B39: =IF(A39<>"-",ABS((FFP20Вес-H39)/(I39-H39)*2-1),"-") -> - | D39: 36 | E39: 372.91.175 | F39: 372.91.176 | G39: C | H39: 6.6 | I39: 9.6 | J39: 2 | K39: 2 | L39: =M31 -> 275 | M39: =M31+25 -> 300 | N39: 372.91.481 | O39: 372.91.471
A40: =IF(AND($M$2>L40,$M$2<=M40),IF(AND($I$2>=H40,$I$2<I40),IF(E40=$K$2,J40,"-"),"-"),"-") -> - | B40: =IF(A40<>"-",ABS((FFP21Вес-H40)/(I40-H40)*2-1),"-") -> - | D40: 37 | E40: 372.91.171 | F40: 372.91.172 | G40: A | H40: 1 | I40: 2.6 | J40: 1 | K40: 1 | L40: =M33 -> 300 | M40: =M33+25 -> 325 | N40: 372.91.480 | O40: 372.91.470
A41: =IF(AND($M$2>L41,$M$2<=M41),IF(AND($I$2>=H41,$I$2<I41),IF(E41=$K$2,J41,"-"),"-"),"-") -> - | B41: =IF(A41<>"-",ABS((FFP22Вес-H41)/(I41-H41)*2-1),"-") -> - | D41: 38 | E41: 372.91.171 | F41: 372.91.172 | G41: A | H41: 2.6 | I41: 2.8 | J41: 2 | K41: 1 | L41: =M34 -> 300 | M41: =M34+25 -> 325 | N41: 372.91.481 | O41: 372.91.471
A42: =IF(AND($M$2>L42,$M$2<=M42),IF(AND($I$2>=H42,$I$2<I42),IF(E42=$K$2,J42,"-"),"-"),"-") -> - | B42: =IF(A42<>"-",ABS((FFP23Вес-H42)/(I42-H42)*2-1),"-") -> - | D42: 39 | E42: 372.91.173 | F42: 372.91.174 | G42: B | H42: 2.1 | I42: 3 | J42: 1 | K42: 1 | L42: =M35 -> 300 | M42: =M35+25 -> 325 | N42: 372.91.480 | O42: 372.91.470
A43: =IF(AND($M$2>L43,$M$2<=M43),IF(AND($I$2>=H43,$I$2<I43),IF(E43=$K$2,J43,"-"),"-"),"-") -> - | B43: =IF(A43<>"-",ABS((FFP24Вес-H43)/(I43-H43)*2-1),"-") -> - | D43: 40 | E43: 372.91.173 | F43: 372.91.174 | G43: B | H43: 3 | I43: 4.2 | J43: 1 | K43: 1 | L43: =M36 -> 300 | M43: =M36+25 -> 325 | N43: 372.91.480 | O43: 372.91.470
...

Sheet Free-Серия
A3: 1 | C3: Материал фасада | G3: МДФ | H3: Ширина | I3: 600 | K3: Толщина | M3: 16
C5: =IF(Корректор>=1,"ОБРАТИТЕСЬ К ПОСТАВЩИКУ ЗА ОБНОВЛЕНИЕМ!","") | H5: Высота | I5: 800 | K5: Вес фасада | M5: =ВесФасадаРасчет -> 5.9368
C7: =$C$5 | G7: Цвет заглушек корпуса | M7: Белый
C9: =$C$5 | G9: Комплект петель крепления к корпусу с углом открывания 120' | M9: -
C11: =$C$5 | G11: Ограничитель угла открывания FREE FOLD на 90' | M11: -
C13: =$C$5 | G13: Адаптер для креплений к фасадам с алюминиевой рамкой 20 мм | M13: -
C15: Складной подъемный механизм | G15: FREE FOLD
L16: комментарий: требуются петли крепления к корпусу угол открывания 120'
C17: =IFERROR(SMALL(FFDKey,1),0) -> 7 | D17: № | E17: 1 | F17: Артикул | G17: Номенклатура | J17: Кол-во | K17: Ед. | L17: Цена (шт) | N17: Стоимость
C18: =MATCH(E18,ИндексСправ,0) -> 41 | D18: 1 | E18: =INDEX(FFD_Арт,FFDIndex,1+Корректор) -> 372.37.459 | F18: =IF(E18<>0,E18,"") -> 372.37.459 | G18: =IF(F18<>"",INDEX(СправАссорт,фСправТовар,4),"") -> Подъемный механизм FREE FOLD - H4f0; правый | J18: =IF(F18<>"",1,"") -> 1 | K18: =IF($F18<>"",Таб_Вес!$AC$35,"") -> шт | L18: =IF(AND(J18<>"",M18=""),INDEX(СправАссорт,C18,7),"") -> 0 | N18: =IF(J18<>"",J18*LARGE(L18:M18,1),"") -> 0
C19: =MATCH(E19,ИндексСправ,0) -> 54 | D19: 2 | E19: =INDEX(FFD_Арт,FFDIndex,2+Корректор) -> 372.37.460 | F19: =IF(E19<>0,E19,"") -> 372.37.460 | G19: =IF(F19<>"",INDEX(СправАссорт,фСправТовар,4),"") -> Подъемный механизм FREE FOLD - H4f0; левый | J19: =IF(F19<>"",1,"") -> 1 | K19: =IF($F19<>"",Таб_Вес!$AC$35,"") -> шт | L19: =IF(AND(J19<>"",M19=""),INDEX(СправАссорт,C19,7),"") -> 0 | N19: =IF(J19<>"",J19*LARGE(L19:M19,1),"") -> 0
C20: =MATCH(E20,ИндексСправ,0) -> 7 | D20: 3 | E20: =VLOOKUP(FFDЦвет,Справ!$E$40:$G$41,2+Корректор,0) -> 372.37.026 | F20: =IF(E20<>0,E20,"") -> 372.37.026 | G20: =IF(F20<>"",INDEX(СправАссорт,фСправТовар,4),"") -> Заглушка FREE FOLD белая | J20: =IF(F20<>"",1,"") -> 1 | K20: =IF($F20<>"",Таб_Вес!$AC$35,"") -> шт | L20: =IF(AND(J20<>"",M20=""),INDEX(СправАссорт,C20,7),"") -> 0 | N20: =IF(J20<>"",J20*LARGE(L20:M20,1),"") -> 0
C21: =MATCH(E21,ИндексСправ,0) -> 8 | D21: 4 | E21: =INDEX(Карта!$B$2:$S$22,ROW()-ROW($D$17),INDIRECT(ADDRESS(ROW($D$17),COLUMN()),1)*2-1+Корректор) -> 372.37.040 | F21: =IF(AND(E21<>0,E19<>0),E21,"") -> 372.37.040 | G21: =IF(F21<>"",INDEX(СправАссорт,фСправТовар,4),"") -> Крепления к фасаду FREE FOLD | J21: =IF(F21<>"",2,"") -> 2 | K21: =IF($F21<>"",Таб_Вес!$AC$35,"") -> шт | L21: =IF(AND(J21<>"",M21=""),INDEX(СправАссорт,C21,7),"") -> 0 | N21: =IF(J21<>"",J21*LARGE(L21:M21,1),"") -> 0
C22: =MATCH(E22,ИндексСправ,0) -> 10 | D22: 5 | E22: =INDEX(Карта!$B$2:$S$22,ROW()-ROW($D$17),INDIRECT(ADDRESS(ROW($D$17),COLUMN()),1)*2-1+Корректор) -> 372.64.796 | F22: =IF(E22<>0,E22,"") -> 372.64.796 | G22: =IF(F22<>"",INDEX(СправАссорт,фСправТовар,4),"") -> Средняя петля для двух секционных складных фасадов (с защитой от защемл. пальцев) | J22: =IF(F22<>"",2,"") -> 2 | K22: =IF($F22<>"",Таб_Вес!$AC$35,"") -> шт | L22: =IF(AND(J22<>"",M22=""),INDEX(СправАссорт,C22,7),"") -> 0 | N22: =IF(J22<>"",J22*LARGE(L22:M22,1),"") -> 0
C23: =MATCH(E23,ИндексСправ,0) -> 138 | D23: =IF(F23<>"",LARGE(D18:D22,1)+1,"") | E23: =INDEX(Карта!$B$2:$S$22,ROW()-ROW($D$17),INDIRECT(ADDRESS(ROW($D$17),COLUMN()),1)*2-1+Корректор) -> 329.03.640 | F23: =IF($M$9=Таб_Вес!$AC$25,E23,"") | G23: =IF(F23<>"",INDEX(СправАссорт,фСправТовар,4),"") | J23: =IF(F23<>"",2,"") | K23: =IF($F23<>"",Таб_Вес!$AC$35,"") | L23: =IF(AND(J23<>"",M23=""),INDEX(СправАссорт,C23,7),"") | N23: =IF(J23<>"",J23*LARGE(L23:M23,1),"")
C24: =MATCH(E24,ИндексСправ,0) -> 139 | D24: =IF(F24<>"",LARGE(D18:D23,1)+1,"") | E24: =INDEX(Карта!$B$2:$S$22,ROW()-ROW($D$17),INDIRECT(ADDRESS(ROW($D$17),COLUMN()),1)*2-1+Корректор) -> 329.73.503 | F24: =IF($M$9=Таб_Вес!$AC$25,E24,"") | G24: =IF(F24<>"",INDEX(СправАссорт,фСправТовар,4),"") | J24: =IF(F24<>"",2,"") | K24: =IF($F24<>"",Таб_Вес!$AC$35,"") | L24: =IF(AND(J24<>"",M24=""),INDEX(СправАссорт,C24,7),"") | N24: =IF(J24<>"",J24*LARGE(L24:M24,1),"")
C25: =MATCH(E25,ИндексСправ,0) -> 6 | D25: =IF(F25<>"",LARGE(D18:D24,1)+1,"") | E25: =INDEX(Карта!$B$2:$S$22,ROW()-ROW($D$17),INDIRECT(ADDRESS(ROW($D$17),COLUMN()),1)*2-1+Корректор) -> 372.37.060 | F25: =IF(M11=Таб_Вес!$AC$25,E25,"") | G25: =IF(F25<>"",INDEX(СправАссорт,фСправТовар,4),"") | J25: =IF(F25<>"",1,"") | K25: =IF($F25<>"",Таб_Вес!$AC$35,"") | L25: =IF(AND(J25<>"",M25=""),INDEX(СправАссорт,C25,7),"") | N25: =IF(J25<>"",J25*LARGE(L25:M25,1),"")
C26: =MATCH(E26,ИндексСправ,0) -> 9 | D26: =IF(F26<>"",LARGE(D18:D25,1)+1,"") | E26: =INDEX(Карта!$B$2:$S$22,ROW()-ROW($D$17),INDIRECT(ADDRESS(ROW($D$17),COLUMN()),1)*2-1+Корректор) -> 372.37.044 | F26: =IF(M13=Таб_Вес!$AC$25,E26,"") | G26: =IF(F26<>"",INDEX(СправАссорт,фСправТовар,4),"") | J26: =IF(F26<>"",1,"") | K26: =IF($F26<>"",Таб_Вес!$AC$35,"") | L26: =IF(AND(J26<>"",M26=""),INDEX(СправАссорт,C26,7),"") | N26: =IF(J26<>"",J26*LARGE(L26:M26,1),"")
C27: высота фасада 480-1040 мм | L27: Итого: | N27: =SUM(N18:N26) -> 0
A31: 4 | C31: Материал фасада | G31: МДФ | H31: Ширина | I31: 600 | K31: Толщина | M31: 19
C33: =$C$5 | H33: Высота | I33: 720 | K33: Вес фасада | M33: =ВесФасадаРасчет -> 6.33808
C35: =$C$5 | G35: Цвет заглушек корпуса | M35: Серый
C37: =$C$5 | G37: Адаптер для креплений к фасадам с алюминиевой рамкой 20 мм | M37: -
C39: Поворотный подъемный механизм | G39: FREE SWING
L40: комментарий: петли не требуются
C41: =IFERROR(MATCH(SMALL(FSВесKey,1),FSВесKey,0),0) -> 32 | D41: № | E41: 4 | F41: Артикул | G41: Номенклатура | J41: Кол-во | K41: Ед. | L41: Цена (шт) | N41: Стоимость
C42: =MATCH(E42,ИндексСправ,0) -> 81 | D42: 1 | E42: =INDEX(FS_Арт,FSIndex,1+Корректор) -> 372.34.422 | F42: =E42 -> 372.34.422 | G42: =IF(F42<>"",INDEX(СправАссорт,фСправТовар,4),"") -> Подъемный механизм FREE SWING - S6sw; правый | J42: =IF(F42<>"",1,"") -> 1 | K42: =IF($F42<>"",Таб_Вес!$AC$35,"") -> шт | L42: =IF(AND(J42<>"",M42=""),INDEX(СправАссорт,C42,7),"") -> 0 | N42: =IF(J42<>"",J42*LARGE(L42:M42,1),"") -> 0
C43: =MATCH(E43,ИндексСправ,0) -> 86 | D43: 2 | E43: =INDEX(FS_Арт,FSIndex,2+Корректор) -> 372.34.423 | F43: =E43 -> 372.34.423 | G43: =IF(F43<>"",INDEX(СправАссорт,фСправТовар,4),"") -> Подъемный механизм FREE SWING - S6sw; левый | J43: =IF(F43<>"",1,"") -> 1 | K43: =IF($F43<>"",Таб_Вес!$AC$35,"") -> шт | L43: =IF(AND(J43<>"",M43=""),INDEX(СправАссорт,C43,7),"") -> 0 | N43: =IF(J43<>"",J43*LARGE(L43:M43,1),"") -> 0
C44: =MATCH(E44,ИндексСправ,0) -> 116 | D44: 3 | E44: =VLOOKUP(FSЦвет,Справ!$E$28:$G$29,2,0+Корректор) -> 372.34.670 | F44: =E44 -> 372.34.670 | G44: =IF(F44<>"",INDEX(СправАссорт,фСправТовар,4),"") -> Заглушки FREE SWING серые | J44: =IF(F44<>"",1,"") -> 1 | K44: =IF($F44<>"",Таб_Вес!$AC$35,"") -> шт | L44: =IF(AND(J44<>"",M44=""),INDEX(СправАссорт,C44,7),"") -> 0 | N44: =IF(J44<>"",J44*LARGE(L44:M44,1),"") -> 0
C45: =MATCH(E45,ИндексСправ,0) -> 12 | D45: 4 | E45: =INDEX(Карта!$B$2:$S$22,ROW()-ROW($D$41),INDIRECT(ADDRESS(ROW($D$41),COLUMN()),1)*2-1+Корректор) -> 372.91.141 | F45: =E45 -> 372.91.141 | G45: =IF(F45<>"",INDEX(СправАссорт,фСправТовар,4),"") -> Крепления FREE Flap / Swing / Up | J45: =IF(F45<>"",2,"") -> 2 | K45: =IF($F45<>"",Таб_Вес!$AC$35,"") -> шт | L45: =IF(AND(J45<>"",M45=""),INDEX(СправАссорт,C45,7),"") -> 0 | N45: =IF(J45<>"",J45*LARGE(L45:M45,1),"") -> 0
C46: =MATCH(E46,ИндексСправ,0) -> 16 | D46: 5 | E46: =INDEX(Карта!$B$2:$S$22,ROW()-ROW($D$41),INDIRECT(ADDRESS(ROW($D$41),COLUMN()),1)*2-1+Корректор) -> 372.33.696 | F46: =E46 -> 372.33.696 | G46: =IF(F46<>"",INDEX(СправАссорт,фСправТовар,4),"") -> Синхронизирующая Штанга 1074 мм для шкафа 1200 мм | J46: =IF(F46<>"",1,"") -> 1 | K46: шт | L46: =IF(AND(J46<>"",M46=""),INDEX(СправАссорт,C46,7),"") -> 0 | N46: =IF(J46<>"",J46*LARGE(L46:M46,1),"") -> 0
C47: =MATCH(E47,ИндексСправ,0) -> 17 | D47: 6 | E47: =INDEX(Карта!$B$2:$S$22,ROW()-ROW($D$41),INDIRECT(ADDRESS(ROW($D$41),COLUMN()),1)*2-1+Корректор) -> 372.33.699 | F47: =E47 -> 372.33.699 | G47: =IF(F47<>"",INDEX(СправАссорт,фСправТовар,4),"") -> Адаптеры (фиксаторы) для штанги SWING / UP | J47: =IF(F47<>"",2,"") -> 2 | K47: шт | L47: =IF(AND(J47<>"",M47=""),INDEX(СправАссорт,C47,7),"") -> 0 | N47: =IF(J47<>"",J47*LARGE(L47:M47,1),"") -> 0
C48: =MATCH(E48,ИндексСправ,0) -> 14 | D48: =IF(F48<>"",LARGE(D42:D47,1)+1,"") | E48: =INDEX(Карта!$B$2:$S$22,ROW()-ROW($D$41),INDIRECT(ADDRESS(ROW($D$41),COLUMN()),1)*2-1+Корректор) -> 372.91.599 | F48: =IF(M37=Таб_Вес!$AC$25,E48,"") | G48: =IF(F48<>"",INDEX(СправАссорт,фСправТовар,4),"") | J48: =IF(F48<>"",1,"") | K48: =IF($F48<>"",Таб_Вес!$AC$35,"") | L48: =IF(AND(J48<>"",M48=""),INDEX(СправАссорт,C48,7),"") | N48: =IF(J48<>"",J48*LARGE(L48:M48,1),"")
C49: высота фасада 370-800 мм | L49: Итого: | N49: =SUM(N42:N48) -> 0
A53: 5 | C53: Материал фасада | G53: МДФ | H53: Ширина | I53: 900 | K53: Толщина | M53: 19
C55: =$C$5 | H55: Высота | I55: 550 | K55: Вес фасада | M55: =ВесФасадаРасчет -> 7.2478
C57: =$C$5 | G57: Цвет заглушек корпуса | M57: Серый
C59: =$C$5 | G59: Синхронизирующая штанга для корпуса | M59: 1200
C61: =$C$5 | G61: Адаптер для креплений к фасадам с алюминиевой рамкой 20 мм | M61: -
C63: Параллельный подъемный механизм | G63: FREE UP
...

Sheet FreeFlap
A3: 2 | C3: Материал фасада | G3: МДФ | H3: Ширина | I3: 800 | K3: Толщина | M3: 18
C5: ='Free-Серия'!$C$5 | H5: Высота | I5: 400 | K5: Вес фасада | M5: =ВесФасадаРасчетFF17 -> 4.4776
H7: Тип открытия/закрытия | K7: Плавное закрывание
C9: ='Free-Серия'!$C$5 | G9: Цвет заглушек корпуса | M9: Серый
C11: ='Free-Серия'!$C$5 | G11: Ограничитель угла открывния FREE FLAP на 90' | M11: -
C13: ='Free-Серия'!$C$5 | G13: Адаптер для креплений к фасадам с алюминиевой рамкой 20 мм | M13: -
M14: ---------------------------------------------------------------------------------------------------
H15: Толкатель для системы PUSH OPEN | K15: Врезной
C17: Откидной подъемный механизм | G17: FREE FLAP 1.7
L18: комментарий: петли не требуются
C19: =IFERROR(MATCH(SMALL(FFL17Key,1),FFL17Key,0),0) -> 18 | D19: № | E19: 2 | F19: Артикул | G19: Номенклатура | J19: Кол-во | K19: Ед. | L19: Цена (шт) | N19: Стоимость
C20: =MATCH(E20,ИндексСправ,0) -> 65 | D20: 1 | E20: =INDEX(FFL17_Арт,FFL17Index,1+Корректор) -> 372.91.175 | F20: =E20 -> 372.91.175 | G20: =IF(F20<>"",INDEX(СправАссорт,фСправТоварFFL,4),"") -> Подъемный механизм FREE FLAP 1.7 - Model C; правый | J20: =IF(F20<>"",1,"") -> 1 | K20: =IF($F20<>"",Таб_Вес!$AC$35,"") -> шт | L20: =IF(AND(J20<>"",M20=""),INDEX(СправАссорт,C20,7),"") -> 0 | N20: =IF(J20<>"",J20*LARGE(L20:M20,1),"") -> 0
C21: =MATCH(E21,ИндексСправ,0) -> 68 | D21: 2 | E21: =INDEX(FFL17_Арт,FFL17Index,2+Корректор) -> 372.91.176 | F21: =E21 -> 372.91.176 | G21: =IF(F21<>"",INDEX(СправАссорт,фСправТоварFFL,4),"") -> Подъемный механизм FREE FLAP 1.7 - Model C; левый | J21: =IF(F21<>"",1,"") -> 1 | K21: =IF($F21<>"",Таб_Вес!$AC$35,"") -> шт | L21: =IF(AND(J21<>"",M21=""),INDEX(СправАссорт,C21,7),"") -> 0 | N21: =IF(J21<>"",J21*LARGE(L21:M21,1),"") -> 0
C22: =MATCH(E22,ИндексСправ,0) -> 118 | D22: 3 | E22: =VLOOKUP(FFL17Цвет,Справ!$E$36:$G$37,2,0+Корректор) -> 372.91.133 | F22: =E22 -> 372.91.133 | G22: =IF(F22<>"",INDEX(СправАссорт,фСправТоварFFL,4),"") -> Заглушка FREE flap 1.7 серая | J22: =IF(F22<>"",1,"") -> 1 | K22: =IF($F22<>"",Таб_Вес!$AC$35,"") -> шт | L22: =IF(AND(J22<>"",M22=""),INDEX(СправАссорт,C22,7),"") -> 0 | N22: =IF(J22<>"",J22*LARGE(L22:M22,1),"") -> 0
C23: =MATCH(E23,ИндексСправ,0) -> 12 | D23: 4 | E23: =INDEX(Карта!$B$2:$S$22,ROW()-ROW($D$19),INDIRECT(ADDRESS(ROW($D$19),COLUMN()),1)*2-1+Корректор) -> 372.91.141 | F23: =E23 -> 372.91.141 | G23: =IF(F23<>"",INDEX(СправАссорт,фСправТоварFFL,4),"") -> Крепления FREE Flap / Swing / Up | J23: =IF(F23<>"",2,"") -> 2 | K23: =IF($F23<>"",Таб_Вес!$AC$35,"") -> шт | L23: =IF(AND(J23<>"",M23=""),INDEX(СправАссорт,C23,7),"") -> 0 | N23: =IF(J23<>"",J23*LARGE(L23:M23,1),"") -> 0
C24: =MATCH(E24,ИндексСправ,0) -> 13 | D24: =IF(F24<>"",LARGE(D20:D23,1)+1,"") | E24: =INDEX(Карта!$B$2:$S$22,ROW()-ROW($D$19),INDIRECT(ADDRESS(ROW($D$19),COLUMN()),1)*2-1+Корректор) -> 372.91.499 | F24: =IF(M11=Таб_Вес!$AC$25,E24,"") | G24: =IF(F24<>"",INDEX(СправАссорт,фСправТоварFFL,4),"") | J24: =IF(F24<>"",1,"") | K24: =IF($F24<>"",Таб_Вес!$AC$35,"") | L24: =IF(AND(J24<>"",M24=""),INDEX(СправАссорт,C24,7),"") | N24: =IF(J24<>"",J24*LARGE(L24:M24,1),"")
C25: =MATCH(E25,ИндексСправ,0) -> 14 | D25: =IF(F25<>"",LARGE(D20:D24,1)+1,"") | E25: =INDEX(Карта!$B$2:$S$22,ROW()-ROW($D$19),INDIRECT(ADDRESS(ROW($D$19),COLUMN()),1)*2-1+Корректор) -> 372.91.599 | F25: =IF(M13=Таб_Вес!$AC$25,E25,"") | G25: =IF(F25<>"",INDEX(СправАссорт,фСправТоварFFL,4),"") | J25: =IF(F25<>"",1,"") | K25: =IF($F25<>"",Таб_Вес!$AC$35,"") | L25: =IF(AND(J25<>"",M25=""),INDEX(СправАссорт,C25,7),"") | N25: =IF(J25<>"",J25*LARGE(L25:M25,1),"")
A26: =IFERROR(MATCH(SMALL(FFL17_PUSH_Толкатель,1),FFL17_PUSH_Толкатель,0),0) -> 61 | C26: =MATCH(E26,ИндексСправ,0) -> 122 | D26: =IF(F26<>"",LARGE(D21:D25,1)+1,"") | E26: =INDEX(IF(K15=Справ!$I$24,ТАБ_Толкатель_Врезной,ТАБ_Толкатель_Накладной),A26,Корректор) -> 372.91.482 | F26: =IF(FLL17_PUSH=Справ!$I$22,E26,"") | G26: =IF(F26<>"",INDEX(СправАссорт,фСправТоварFFL,4),"") | J26: =IF(F26<>"",INDEX(ТАБ_FL17_Кол_во,A26,Корректор),"") | K26: =IF($F26<>"",Таб_Вес!$AC$35,"") | L26: =IF(AND(J26<>"",M26=""),INDEX(СправАссорт,C26,7),"") | N26: =IF(J26<>"",J26*LARGE(L26:M26,1),"")
C27: =MATCH(E27,ИндексСправ,0) -> 126 | D27: =IF(F27<>"",LARGE(D22:D26,1)+1,"") | E27: =INDEX(Карта!$B$2:$S$22,ROW()-ROW($D$19),INDIRECT(ADDRESS(ROW($D$19),COLUMN()),1)*2-1+Корректор) -> 372.91.479 | F27: =IF(AND(FLL17_Толкатель=Справ!$I$25,FLL17_PUSH=Справ!$I$22),E27,"") | G27: =IF(F27<>"",INDEX(СправАссорт,фСправТоварFFL,4),"") | J27: =IF(F27<>"",J26,"") | K27: =IF($F27<>"",Таб_Вес!$AC$35,"") | L27: =IF(AND(J27<>"",M27=""),INDEX(СправАссорт,C27,7),"") | N27: =IF(J27<>"",J27*LARGE(L27:M27,1),"")
C28: высота фасада 200-450 мм | L28: Итого: | N28: =SUM(N20:N25) -> 0
A32: 3 | C32: Материал фасада | G32: МДФ | H32: Ширина | I32: 900 | K32: Толщина | M32: 19
C34: ='Free-Серия'!$C$5 | H34: Высота | I34: 650 | K34: Вес фасада | M34: =ВесФасадаРасчетFF35 -> 8.5474
H36: Тип открытия/закрытия | K36: Плавное закрывание
C38: ='Free-Серия'!$C$5 | G38: Цвет заглушек корпуса | M38: Серый
C40: ='Free-Серия'!$C$5 | G40: Адаптер для креплений к фасадам с алюминиевой рамкой 20 мм | M40: -
M41: ---------------------------------------------------------------------------------------------------
H42: Толкатель для системы PUSH OPEN | K42: Врезной
C44: Откидной подъемный механизм | G44: FREE FLAP 3.15
L45: комментарий: петли не требуются
C46: =IFERROR(MATCH(SMALL(FFL315Key,1),FFL315Key,0),0) -> 21 | D46: № | E46: 3 | F46: Артикул | G46: Номенклатура | J46: Кол-во | K46: Ед. | L46: Цена (шт) | N46: Стоимость
C47: =MATCH(E47,ИндексСправ,0) -> 71 | D47: 1 | E47: =INDEX(FFL315_Арт,FFL315Index,1+Корректор) -> 372.91.245 | F47: =E47 -> 372.91.245 | G47: =IF(F47<>"",INDEX(СправАссорт,фСправТоварFFL,4),"") -> Подъемный механизм FREE FLAP 3.15 - Model F; правый | J47: =IF(F47<>"",1,"") -> 1 | K47: =IF($F47<>"",Таб_Вес!$AC$35,"") -> шт | L47: =IF(AND(J47<>"",M47=""),INDEX(СправАссорт,C47,7),"") -> 0 | N47: =IF(J47<>"",J47*LARGE(L47:M47,1),"") -> 0
C48: =MATCH(E48,ИндексСправ,0) -> 75 | D48: 2 | E48: =INDEX(FFL315_Арт,FFL315Index,2+Корректор) -> 372.91.246 | F48: =E48 -> 372.91.246 | G48: =IF(F48<>"",INDEX(СправАссорт,фСправТоварFFL,4),"") -> Подъемный механизм FREE FLAP 3.15 - Model F; левый | J48: =IF(F48<>"",1,"") -> 1 | K48: =IF($F48<>"",Таб_Вес!$AC$35,"") -> шт | L48: =IF(AND(J48<>"",M48=""),INDEX(СправАссорт,C48,7),"") -> 0 | N48: =IF(J48<>"",J48*LARGE(L48:M48,1),"") -> 0
C49: =MATCH(E49,ИндексСправ,0) -> 117 | D49: 3 | E49: =VLOOKUP(FFL315Цвет,Справ!$E$32:$G$33,2,0+Корректор) -> 372.91.234 | F49: =E49 -> 372.91.234 | G49: =IF(F49<>"",INDEX(СправАссорт,фСправТоварFFL,4),"") -> Заглушка FREE flap 3.15, серые | J49: =IF(F49<>"",1,"") -> 1 | K49: =IF($F49<>"",Таб_Вес!$AC$35,"") -> шт | L49: =IF(AND(J49<>"",M49=""),INDEX(СправАссорт,C49,7),"") -> 0 | N49: =IF(J49<>"",J49*LARGE(L49:M49,1),"") -> 0
C50: =MATCH(E50,ИндексСправ,0) -> 12 | D50: 4 | E50: =INDEX(Карта!$B$2:$S$22,ROW()-ROW($D$46),INDIRECT(ADDRESS(ROW($D$46),COLUMN()),1)*2-1+Корректор) -> 372.91.141 | F50: =E50 -> 372.91.141 | G50: =IF(F50<>"",INDEX(СправАссорт,фСправТоварFFL,4),"") -> Крепления FREE Flap / Swing / Up | J50: =IF(F50<>"",2,"") -> 2 | K50: =IF($F50<>"",Таб_Вес!$AC$35,"") -> шт | L50: =IF(AND(J50<>"",M50=""),INDEX(СправАссорт,C50,7),"") -> 0 | N50: =IF(J50<>"",J50*LARGE(L50:M50,1),"") -> 0
C51: =MATCH(E51,ИндексСправ,0) -> 14 | D51: =IF(F51<>"",LARGE(D47:D50,1)+1,"") | E51: =INDEX(Карта!$B$2:$S$22,ROW()-ROW($D$46),INDIRECT(ADDRESS(ROW($D$46),COLUMN()),1)*2-1+Корректор) -> 372.91.599 | F51: =IF(M40=Таб_Вес!$AC$25,E51,"") | G51: =IF(F51<>"",INDEX(СправАссорт,фСправТоварFFL,4),"") | J51: =IF(F51<>"",1,"") | K51: =IF($F51<>"",Таб_Вес!$AC$35,"") | L51: =IF(AND(J51<>"",M51=""),INDEX(СправАссорт,C51,7),"") | N51: =IF(J51<>"",J51*LARGE(L51:M51,1),"")
A52: =IFERROR(MATCH(SMALL(FFL315_PUSH_Толкатель,1),FFL315_PUSH_Толкатель,0),0) -> 64 | C52: =MATCH(E52,ИндексСправ,0) -> 121 | D52: =IF(F52<>"",LARGE(D48:D51,1)+1,"") | E52: =INDEX(IF(K42=Справ!$I$24,ТАБ_FL315_Толкатель_Врезной,ТАБ_FL315_Толкатель_Накладной),A52,Корректор) -> 372.91.481 | F52: =IF(FLL315_PUSH=Справ!$I$22,E52,"") | G52: =IF(F52<>"",INDEX(СправАссорт,фСправТоварFFL,4),"") | J52: =IF(F52<>"",INDEX(ТАБ_FL17_Кол_во,A52,Корректор),"") | K52: =IF($F52<>"",Таб_Вес!$AC$35,"") | L52: =IF(AND(J52<>"",M52=""),INDEX(СправАссорт,C52,7),"") | N52: =IF(J52<>"",J52*LARGE(L52:M52,1),"")
C53: =MATCH(E53,ИндексСправ,0) -> 126 | D53: =IF(F53<>"",LARGE(D49:D52,1)+1,"") | E53: =INDEX(Карта!$B$2:$S$22,ROW()-ROW($D$46),INDIRECT(ADDRESS(ROW($D$46),COLUMN()),1)*2-1+Корректор) -> 372.91.479 | F53: =IF(AND(FLL315_Толкатель=Справ!$I$25,FLL315_PUSH=Справ!$I$22),E53,"") | G53: =IF(F53<>"",INDEX(СправАссорт,фСправТоварFFL,4),"") | J53: =IF(F53<>"",J52,"") | K53: =IF($F53<>"",Таб_Вес!$AC$35,"") | L53: =IF(AND(J53<>"",M53=""),INDEX(СправАссорт,C53,7),"") | N53: =IF(J53<>"",J53*LARGE(L53:M53,1),"")
C54: высота фасада 450-650 мм | L54: Итого: | N54: =SUM(N47:N51) -> 0

Sheet FreeFlapH1.5
A3: 6 | C3: Материал фасада | G3: МДФ | H3: Ширина | I3: 600 | K3: Толщина | M3: 16
C5: ='Free-Серия'!$C$5 | H5: Высота | I5: 600 | K5: Вес фасада | M5: =ВесФасадаРасчетFFH15 -> 4.4776
C7: ='Free-Серия'!$C$5 | G7: Цвет подъемного механизма | M7: Белый
C9: ='Free-Серия'!$C$5 | G9: Угол открывания | M9: 110
C11: ='Free-Серия'!$C$5 | G11: Комплект петель крепления к корпусу с углом открывания 110' с доводчиком | M11: -
C13: ='Free-Серия'!$C$5 | G13: Комплект петель крепления к корпусу с углом откр. 110' без доводчика | M13: -
C15: ='Free-Серия'!$C$5 | G15: Амортизатор (доводчик) для привинчивания к чашке петли | M15: -
C17: ='Free-Серия'!$C$5 | G17: Регулировочный ключ SW10 | M17: -
H19: Тип открытия/закрытия | K19: Плавное закрывание
H21: Толкатель для системы PUSH OPEN | K21: Врезной
A23: =IFERROR(MATCH(SMALL(FFLH15_Итого_110,1),FFLH15_Итого_110,0),0) -> 24 | C23: Откидной подъемный механизм | G23: FREE FLAP H 1.5
A24: =IFERROR(MATCH(SMALL(FFLH15_Итого_90,1),FFLH15_Итого_90,0),0) -> 24 | E24: 2
A25: =IFERROR(MATCH(SMALL(FFLH15_Итого_75,1),FFLH15_Итого_75,0),0) -> 18 | D25: № | E25: 6 | F25: Артикул | G25: Номенклатура | J25: Кол-во | K25: Ед. | L25: Цена (шт) | N25: Стоимость
C26: =MATCH(E26,ИндексСправ,0) -> 104 | D26: 1 | E26: =IF(FFLH15Угол=INDEX(спрУгол,3,1+Корректор),IF(FFLH15Index110<>0,INDEX(FFLH15_Арт_110,FFLH15Index110,3-MATCH(FFLH15Цвет,ЦветМП,0)),"-"),IF(FFLH15Угол=INDEX(спрУгол,2,1),IF(FFLH15Index90<>0,INDEX(FFLH15_Арт_90,FFLH15Index90,3-MATCH(FFLH15Цвет,ЦветМП,0)),"-"),IF(FFLH15Угол=INDEX(спрУгол,1,1),IF(FFLH15Index75<>0,INDEX(FFLH15_Арт_75,FFLH15Index75,3-MATCH(FFLH15Цвет,ЦветМП,0)),"-"),"Иное"))) -> 372.39.430 | F26: =E26 -> 372.39.430 | G26: =IF(F26<>"",INDEX(СправАссорт,фСправТоварFFH15,4),"") -> Подъемный механизм FREE FLAP H 1.5 - Model D; белый | J26: =IF(FFLH15Угол=INDEX(спрУгол,3,1),IF(FFLH15Index110<>0,INDEX(FFLH15_Кол_во_110,FFLH15Index110,1),"-"),IF(FFLH15Угол=INDEX(спрУгол,2,1),IF(FFLH15Index90<>0,INDEX(FFLH15_Кол_во_90,FFLH15Index90,1),"-"),IF(FFLH15Угол=INDEX(спрУгол,1,1),IF(FFLH15Index75<>0,INDEX(FFLH15_Кол_во_75,FFLH15Index75,1),"-"),"Иное"))) -> 2 | K26: =IF($F26<>"",Таб_Вес!$AC$35,"") -> шт | L26: =IF(AND(J26<>"",M26=""),INDEX(СправАссорт,C26,7),"") -> 0 | N26: =IF(J26<>"",J26*LARGE(L26:M26,1),"") -> 0
C27: =MATCH(E27,ИндексСправ,0) -> 28 | D27: =IF(F27<>"",LARGE(D26:D26,1)+1,"") -> 2 | E27: =INDEX(Справ!$E$12:$G$13,MATCH(FFHL15Цвет,Справ!$E$12:$E$13,0),2+Корректор) -> 372.39.015 | F27: =E27 -> 372.39.015 | G27: =IF(F27<>"",INDEX(СправАссорт,фСправТоварFFH16,4),"") -> Крепление к фасаду, для Free flap H1.5, белое | J27: =IF(F27<>"",$J$26,"") -> 2 | K27: =IF($F27<>"",Таб_Вес!$AC$35,"") -> шт | L27: =IF(AND(J27<>"",M27=""),INDEX(СправАссорт,C27,7),"") -> 0 | N27: =IF(J27<>"",J27*LARGE(L27:M27,1),"") -> 0
C28: =MATCH(E28,ИндексСправ,0) -> 30 | D28: =IF(F28<>"",LARGE(D27:D27,1)+1,"") -> 3 | E28: =INDEX(Справ!$E$16:$G$17,MATCH(FFHL15Цвет,Справ!$E$16:$E$17,0),2+Корректор) -> 372.39.017 | F28: =E28 -> 372.39.017 | G28: =IF(F28<>"",INDEX(СправАссорт,фСправТоварFFH17,4),"") -> Крепление к корпусу, для Free flap H1.5, белое | J28: =IF(F28<>"",$J$26,"") -> 2 | K28: =IF($F28<>"",Таб_Вес!$AC$35,"") -> шт | L28: =IF(AND(J28<>"",M28=""),INDEX(СправАссорт,C28,7),"") -> 0 | N28: =IF(J28<>"",J28*LARGE(L28:M28,1),"") -> 0
C29: =MATCH(E29,ИндексСправ,0) -> 26 | D29: =IF(F29<>"",LARGE(D26:D28,1)+1,"") -> 4 | E29: =INDEX(Справ!$E$20:$G$21,MATCH(FFHL15Цвет,Справ!$E$16:$E$17,0),2+Корректор) -> 372.39.003 | F29: =E29 -> 372.39.003 | G29: =IF(F29<>"",INDEX(СправАссорт,фСправТоварFFH18,4),"") -> Заглушка HAFELE для Free flap H1.5, белая, левая | J29: =IF(F29<>"",1,"") -> 1 | K29: =IF($F29<>"",Таб_Вес!$AC$35,"") -> шт | L29: =IF(AND(J29<>"",M29=""),INDEX(СправАссорт,C29,7),"") -> 0 | N29: =IF(J29<>"",J29*LARGE(L29:M29,1),"") -> 0
C30: =MATCH(E30,ИндексСправ,0) -> 25 | D30: =IF(F30<>"",LARGE(D26:D29,1)+1,"") -> 5 | E30: =INDEX(Справ!$E$24:$G$25,MATCH(FFHL15Цвет,Справ!$E$16:$E$17,0),2+Корректор) -> 372.39.002 | F30: =IF($J$26=2,E30,"") -> 372.39.002 | G30: =IF(F30<>"",INDEX(СправАссорт,фСправТоварFFH19,4),"") -> Заглушка HAFELE для Free flap H1.5, белая, правая | J30: =IF(F30<>"",1,"") -> 1 | K30: =IF($F30<>"",Таб_Вес!$AC$35,"") -> шт | L30: =IF(AND(J30<>"",M30=""),INDEX(СправАссорт,C30,7),"") -> 0 | N30: =IF(J30<>"",J30*LARGE(L30:M30,1),"") -> 0
C31: =MATCH(E31,ИндексСправ,0) -> 142 | D31: =IF(F31<>"",LARGE(D26:D30,1)+1,"") | E31: =INDEX(Карта!$B$2:$S$22,ROW()-ROW($D$25),INDIRECT(ADDRESS(ROW($D$25),COLUMN()),1)*2-1+Корректор) -> 329.17.700 | F31: =IF($M$11=Таб_Вес!$AC$25,E31,"") | G31: =IF(F31<>"",INDEX(СправАссорт,фСправТоварFFH20,4),"") | J31: =IF(AND(F31<>"",$M$13="-"),2,"") | K31: =IF($J31<>"",Таб_Вес!$AC$35,"") | L31: =IF(AND(J31<>"",M31=""),INDEX(СправАссорт,C31,7),"") | N31: =IF(J31<>"",J31*LARGE(L31:M31,1),"")
C32: =MATCH(E32,ИндексСправ,0) -> 139 | D32: =IF(F32<>"",LARGE(D$26:D31,1)+1,"") | E32: =INDEX(Карта!$B$2:$S$22,ROW()-ROW($D$25),INDIRECT(ADDRESS(ROW($D$25),COLUMN()),1)*2-1+Корректор) -> 329.73.503 | F32: =IF($M$11=Таб_Вес!$AC$25,E32,"") | G32: =IF(F32<>"",INDEX(СправАссорт,фСправТоварFFH21,4),"") | J32: =IF(AND(F32<>"",$M$13="-"),2,"") | K32: =IF($J32<>"",Таб_Вес!$AC$35,"") | L32: =IF(AND(J32<>"",M32=""),INDEX(СправАссорт,C32,7),"") | N32: =IF(J32<>"",J32*LARGE(L32:M32,1),"")
C33: =MATCH(E33,ИндексСправ,0) -> 144 | D33: =IF(F33<>"",LARGE(D$26:D32,1)+1,"") | E33: =INDEX(Карта!$B$2:$S$22,ROW()-ROW($D$25),INDIRECT(ADDRESS(ROW($D$25),COLUMN()),1)*2-1+Корректор) -> 329.17.600 | F33: =IF($M$13=Таб_Вес!$AC$25,E33,"") | G33: =IF(F33<>"",INDEX(СправАссорт,фСправТоварFFH22,4),"") | J33: =IF(AND(F33<>"",$M$11="-"),2,"") | K33: =IF($J33<>"",Таб_Вес!$AC$35,"") | L33: =IF(AND(J33<>"",M33=""),INDEX(СправАссорт,C33,7),"") | N33: =IF(J33<>"",J33*LARGE(L33:M33,1),"")
C34: =MATCH(E34,ИндексСправ,0) -> 145 | D34: =IF(F34<>"",LARGE(D$26:D33,1)+1,"") | E34: =INDEX(Карта!$B$2:$S$22,ROW()-ROW($D$25),INDIRECT(ADDRESS(ROW($D$25),COLUMN()),1)*2-1+Корректор) -> 316.51.502 | F34: =IF($M$13=Таб_Вес!$AC$25,E34,"") | G34: =IF(F34<>"",INDEX(СправАссорт,фСправТоварFFH23,4),"") | J34: =IF(AND(F34<>"",$M$11="-"),2,"") | K34: =IF($J34<>"",Таб_Вес!$AC$35,"") | L34: =IF(AND(J34<>"",M34=""),INDEX(СправАссорт,C34,7),"") | N34: =IF(J34<>"",J34*LARGE(L34:M34,1),"")
C35: =MATCH(E35,ИндексСправ,0) -> 114 | D35: =IF(F35<>"",LARGE(D$26:D34,1)+1,"") | E35: =INDEX(Карта!$B$2:$S$22,ROW()-ROW($D$25),INDIRECT(ADDRESS(ROW($D$25),COLUMN()),1)*2-1+Корректор) -> 316.53.710 | F35: =IF($M$15=Таб_Вес!$AC$25,E35,"") | G35: =IF(F35<>"",INDEX(СправАссорт,фСправТоварFFH24,4),"") | J35: =IF(AND(F35<>"",$M$11="-"),1,"") | K35: =IF($J35<>"",Таб_Вес!$AC$35,"") | L35: =IF(AND(J35<>"",M35=""),INDEX(СправАссорт,C35,7),"") | N35: =IF(J35<>"",J35*LARGE(L35:M35,1),"")
C36: =MATCH(E36,ИндексСправ,0) -> 22 | D36: =IF(F36<>"",LARGE(D26:D35,1)+1,"") | E36: =INDEX(Карта!$B$2:$S$22,ROW()-ROW($D$25),INDIRECT(ADDRESS(ROW($D$25),COLUMN()),1)*2-1+Корректор) -> 235.79.301 | F36: =IF(M17=Таб_Вес!$AC$25,E36,"") | G36: =IF(F36<>"",INDEX(СправАссорт,фСправТоварFFH25,4),"") | J36: =IF(F36<>"",1,"") | K36: =IF($F36<>"",Таб_Вес!$AC$35,"") | L36: =IF(AND(J36<>"",M36=""),INDEX(СправАссорт,C36,7),"") | N36: =IF(J36<>"",J36*LARGE(L36:M36,1),"")
C37: высота фасада 350-600 мм | L37: Итого: | N37: =SUM(N26:N36) -> 0

Sheet Курс Евро
D3: =IF(J3=Цены!M16,INDEX(Цены!$M$1:$M$6,MATCH(SUMIF(Цены!$O$1:$O$6,">0",Цены!$O$1:$O$6),Цены!$O$1:$O$6,1),1),NOW()) -> 44720.527 | I3: Обновить через интернет | J3: =IF(AND(Цены!D1<>0,I3=Цены!$M$12),Цены!M16,Цены!M17) -> Обновление через интернет не осущественно
C4: Курс Евро | D4: =IF(КУРСЕ>0,КУРСЕ,IF($I$4>0,$I$4,0)) -> 70.3 | H4: Курс Евро | I4: 70.3 | J4: =IF(I3=Цены!M11,"<== Введите курс Евро самостоятельно","")
D5: =I3 -> Обновить через интернет
I10: Ценовой сегмент | J10: Средний

Sheet Настройки цен
C6: Розничная наценка | D6: 0.3
C8: Показывать в расчете | D8: розничные цены
C13: Вы можете установить два вида цен при расчете стоимости комплектов подъемных механизмов: закупочные цены (отпускные цены поставщика) или ваши розничные цены. Для установки розничных цен укажите наценку.

Sheet Ценообразование
B2: Страница для дилеров Hafele
B3: На этой странице вы можете установить оптовую ценовую политику.
C5: На ассортимент Hafele установлена | D5: - | E5: Индивидуальная наценка | F5: 0.2
B7: Подъемные МЕХАНИЗМЫ | E7: Аксессуары к ПМ | H7: Петли
B9: Единая наценка | C9: 0.2 | E9: Единая наценка | F9: 0.2 | H9: Петли | I9: 0.15
B11: FREE FOLD | C11: 0.15 | E11: Адаптер алюм рам | F11: 0.15
B12: FREE FLAP 1.7 | C12: 0.15 | E12: Адаптер фиксатор | F12: 0.15
B13: FREE FLAP 3.15 | C13: 0.15 | E13: Амортизатор к чашке петли | F13: 0.15
B14: FREE SWING | C14: 0.15 | E14: Заглушки | F14: 0.15
B15: FREE UP | C15: 0.25 | E15: Крепление к корпусу | F15: 0.15
B16: FREE FLAP H 1.5 | C16: 0.15 | E16: Крепление к фасаду | F16: 0.15
B17: MAXI | C17: 0.15 | E17: Ограничитель угла | F17: 0.15
B18: DUO | C18: 0.15 | E18: Средняя петля для складных фасадов | F18: 0.15
E19: Регулировочный ключ | F19: 0.15
E20: Штанга | F20: 0.15
E21: Толкатели PUSH | F21: 0.15

Sheet Цены
C1: =РознНаценка -> 0.3 | D1: =IF('Курс Евро'!I3=Цены!M12,P1,'Курс Евро'!$I$4) -> 0 | L1: =L2+13.2/24 -> 44721.077 | M1: =INT(L1) -> 44721 | N1: =SUMIF(КВ!$A$1:$A$186,M1,КВ!$B$1:$B$200) -> 0 | O1: =IF(N1=0,"-",N1) -> - | P1: =SUM(O1:O6) -> 0
B2: =ФлагЦеныПрайса -> розничные цены | C2: =НЦ -> #REF! | D2: =D1*1.01 -> 0 | L2: =NOW() -> 44720.527 | M2: =TODAY() -> 44720 | N2: =SUMIF(КВ!$A$1:$A$186,M2,КВ!$B$1:$B$200) -> 0 | O2: =IF(SUM(O$1:O1)=0,IF(N2=0,"-",N2),"-") -> - | R2: =INDEX(ТабМДФ,7,MATCH("МДФ",Таб_Вес!$AI$19:$AI$21,0))*10000 -> 44720
C3: Итого евро | D3: Итого руб | E3: ЗЦ | F3: Итог нац | G3: Нац. Индивид | H3: Флаг Группы | M3: =M2-1 -> 44719 | N3: =SUMIF(КВ!$A$1:$A$186,M3,КВ!$B$1:$B$200) -> 0 | O3: =IF(SUM(O$1:O2)=0,IF(N3=0,"-",N3),"-") -> - | R3: =(YEAR(R2)-2000)+MONTH(R2)/100 -> 22.06
B4: 235.79.301 | C4: =E4*(1+F4)*(1+РознНаценка*VLOOKUP(ФлагЦеныПрайса,ЦеныПрайса,2,0)) -> 0.19645018 | D4: =C4*$D$2 -> 0 | E4: 0.1314048 | F4: =IF(Ценообразование!$E$5=Справ!$I$14,Ценообразование!$F$5,G4) -> 0.15 | G4: =IF(0<COUNTIF(Петли!E:E,B4),НацПетли,SUMIF(ПМ!E:E,B4,ПМ!G:G)) -> 0.15 | H4: =IF(0<COUNTIF(Петли!E:E,B4),3,IF(COUNTIFS(ПМ!E:E,B4,ПМ!B:B,Справ!$I$17)=1,1,IF(COUNTIFS(ПМ!E:E,B4,ПМ!B:B,Справ!$I$18)=1,2,0))) -> 2 | I4: =IF(H4=1,IF(Ценообразование!$B$9=Справ!$I$11,Ценообразование!$C$9,G4),IF(H4=2,IF(Ценообразование!$E$9=Справ!$I$11,Ценообразование!$F$9,G4),IF(H4=3,НацПетли,0))) -> 0.2 | M4: =M3-1 -> 44718 | N4: =SUMIF(КВ!$A$1:$A$186,M4,КВ!$B$1:$B$200) -> 0 | O4: =IF(SUM(O$1:O3)=0,IF(N4=0,"-",N4),"-") -> - | Q4: 19.08 | R4: 19.04 | S4: =R4-R3 -> -3.02
B5: 329.03.640 | C5: =E5*(1+F5)*(1+РознНаценка*VLOOKUP(ФлагЦеныПрайса,ЦеныПрайса,2,0)) -> 1.7241784 | D5: =C5*$D$2 -> 0 | E5: 1.1532966 | F5: =IF(Ценообразование!$E$5=Справ!$I$14,Ценообразование!$F$5,G5) -> 0.15 | G5: =IF(0<COUNTIF(Петли!E:E,B5),НацПетли,SUMIF(ПМ!E:E,B5,ПМ!G:G)) -> 0.15 | H5: =IF(0<COUNTIF(Петли!E:E,B5),3,IF(COUNTIFS(ПМ!E:E,B5,ПМ!B:B,Справ!$I$17)=1,1,IF(COUNTIFS(ПМ!E:E,B5,ПМ!B:B,Справ!$I$18)=1,2,0))) -> 3 | I5: =IF(H5=1,IF(Ценообразование!$B$9=Справ!$I$11,Ценообразование!$C$9,G5),IF(H5=2,IF(Ценообразование!$E$9=Справ!$I$11,Ценообразование!$F$9,G5),IF(H5=3,НацПетли,0))) -> 0.15 | M5: =M4-1 -> 44717 | N5: =SUMIF(КВ!$A$1:$A$186,M5,КВ!$B$1:$B$200) -> 0 | O5: =IF(SUM(O$1:O4)=0,IF(N5=0,"-",N5),"-") -> - | R5: =IF(S4>=1,S4,0) -> 0
B6: 329.71.503 | C6: =E6*(1+F6)*(1+РознНаценка*VLOOKUP(ФлагЦеныПрайса,ЦеныПрайса,2,0)) -> 0.77792208 | D6: =C6*$D$2 -> 0 | E6: 0.5984016 | F6: =IF(Ценообразование!$E$5=Справ!$I$14,Ценообразование!$F$5,G6) -> 0 | G6: =IF(0<COUNTIF(Петли!E:E,B6),НацПетли,SUMIF(ПМ!E:E,B6,ПМ!G:G)) -> 0 | H6: =IF(0<COUNTIF(Петли!E:E,B6),3,IF(COUNTIFS(ПМ!E:E,B6,ПМ!B:B,Справ!$I$17)=1,1,IF(COUNTIFS(ПМ!E:E,B6,ПМ!B:B,Справ!$I$18)=1,2,0))) -> 0 | I6: =IF(H6=1,IF(Ценообразование!$B$9=Справ!$I$11,Ценообразование!$C$9,G6),IF(H6=2,IF(Ценообразование!$E$9=Справ!$I$11,Ценообразование!$F$9,G6),IF(H6=3,НацПетли,0))) -> 0 | K6: =SUMIF(O1:O6,">0",O1:O6) -> 0 | M6: =M5-1 -> 44716 | N6: =SUMIF(КВ!$A$1:$A$186,M6,КВ!$B$1:$B$200) -> 0 | O6: =IF(SUM(O$1:O5)=0,IF(N6=0,"-",N6),"-") -> -
B7: 372.33.410 | C7: =E7*(1+F7)*(1+РознНаценка*VLOOKUP(ФлагЦеныПрайса,ЦеныПрайса,2,0)) -> 33.452897 | D7: =C7*$D$2 -> 0 | E7: 20.586398 | F7: =IF(Ценообразование!$E$5=Справ!$I$14,Ценообразование!$F$5,G7) -> 0.25 | G7: =IF(0<COUNTIF(Петли!E:E,B7),НацПетли,SUMIF(ПМ!E:E,B7,ПМ!G:G)) -> 0.25 | H7: =IF(0<COUNTIF(Петли!E:E,B7),3,IF(COUNTIFS(ПМ!E:E,B7,ПМ!B:B,Справ!$I$17)=1,1,IF(COUNTIFS(ПМ!E:E,B7,ПМ!B:B,Справ!$I$18)=1,2,0))) -> 1 | I7: =IF(H7=1,IF(Ценообразование!$B$9=Справ!$I$11,Ценообразование!$C$9,G7),IF(H7=2,IF(Ценообразование!$E$9=Справ!$I$11,Ценообразование!$F$9,G7),IF(H7=3,НацПетли,0))) -> 0.2 | K7: =MATCH(SUMIF($O$1:$O$6,">0",$O$1:$O$6),$O$1:$O$6,1) -> #N/A
B8: 372.33.411 | C8: =E8*(1+F8)*(1+РознНаценка*VLOOKUP(ФлагЦеныПрайса,ЦеныПрайса,2,0)) -> 33.452897 | D8: =C8*$D$2 -> 0 | E8: 20.586398 | F8: =IF(Ценообразование!$E$5=Справ!$I$14,Ценообразование!$F$5,G8) -> 0.25 | G8: =IF(0<COUNTIF(Петли!E:E,B8),НацПетли,SUMIF(ПМ!E:E,B8,ПМ!G:G)) -> 0.25 | H8: =IF(0<COUNTIF(Петли!E:E,B8),3,IF(COUNTIFS(ПМ!E:E,B8,ПМ!B:B,Справ!$I$17)=1,1,IF(COUNTIFS(ПМ!E:E,B8,ПМ!B:B,Справ!$I$18)=1,2,0))) -> 1 | I8: =IF(H8=1,IF(Ценообразование!$B$9=Справ!$I$11,Ценообразование!$C$9,G8),IF(H8=2,IF(Ценообразование!$E$9=Справ!$I$11,Ценообразование!$F$9,G8),IF(H8=3,НацПетли,0))) -> 0.2
B9: 372.33.412 | C9: =E9*(1+F9)*(1+РознНаценка*VLOOKUP(ФлагЦеныПрайса,ЦеныПрайса,2,0)) -> 33.452897 | D9: =C9*$D$2 -> 0 | E9: 20.586398 | F9: =IF(Ценообразование!$E$5=Справ!$I$14,Ценообразование!$F$5,G9) -> 0.25 | G9: =IF(0<COUNTIF(Петли!E:E,B9),НацПетли,SUMIF(ПМ!E:E,B9,ПМ!G:G)) -> 0.25 | H9: =IF(0<COUNTIF(Петли!E:E,B9),3,IF(COUNTIFS(ПМ!E:E,B9,ПМ!B:B,Справ!$I$17)=1,1,IF(COUNTIFS(ПМ!E:E,B9,ПМ!B:B,Справ!$I$18)=1,2,0))) -> 1 | I9: =IF(H9=1,IF(Ценообразование!$B$9=Справ!$I$11,Ценообразование!$C$9,G9),IF(H9=2,IF(Ценообразование!$E$9=Справ!$I$11,Ценообразование!$F$9,G9),IF(H9=3,НацПетли,0))) -> 0.2
B10: 372.33.413 | C10: =E10*(1+F10)*(1+РознНаценка*VLOOKUP(ФлагЦеныПрайса,ЦеныПрайса,2,0)) -> 33.452897 | D10: =C10*$D$2 -> 0 | E10: 20.586398 | F10: =IF(Ценообразование!$E$5=Справ!$I$14,Ценообразование!$F$5,G10) -> 0.25 | G10: =IF(0<COUNTIF(Петли!E:E,B10),НацПетли,SUMIF(ПМ!E:E,B10,ПМ!G:G)) -> 0.25 | H10: =IF(0<COUNTIF(Петли!E:E,B10),3,IF(COUNTIFS(ПМ!E:E,B10,ПМ!B:B,Справ!$I$17)=1,1,IF(COUNTIFS(ПМ!E:E,B10,ПМ!B:B,Справ!$I$18)=1,2,0))) -> 1 | I10: =IF(H10=1,IF(Ценообразование!$B$9=Справ!$I$11,Ценообразование!$C$9,G10),IF(H10=2,IF(Ценообразование!$E$9=Справ!$I$11,Ценообразование!$F$9,G10),IF(H10=3,НацПетли,0))) -> 0.2
B11: 372.33.422 | C11: =E11*(1+F11)*(1+РознНаценка*VLOOKUP(ФлагЦеныПрайса,ЦеныПрайса,2,0)) -> 33.452897 | D11: =C11*$D$2 -> 0 | E11: 20.586398 | F11: =IF(Ценообразование!$E$5=Справ!$I$14,Ценообразование!$F$5,G11) -> 0.25 | G11: =IF(0<COUNTIF(Петли!E:E,B11),НацПетли,SUMIF(ПМ!E:E,B11,ПМ!G:G)) -> 0.25 | H11: =IF(0<COUNTIF(Петли!E:E,B11),3,IF(COUNTIFS(ПМ!E:E,B11,ПМ!B:B,Справ!$I$17)=1,1,IF(COUNTIFS(ПМ!E:E,B11,ПМ!B:B,Справ!$I$18)=1,2,0))) -> 1 | I11: =IF(H11=1,IF(Ценообразование!$B$9=Справ!$I$11,Ценообразование!$C$9,G11),IF(H11=2,IF(Ценообразование!$E$9=Справ!$I$11,Ценообразование!$F$9,G11),IF(H11=3,НацПетли,0))) -> 0.2 | M11: Установлен пользователем
B12: 372.33.423 | C12: =E12*(1+F12)*(1+РознНаценка*VLOOKUP(ФлагЦеныПрайса,ЦеныПрайса,2,0)) -> 33.452897 | D12: =C12*$D$2 -> 0 | E12: 20.586398 | F12: =IF(Ценообразование!$E$5=Справ!$I$14,Ценообразование!$F$5,G12) -> 0.25 | G12: =IF(0<COUNTIF(Петли!E:E,B12),НацПетли,SUMIF(ПМ!E:E,B12,ПМ!G:G)) -> 0.25 | H12: =IF(0<COUNTIF(Петли!E:E,B12),3,IF(COUNTIFS(ПМ!E:E,B12,ПМ!B:B,Справ!$I$17)=1,1,IF(COUNTIFS(ПМ!E:E,B12,ПМ!B:B,Справ!$I$18)=1,2,0))) -> 1 | I12: =IF(H12=1,IF(Ценообразование!$B$9=Справ!$I$11,Ценообразование!$C$9,G12),IF(H12=2,IF(Ценообразование!$E$9=Справ!$I$11,Ценообразование!$F$9,G12),IF(H12=3,НацПетли,0))) -> 0.2 | M12: Обновить через интернет
B13: 372.33.424 | C13: =E13*(1+F13)*(1+РознНаценка*VLOOKUP(ФлагЦеныПрайса,ЦеныПрайса,2,0)) -> 33.452897 | D13: =C13*$D$2 -> 0 | E13: 20.586398 | F13: =IF(Ценообразование!$E$5=Справ!$I$14,Ценообразование!$F$5,G13) -> 0.25 | G13: =IF(0<COUNTIF(Петли!E:E,B13),НацПетли,SUMIF(ПМ!E:E,B13,ПМ!G:G)) -> 0.25 | H13: =IF(0<COUNTIF(Петли!E:E,B13),3,IF(COUNTIFS(ПМ!E:E,B13,ПМ!B:B,Справ!$I$17)=1,1,IF(COUNTIFS(ПМ!E:E,B13,ПМ!B:B,Справ!$I$18)=1,2,0))) -> 1 | I13: =IF(H13=1,IF(Ценообразование!$B$9=Справ!$I$11,Ценообразование!$C$9,G13),IF(H13=2,IF(Ценообразование!$E$9=Справ!$I$11,Ценообразование!$F$9,G13),IF(H13=3,НацПетли,0))) -> 0.2
B14: 372.33.425 | C14: =E14*(1+F14)*(1+РознНаценка*VLOOKUP(ФлагЦеныПрайса,ЦеныПрайса,2,0)) -> 33.452897 | D14: =C14*$D$2 -> 0 | E14: 20.586398 | F14: =IF(Ценообразование!$E$5=Справ!$I$14,Ценообразование!$F$5,G14) -> 0.25 | G14: =IF(0<COUNTIF(Петли!E:E,B14),НацПетли,SUMIF(ПМ!E:E,B14,ПМ!G:G)) -> 0.25 | H14: =IF(0<COUNTIF(Петли!E:E,B14),3,IF(COUNTIFS(ПМ!E:E,B14,ПМ!B:B,Справ!$I$17)=1,1,IF(COUNTIFS(ПМ!E:E,B14,ПМ!B:B,Справ!$I$18)=1,2,0))) -> 1 | I14: =IF(H14=1,IF(Ценообразование!$B$9=Справ!$I$11,Ценообразование!$C$9,G14),IF(H14=2,IF(Ценообразование!$E$9=Справ!$I$11,Ценообразование!$F$9,G14),IF(H14=3,НацПетли,0))) -> 0.2
B15: 372.33.432 | C15: =E15*(1+F15)*(1+РознНаценка*VLOOKUP(ФлагЦеныПрайса,ЦеныПрайса,2,0)) -> 33.452897 | D15: =C15*$D$2 -> 0 | E15: 20.586398 | F15: =IF(Ценообразование!$E$5=Справ!$I$14,Ценообразование!$F$5,G15) -> 0.25 | G15: =IF(0<COUNTIF(Петли!E:E,B15),НацПетли,SUMIF(ПМ!E:E,B15,ПМ!G:G)) -> 0.25 | H15: =IF(0<COUNTIF(Петли!E:E,B15),3,IF(COUNTIFS(ПМ!E:E,B15,ПМ!B:B,Справ!$I$17)=1,1,IF(COUNTIFS(ПМ!E:E,B15,ПМ!B:B,Справ!$I$18)=1,2,0))) -> 1 | I15: =IF(H15=1,IF(Ценообразование!$B$9=Справ!$I$11,Ценообразование!$C$9,G15),IF(H15=2,IF(Ценообразование!$E$9=Справ!$I$11,Ценообразование!$F$9,G15),IF(H15=3,НацПетли,0))) -> 0.2
B16: 372.33.433 | C16: =E16*(1+F16)*(1+РознНаценка*VLOOKUP(ФлагЦеныПрайса,ЦеныПрайса,2,0)) -> 33.452897 | D16: =C16*$D$2 -> 0 | E16: 20.586398 | F16: =IF(Ценообразование!$E$5=Справ!$I$14,Ценообразование!$F$5,G16) -> 0.25 | G16: =IF(0<COUNTIF(Петли!E:E,B16),НацПетли,SUMIF(ПМ!E:E,B16,ПМ!G:G)) -> 0.25 | H16: =IF(0<COUNTIF(Петли!E:E,B16),3,IF(COUNTIFS(ПМ!E:E,B16,ПМ!B:B,Справ!$I$17)=1,1,IF(COUNTIFS(ПМ!E:E,B16,ПМ!B:B,Справ!$I$18)=1,2,0))) -> 1 | I16: =IF(H16=1,IF(Ценообразование!$B$9=Справ!$I$11,Ценообразование!$C$9,G16),IF(H16=2,IF(Ценообразование!$E$9=Справ!$I$11,Ценообразование!$F$9,G16),IF(H16=3,НацПетли,0))) -> 0.2 | M16: Обновленно успешно
B17: 372.33.434 | C17: =E17*(1+F17)*(1+РознНаценка*VLOOKUP(ФлагЦеныПрайса,ЦеныПрайса,2,0)) -> 33.452897 | D17: =C17*$D$2 -> 0 | E17: 20.586398 | F17: =IF(Ценообразование!$E$5=Справ!$I$14,Ценообразование!$F$5,G17) -> 0.25 | G17: =IF(0<COUNTIF(Петли!E:E,B17),НацПетли,SUMIF(ПМ!E:E,B17,ПМ!G:G)) -> 0.25 | H17: =IF(0<COUNTIF(Петли!E:E,B17),3,IF(COUNTIFS(ПМ!E:E,B17,ПМ!B:B,Справ!$I$17)=1,1,IF(COUNTIFS(ПМ!E:E,B17,ПМ!B:B,Справ!$I$18)=1,2,0))) -> 1 | I17: =IF(H17=1,IF(Ценообразование!$B$9=Справ!$I$11,Ценообразование!$C$9,G17),IF(H17=2,IF(Ценообразование!$E$9=Справ!$I$11,Ценообразование!$F$9,G17),IF(H17=3,НацПетли,0))) -> 0.2 | M17: Обновление через интернет не осущественно
B18: 372.33.435 | C18: =E18*(1+F18)*(1+РознНаценка*VLOOKUP(ФлагЦеныПрайса,ЦеныПрайса,2,0)) -> 33.452897 | D18: =C18*$D$2 -> 0 | E18: 20.586398 | F18: =IF(Ценообразование!$E$5=Справ!$I$14,Ценообразование!$F$5,G18) -> 0.25 | G18: =IF(0<COUNTIF(Петли!E:E,B18),НацПетли,SUMIF(ПМ!E:E,B18,ПМ!G:G)) -> 0.25 | H18: =IF(0<COUNTIF(Петли!E:E,B18),3,IF(COUNTIFS(ПМ!E:E,B18,ПМ!B:B,Справ!$I$17)=1,1,IF(COUNTIFS(ПМ!E:E,B18,ПМ!B:B,Справ!$I$18)=1,2,0))) -> 1 | I18: =IF(H18=1,IF(Ценообразование!$B$9=Справ!$I$11,Ценообразование!$C$9,G18),IF(H18=2,IF(Ценообразование!$E$9=Справ!$I$11,Ценообразование!$F$9,G18),IF(H18=3,НацПетли,0))) -> 0.2
B19: 372.33.670 | C19: =E19*(1+F19)*(1+РознНаценка*VLOOKUP(ФлагЦеныПрайса,ЦеныПрайса,2,0)) -> 2.9159515 | D19: =C19*$D$2 -> 0 | E19: 1.9504692 | F19: =IF(Ценообразование!$E$5=Справ!$I$14,Ценообразование!$F$5,G19) -> 0.15 | G19: =IF(0<COUNTIF(Петли!E:E,B19),НацПетли,SUMIF(ПМ!E:E,B19,ПМ!G:G)) -> 0.15 | H19: =IF(0<COUNTIF(Петли!E:E,B19),3,IF(COUNTIFS(ПМ!E:E,B19,ПМ!B:B,Справ!$I$17)=1,1,IF(COUNTIFS(ПМ!E:E,B19,ПМ!B:B,Справ!$I$18)=1,2,0))) -> 2 | I19: =IF(H19=1,IF(Ценообразование!$B$9=Справ!$I$11,Ценообразование!$C$9,G19),IF(H19=2,IF(Ценообразование!$E$9=Справ!$I$11,Ценообразование!$F$9,G19),IF(H19=3,НацПетли,0))) -> 0.2
B20: 372.33.675 | C20: =E20*(1+F20)*(1+РознНаценка*VLOOKUP(ФлагЦеныПрайса,ЦеныПрайса,2,0)) -> 2.9159515 | D20: =C20*$D$2 -> 0 | E20: 1.9504692 | F20: =IF(Ценообразование!$E$5=Справ!$I$14,Ценообразование!$F$5,G20) -> 0.15 | G20: =IF(0<COUNTIF(Петли!E:E,B20),НацПетли,SUMIF(ПМ!E:E,B20,ПМ!G:G)) -> 0.15 | H20: =IF(0<COUNTIF(Петли!E:E,B20),3,IF(COUNTIFS(ПМ!E:E,B20,ПМ!B:B,Справ!$I$17)=1,1,IF(COUNTIFS(ПМ!E:E,B20,ПМ!B:B,Справ!$I$18)=1,2,0))) -> 2 | I20: =IF(H20=1,IF(Ценообразование!$B$9=Справ!$I$11,Ценообразование!$C$9,G20),IF(H20=2,IF(Ценообразование!$E$9=Справ!$I$11,Ценообразование!$F$9,G20),IF(H20=3,НацПетли,0))) -> 0.2
