Workbook
Name _23: КВ!$A$2:$A$146
Name DUO_Forte_PUSH: #REF!
Name DUO_Forte_Доп_Магнит: #REF!
Name DUO_Forte_Петли_PUSH: #REF!
Name DUO_Forte_Сопряж_Магнита: #REF!
Name DUO_Forte_Тип_Магнита: #REF!
Name DUO_Standart_PUSH: #REF!
Name DUO_Standart_Арт_110: Мех!$E$307:$E$314
Name DUO_Standart_Арт_75: Мех!$E$323:$E$330
Name DUO_Standart_Арт_90: Мех!$E$315:$E$322
Name DUO_Standart_Доп_Магнит: #REF!
Name DUO_Standart_Итого_110: Мех!$C$307:$C$314
Name DUO_Standart_Итого_75: Мех!$C$323:$C$330
Name DUO_Standart_Итого_90: Мех!$C$315:$C$322
Name DUO_Standart_Кол_во_110: Мех!$G$307:$G$314
Name DUO_Standart_Кол_во_75: Мех!$G$323:$G$330
Name DUO_Standart_Кол_во_90: Мех!$G$315:$G$322
Name DUO_Standart_Колво_110_1: Мех!$A$307:$A$314
Name DUO_Standart_Колво_110_2: Мех!$B$307:$B$314
Name DUO_Standart_Колво_75_1: Мех!$A$323:$A$330
Name DUO_Standart_Колво_75_2: Мех!$B$323:$B$330
Name DUO_Standart_Колво_90_1: Мех!$A$315:$A$322
Name DUO_Standart_Колво_90_2: Мех!$B$315:$B$322
Name DUO_Standart_Петли_PUSH: #REF!
Name DUO_Standart_Сопряж_Магнита: #REF!
Name DUO_Standart_Тип_Магнита: #REF!
Name DUOF_Standart_Арт_110: Мех!$E$335:$E$346
Name DUOF_Standart_Арт_75: Мех!$E$359:$E$370
Name DUOF_Standart_Арт_90: Мех!$E$347:$E$358
Name DUOF_Standart_Итого_110: Мех!$C$335:$C$346
Name DUOF_Standart_Итого_75: Мех!$C$359:$C$370
Name DUOF_Standart_Итого_90: Мех!$C$347:$C$358
Name DUOFIndex110: #REF!
Name DUOFIndex75: #REF!
Name DUOFIndex90: #REF!
Name DUOFАмортизатор: #REF!
Name DUOFВес: #REF!
Name DUOFВысота: #REF!
Name DUOFМатериал: #REF!
Name DUOFПетлиДоводка: #REF!
Name DUOFПетлиНетДоводки: #REF!
Name DUOFТолщина: #REF!
Name DUOFУгол: #REF!
Name DUOFШирина: #REF!
Name DUOSIndex110: #REF!
Name DUOSIndex75: #REF!
Name DUOSIndex90: #REF!
Name DUOSУгол: #REF!
Name DUOАмортизатор: #REF!
Name DUOВес: #REF!
Name DUOВысота: #REF!
Name DUOМатериал: #REF!
Name DUOПетлиДоводка: #REF!
Name DUOПетлиНетДоводки: #REF!
Name DUOТолщина: #REF!
Name DUOШирина: #REF!
Name FF17АдаптерАлм: FreeFlap!$M$13
Name FF17ОграничительУгла: FreeFlap!$M$11
Name FF315АдаптерАлм: FreeFlap!$M$40
Name FFD_Арт: Мех!$E$5:$F$20

Sheet PUSH (2)
D1: 1 | F1: 2 | H1: 3 | J1: 2*2 | L1: 2*3
A2: 0 | B2: 200 | C2: A | D2: 1.7 | E2: 3.1 | F2: 3.1 | G2: 4.6
A3: 0 | B3: 200 | C3: B | F3: 3.6 | G3: 5.4 | H3: 5.4 | I3: 7.9
A4: 0 | B4: 200 | C4: C | H4: 6.8 | I4: 8.3 | J4: 8.3 | K4: 12.3 | L4: 12.3 | M4: 14.7
A5: =B2 -> 200 | B5: 225 | C5: A | D5: 1.5 | E5: 2.9 | F5: 2.9 | G5: 4.1
A6: =B3 -> 200 | B6: 225 | C6: B | F6: 3.1 | G6: 4.7 | H6: 4.7 | I6: 7.1
A7: =B4 -> 200 | B7: 225 | C7: C | H7: 6 | I7: 7.1 | J7: 7.1 | K7: 11.6 | L7: 11.6 | M7: 13.1
A8: =B5 -> 225 | B8: =B5+25 -> 250 | C8: A | D8: 1.3 | E8: 3.1 | F8: 3.1 | G8: 3.8
A9: =B6 -> 225 | B9: =B6+25 -> 250 | C9: B | F9: 2.9 | G9: 5.1 | H9: 5.1 | I9: 6.4
A10: =B7 -> 225 | B10: =B7+25 -> 250 | C10: C | H10: 5.4 | I10: 6.9 | J10: 6.9 | K10: 10.5 | L10: 10.5 | M10: 11.8
A11: =B8 -> 250 | B11: =B8+25 -> 275 | C11: A | D11: 1.2 | E11: 3 | F11: 3 | G11: 3.3
A12: =B9 -> 250 | B12: =B9+25 -> 275 | C12: B | D12: 2.5 | E12: 3.3 | F12: 3.3 | G12: 5 | H12: 5 | I12: 5.7
A13: =B10 -> 250 | B13: =B10+25 -> 275 | C13: C | H13: 4.8 | I13: 6.8 | J13: 6.8 | K13: 10 | L13: 10 | M13: 10.6
A14: =B11 -> 275 | B14: =B11+25 -> 300 | C14: A | D14: 1.1 | E14: 2.7 | F14: 2.7 | G14: 3.1
A15: =B12 -> 275 | B15: =B12+25 -> 300 | C15: B | D15: 2.4 | E15: 3 | F15: 3 | G15: 4.6 | H15: 4.6 | I15: 5.1
A16: =B13 -> 275 | B16: =B13+25 -> 300 | C16: C | H16: 4.4 | I16: 6.6 | J16: 6.6 | K16: 9.6
A17: =B14 -> 300 | B17: =B14+25 -> 325 | C17: A | D17: 1 | E17: 2.6 | F17: 2.6 | G17: 2.8
A18: =B15 -> 300 | B18: =B15+25 -> 325 | C18: B | D18: 2.1 | E18: 3 | F18: 3 | G18: 4.2 | H18: 4.2 | I18: 4.6
A19: =B16 -> 300 | B19: =B16+25 -> 325 | C19: C | H19: 4 | I19: 6 | J19: 6 | K19: 8.8
A20: =B17 -> 325 | B20: =B17+25 -> 350 | C20: A | D20: 0.9 | E20: 2.4 | F20: 2.4 | G20: 2.6
A21: =B18 -> 325 | B21: =B18+25 -> 350 | C21: B | D21: 2 | E21: 2.9 | F21: 2.9 | G21: 4.2
A22: =B19 -> 325 | B22: =B19+25 -> 350 | C22: C | F22: 3.7 | G22: 3.9 | H22: 3.9 | I22: 5.9 | J22: 5.9 | K22: 8.1
A23: =B20 -> 350 | B23: =B20+25 -> 375 | C23: A | D23: 0.9 | E23: 2.3
A24: =B21 -> 350 | B24: =B21+25 -> 375 | C24: B | D24: 1.9 | E24: 2.7 | F24: 2.7 | G24: 3.8
A25: =B22 -> 350 | B25: =B22+25 -> 375 | C25: C | F25: 3.5 | G25: 3.9 | H25: 3.9 | I25: 5.7 | J25: 5.7 | K25: 7.5
A26: =B23 -> 375 | B26: =B23+25 -> 400 | C26: A | D26: 0.8 | E26: 2.1
A27: =B24 -> 375 | B27: =B24+25 -> 400 | C27: B | D27: 1.7 | E27: 2.7 | F27: 2.7 | G27: 3.6
A28: =B25 -> 375 | B28: =B25+25 -> 400 | C28: C | F28: 3.2 | G28: 3.8 | H28: 3.8 | I28: 5.6 | J28: 5.6 | K28: 7
A29: =B26 -> 400 | B29: =B26+25 -> 425 | C29: A | D29: 0.7 | E29: 1.9
A30: =B27 -> 400 | B30: =B27+25 -> 425 | C30: B | D30: 1.5 | E30: 2.3 | F30: 2.3 | G30: 4
A31: =B28 -> 400 | B31: =B28+25 -> 425 | C31: C | F31: 2.9 | G31: 4 | H31: 4 | I31: 5 | J31: 5 | K31: 6.5
A32: =B29 -> 425 | B32: =B29+25 -> 450 | C32: A | D32: 0.6 | E32: 1.7
A33: =B30 -> 425 | B33: =B30+25 -> 450 | C33: B | D33: 1.4 | E33: 2.4 | F33: 2.4 | G33: 3.2
A34: =B31 -> 425 | B34: =B31+25 -> 450 | C34: C | F34: 2.7 | G34: 3.3 | H34: 3.3 | I34: 5.1 | J34: 5.1 | K34: 6.1

Sheet Лист3
B4: FREE FOLD
B5: FREE FLAP 1.7
B6: FREE FLAP 3.15
B7: FREE SWING
B8: FREE UP

Sheet Лист2
F2: Тип | G2: Кол-во
B3: 350 | C3: D | D3: 5.2 | E3: 8.1 | F3: 2 | G3: 1
B4: 350 | C4: D | D4: =E3 -> 8.1 | E4: 11 | F4: 3 | G4: 1
B5: 350 | C5: E | D5: 6.7 | E5: 11.8 | F5: 3 | G5: 1
B6: 350 | C6: E | D6: =E5 -> 11.8 | E6: 14.3 | F6: 2 | G6: 2
B7: 350 | C7: F | D7: 10.1 | E7: 17.9 | F7: 2 | G7: 2
B8: 350 | C8: F | D8: =E7 -> 17.9 | E8: 21.4 | F8: 3 | G8: 2
B9: 350 | C9: G | D9: 13.5 | E9: 18.1 | F9: 2 | G9: 2
B10: 350 | C10: G | D10: =E9 -> 18.1 | E10: 27.3 | F10: 3 | G10: 2
B11: 400 | C11: D | D11: 4.7 | E11: 9 | F11: 2 | G11: 1
B12: 400 | C12: D | D12: 9 | E12: 9.6 | F12: 3 | G12: 1
B13: 400 | C13: E | D13: 5.9 | E13: 7.9 | F13: 2 | G13: 1
B14: 400 | C14: E | D14: 7.9 | E14: 11.6 | F14: 3 | G14: 1
B15: 400 | C15: E | D15: =E14 -> 11.6 | E15: 12.4 | F15: 2 | G15: 2
B16: 400 | C16: F | D16: 8.9 | E16: 10.7 | F16: 3 | G16: 1
B17: 400 | C17: F | D17: =E16 -> 10.7 | E17: 17.2 | F17: 2 | G17: 2
B18: 400 | C18: F | D18: =E17 -> 17.2 | E18: 18.6 | F18: 3 | G18: 2
B19: 400 | C19: G | D19: 11.8 | E19: 12.3 | F19: 3 | G19: 1
B20: 400 | C20: G | D20: =E19 -> 12.3 | E20: 17.9 | F20: 2 | G20: 2
B21: 400 | C21: G | D21: =E20 -> 17.9 | E21: 23.3 | F21: 3 | G21: 2
B22: 450 | C22: D | D22: 4.1 | E22: 5 | F22: 1 | G22: 1
B23: 450 | C23: D | D23: =E22 -> 5 | E23: 8.4 | F23: 2 | G23: 1
B24: 450 | C24: E | D24: 5.2 | E24: 7.9 | F24: 2 | G24: 1
B25: 450 | C25: E | D25: 7.9 | E25: 10.9 | F25: 3 | G25: 1
B26: 450 | C26: F | D26: 7.8 | E26: 10.2 | F26: 3 | G26: 1
B27: 450 | C27: F | D27: 10.2 | E27: 16.3 | F27: 2 | G27: 2
B28: 450 | C28: G | D28: 10.4 | E28: 10.8 | F28: 3 | G28: 1
B29: 450 | C29: G | D29: =E28 -> 10.8 | E29: 16.7 | F29: 2 | G29: 2
B30: 450 | C30: G | D30: 16.7 | E30: 20.5 | F30: 3 | G30: 2
B31: 500 | C31: D | D31: 3.7 | E31: 4.9 | F31: 1 | G31: 1
B32: 500 | C32: D | D32: =E31 -> 4.9 | E32: 7.5 | F32: 2 | G32: 1
B33: 500 | C33: E | D33: 4.7 | E33: 7.8 | F33: 2 | G33: 1
B34: 500 | C34: E | D34: 7.8 | E34: 9.7 | F34: 3 | G34: 1
B35: 500 | C35: F | D35: 7 | E35: 10 | F35: 3 | G35: 1
B36: 500 | C36: F | D36: =E35 -> 10 | E36: 14.6 | F36: 2 | G36: 2
B37: 500 | C37: G | D37: 9.2 | E37: 10.7 | F37: 3 | G37: 1
B38: 500 | C38: G | D38: =E37 -> 10.7 | E38: 16 | F38: 2 | G38: 2
B39: 500 | C39: G | D39: 16 | E39: 18.3 | F39: 3 | G39: 2
B40: 550 | C40: D | D40: 3.3 | E40: 4.9 | F40: 1 | G40: 1
B41: 550 | C41: D | D41: =E40 -> 4.9 | E41: 6.8 | F41: 2 | G41: 1
B42: 550 | C42: E | D42: 4.2 | E42: 4.5 | F42: 1 | G42: 1
B43: 550 | C43: E | D43: =E42 -> 4.5 | E43: 7.5 | F43: 2 | G43: 1
B44: 550 | C44: E | D44: =E43 -> 7.5 | E44: 8.8 | F44: 3 | G44: 1
B45: 550 | C45: F | D45: 6.3 | E45: 6.8 | F45: 2 | G45: 1
B46: 550 | C46: F | D46: 6.8 | E46: 9.7 | F46: 3 | G46: 1
B47: 550 | C47: F | D47: 9.7 | E47: 13.2 | F47: 2 | G47: 2
B48: 550 | C48: G | D48: 8.3 | E48: 10.4 | F48: 3 | G48: 1
B49: 550 | C49: G | D49: 10.4 | E49: 15.3 | F49: 2 | G49: 2
B50: 550 | C50: G | D50: =E49 -> 15.3 | E50: 16.5 | F50: 3 | G50: 2
B51: 600 | C51: D | D51: 3 | E51: 4.7 | F51: 1 | G51: 1
B52: 600 | C52: D | D52: =E51 -> 4.7 | E52: 6.2 | F52: 2 | G52: 1
B53: 600 | C53: E | D53: 3.8 | E53: 4.2 | F53: 1 | G53: 1
B54: 600 | C54: E | D54: =E53 -> 4.2 | E54: 7.2 | F54: 2 | G54: 1
B55: 600 | C55: E | D55: =E54 -> 7.2 | E55: 8 | F55: 3 | G55: 1
B56: 600 | C56: F | D56: 5.7 | E56: 6.7 | F56: 2 | G56: 1
B57: 600 | C57: F | D57: =E56 -> 6.7 | E57: 9.2 | F57: 3 | G57: 1
B58: 600 | C58: F | D58: =E57 -> 9.2 | E58: 12 | F58: 2 | G58: 2
B59: 600 | C59: G | D59: 7.6 | E59: 10.2 | F59: 3 | G59: 1
B60: 600 | C60: G | D60: =E59 -> 10.2 | E60: 15 | F60: 2 | G60: 2
B61: 650 | C61: D | D61: 2.6 | E61: 4.1 | F61: 1 | G61: 1
B62: 650 | C62: D | D62: 4.1 | E62: 5.6 | F62: 2 | G62: 1
B63: 650 | C63: E | D63: 3.4 | E63: 6.4 | F63: 2 | G63: 1
B64: 650 | C64: E | D64: =E63 -> 6.4 | E64: 7.3 | F64: 3 | G64: 1
B65: 650 | C65: F | D65: 5.3 | E65: 8.4 | F65: 3 | G65: 1
B66: 650 | C66: F | D66: =E65 -> 8.4 | E66: 11 | F66: 2 | G66: 2
B67: 650 | C67: G | D67: 6.9 | E67: 10.5 | F67: 3 | G67: 1
B68: 650 | C68: G | D68: =E67 -> 10.5 | E68: 14 | F68: 2 | G68: 2

Sheet PUSH
G2: FREE FLAP 1.7 | H2: вес | I2: =FFP17Вес -> 4.4776 | J2: Модель | K2: =FreeFlap!E20 -> 372.91.175 | L2: высота | M2: =FFP17Высота -> 400 | N2: Тип толкателя | O2: =FreeFlap!K15 -> Врезной
E3: 1 | F3: 2 | G3: Модель | H3: от | I3: до | J3: Тип толк-ля | K3: Кол-во | L3: от | M3: до | N3: Врезной | O3: Накладной
A4: =IF(AND($M$2>L4,$M$2<=M4),IF(AND($I$2>=H4,$I$2<I4),IF(E4=$K$2,J4,"-"),"-"),"-") -> - | B4: =IF(A4<>"-",ABS((FFP17Вес-H4)/(I4-H4)*2-1),"-") -> - | D4: 1 | E4: 372.91.171 | F4: 372.91.172 | G4: A | H4: 1.7 | I4: 3.1 | J4: 1 | K4: 1 | L4: 0 | M4: 200 | N4: 372.91.480 | O4: 372.91.470
A5: =IF(AND($M$2>L5,$M$2<=M5),IF(AND($I$2>=H5,$I$2<I5),IF(E5=$K$2,J5,"-"),"-"),"-") -> - | B5: =IF(A5<>"-",ABS((FFP18Вес-H5)/(I5-H5)*2-1),"-") -> - | D5: 2 | E5: 372.91.171 | F5: 372.91.172 | G5: A | H5: 3.1 | I5: 4.6 | J5: 1 | K5: 1 | L5: 0 | M5: 200 | N5: 372.91.480 | O5: 372.91.470
A6: =IF(AND($M$2>L6,$M$2<=M6),IF(AND($I$2>=H6,$I$2<I6),IF(E6=$K$2,J6,"-"),"-"),"-") -> - | B6: =IF(A6<>"-",ABS((FFP19Вес-H6)/(I6-H6)*2-1),"-") -> - | D6: 3 | E6: 372.91.173 | F6: 372.91.174 | G6: B | H6: 3.6 | I6: 5.4 | J6: 2 | K6: 1 | L6: 0 | M6: 200 | N6: 372.91.481 | O6: 372.91.471
A7: =IF(AND($M$2>L7,$M$2<=M7),IF(AND($I$2>=H7,$I$2<I7),IF(E7=$K$2,J7,"-"),"-"),"-") -> - | B7: =IF(A7<>"-",ABS((FFP20Вес-H7)/(I7-H7)*2-1),"-") -> - | D7: 4 | E7: 372.91.173 | F7: 372.91.174 | G7: B | H7: 5.4 | I7: 7.9 | J7: 3 | K7: 1 | L7: 0 | M7: 200 | N7: 372.91.482 | O7: 372.91.472
A8: =IF(AND($M$2>L8,$M$2<=M8),IF(AND($I$2>=H8,$I$2<I8),IF(E8=$K$2,J8,"-"),"-"),"-") -> - | B8: =IF(A8<>"-",ABS((FFP21Вес-H8)/(I8-H8)*2-1),"-") -> - | D8: 5 | E8: 372.91.175 | F8: 372.91.176 | G8: C | H8: 6.8 | I8: 8.3 | J8: 3 | K8: 1 | L8: 0 | M8: 200 | N8: 372.91.482 | O8: 372.91.472
A9: =IF(AND($M$2>L9,$M$2<=M9),IF(AND($I$2>=H9,$I$2<I9),IF(E9=$K$2,J9,"-"),"-"),"-") -> - | B9: =IF(A9<>"-",ABS((FFP22Вес-H9)/(I9-H9)*2-1),"-") -> - | D9: 6 | E9: 372.91.175 | F9: 372.91.176 | G9: C | H9: 8.3 | I9: 12.3 | J9: 2 | K9: 2 | L9: 0 | M9: 200 | N9: 372.91.481 | O9: 372.91.471
A10: =IF(AND($M$2>L10,$M$2<=M10),IF(AND($I$2>=H10,$I$2<I10),IF(E10=$K$2,J10,"-"),"-"),"-") -> - | B10: =IF(A10<>"-",ABS((FFP23Вес-H10)/(I10-H10)*2-1),"-") -> - | D10: 7 | E10: 372.91.175 | F10: 372.91.176 | G10: C | H10: 12.3 | I10: 14.7 | J10: 3 | K10: 2 | L10: 0 | M10: 200 | N10: 372.91.482 | O10: 372.91.472
A11: =IF(AND($M$2>L11,$M$2<=M11),IF(AND($I$2>=H11,$I$2<I11),IF(E11=$K$2,J11,"-"),"-"),"-") -> - | B11: =IF(A11<>"-",ABS((FFP24Вес-H11)/(I11-H11)*2-1),"-") -> - | D11: 8 | E11: 372.91.171 | F11: 372.91.172 | G11: A | H11: 1.5 | I11: 2.9 | J11: 1 | K11: 1 | L11: =M4 -> 200 | M11: 225 | N11: 372.91.480 | O11: 372.91.470
A12: =IF(AND($M$2>L12,$M$2<=M12),IF(AND($I$2>=H12,$I$2<I12),IF(E12=$K$2,J12,"-"),"-"),"-") -> - | B12: =IF(A12<>"-",ABS((FFP25Вес-H12)/(I12-H12)*2-1),"-") -> - | D12: 9 | E12: 372.91.171 | F12: 372.91.172 | G12: A | H12: 2.9 | I12: 4.1 | J12: 2 | K12: 1 | L12: =M5 -> 200 | M12: 225 | N12: 372.91.481 | O12: 372.91.471
A13: =IF(AND($M$2>L13,$M$2<=M13),IF(AND($I$2>=H13,$I$2<I13),IF(E13=$K$2,J13,"-"),"-"),"-") -> - | B13: =IF(A13<>"-",ABS((FFP26Вес-H13)/(I13-H13)*2-1),"-") -> - | D13: 10 | E13: 372.91.173 | F13: 372.91.174 | G13: B | H13: 3.1 | I13: 4.7 | J13: 2 | K13: 1 | L13: =M6 -> 200 | M13: 225 | N13: 372.91.481 | O13: 372.91.471
A14: =IF(AND($M$2>L14,$M$2<=M14),IF(AND($I$2>=H14,$I$2<I14),IF(E14=$K$2,J14,"-"),"-"),"-") -> - | B14: =IF(A14<>"-",ABS((FFP27Вес-H14)/(I14-H14)*2-1),"-") -> - | D14: 11 | E14: 372.91.173 | F14: 372.91.174 | G14: B | H14: 4.7 | I14: 7.1 | J14: 3 | K14: 1 | L14: =M7 -> 200 | M14: 225 | N14: 372.91.482 | O14: 372.91.472
A15: =IF(AND($M$2>L15,$M$2<=M15),IF(AND($I$2>=H15,$I$2<I15),IF(E15=$K$2,J15,"-"),"-"),"-") -> - | B15: =IF(A15<>"-",ABS((FFP28Вес-H15)/(I15-H15)*2-1),"-") -> - | D15: 12 | E15: 372.91.175 | F15: 372.91.176 | G15: C | H15: 6 | I15: 7.1 | J15: 3 | K15: 1 | L15: =M8 -> 200 | M15: 225 | N15: 372.91.482 | O15: 372.91.472
A16: =IF(AND($M$2>L16,$M$2<=M16),IF(AND($I$2>=H16,$I$2<I16),IF(E16=$K$2,J16,"-"),"-"),"-") -> - | B16: =IF(A16<>"-",ABS((FFP29Вес-H16)/(I16-H16)*2-1),"-") -> - | D16: 13 | E16: 372.91.175 | F16: 372.91.176 | G16: C | H16: 7.1 | I16: 11.6 | J16: 2 | K16: 2 | L16: =M9 -> 200 | M16: 225 | N16: 372.91.481 | O16: 372.91.471
A17: =IF(AND($M$2>L17,$M$2<=M17),IF(AND($I$2>=H17,$I$2<I17),IF(E17=$K$2,J17,"-"),"-"),"-") -> - | B17: =IF(A17<>"-",ABS((FFP30Вес-H17)/(I17-H17)*2-1),"-") -> - | D17: 14 | E17: 372.91.175 | F17: 372.91.176 | G17: C | H17: 11.6 | I17: 13.1 | J17: 3 | K17: 2 | L17: =M10 -> 200 | M17: 225 | N17: 372.91.482 | O17: 372.91.472
A18: =IF(AND($M$2>L18,$M$2<=M18),IF(AND($I$2>=H18,$I$2<I18),IF(E18=$K$2,J18,"-"),"-"),"-") -> - | B18: =IF(A18<>"-",ABS((FFP31Вес-H18)/(I18-H18)*2-1),"-") -> - | D18: 15 | E18: 372.91.171 | F18: 372.91.172 | G18: A | H18: 1.3 | I18: 3.1 | J18: 1 | K18: 1 | L18: =M11 -> 225 | M18: =M11+25 -> 250 | N18: 372.91.480 | O18: 372.91.470
A19: =IF(AND($M$2>L19,$M$2<=M19),IF(AND($I$2>=H19,$I$2<I19),IF(E19=$K$2,J19,"-"),"-"),"-") -> - | B19: =IF(A19<>"-",ABS((FFP32Вес-H19)/(I19-H19)*2-1),"-") -> - | D19: 16 | E19: 372.91.171 | F19: 372.91.172 | G19: A | H19: 3.1 | I19: 3.8 | J19: 2 | K19: 1 | L19: =M12 -> 225 | M19: =M12+25 -> 250 | N19: 372.91.481 | O19: 372.91.471
A20: =IF(AND($M$2>L20,$M$2<=M20),IF(AND($I$2>=H20,$I$2<I20),IF(E20=$K$2,J20,"-"),"-"),"-") -> - | B20: =IF(A20<>"-",ABS((FFP33Вес-H20)/(I20-H20)*2-1),"-") -> - | D20: 17 | E20: 372.91.173 | F20: 372.91.174 | G20: B | H20: 2.9 | I20: 5.1 | J20: 2 | K20: 1 | L20: =M13 -> 225 | M20: =M13+25 -> 250 | N20: 372.91.481 | O20: 372.91.471
A21: =IF(AND($M$2>L21,$M$2<=M21),IF(AND($I$2>=H21,$I$2<I21),IF(E21=$K$2,J21,"-"),"-"),"-") -> - | B21: =IF(A21<>"-",ABS((FFP34Вес-H21)/(I21-H21)*2-1),"-") -> - | D21: 18 | E21: 372.91.173 | F21: 372.91.174 | G21: B | H21: 5.1 | I21: 6.4 | J21: 3 | K21: 1 | L21: =M14 -> 225 | M21: =M14+25 -> 250 | N21: 372.91.482 | O21: 372.91.472
A22: =IF(AND($M$2>L22,$M$2<=M22),IF(AND($I$2>=H22,$I$2<I22),IF(E22=$K$2,J22,"-"),"-"),"-") -> - | B22: =IF(A22<>"-",ABS((FFP35Вес-H22)/(I22-H22)*2-1),"-") -> - | D22: 19 | E22: 372.91.175 | F22: 372.91.176 | G22: C | H22: 5.4 | I22: 6.9 | J22: 3 | K22: 1 | L22: =M15 -> 225 | M22: =M15+25 -> 250 | N22: 372.91.482 | O22: 372.91.472
A23: =IF(AND($M$2>L23,$M$2<=M23),IF(AND($I$2>=H23,$I$2<I23),IF(E23=$K$2,J23,"-"),"-"),"-") -> - | B23: =IF(A23<>"-",ABS((FFP36Вес-H23)/(I23-H23)*2-1),"-") -> - | D23: 20 | E23: 372.91.175 | F23: 372.91.176 | G23: C | H23: 6.9 | I23: 10.5 | J23: 2 | K23: 2 | L23: =M16 -> 225 | M23: =M16+25 -> 250 | N23: 372.91.481 | O23: 372.91.471
A24: =IF(AND($M$2>L24,$M$2<=M24),IF(AND($I$2>=H24,$I$2<I24),IF(E24=$K$2,J24,"-"),"-"),"-") -> - | B24: =IF(A24<>"-",ABS((FFP37Вес-H24)/(I24-H24)*2-1),"-") -> - | D24: 21 | E24: 372.91.175 | F24: 372.91.176 | G24: C | H24: 10.5 | I24: 11.8 | J24: 3 | K24: 2 | L24: =M17 -> 225 | M24: =M17+25 -> 250 | N24: 372.91.482 | O24: 372.91.472
A25: =IF(AND($M$2>L25,$M$2<=M25),IF(AND($I$2>=H25,$I$2<I25),IF(E25=$K$2,J25,"-"),"-"),"-") -> - | B25: =IF(A25<>"-",ABS((FFP38Вес-H25)/(I25-H25)*2-1),"-") -> - | D25: 22 | E25: 372.91.171 | F25: 372.91.172 | G25: A | H25: 1.2 | I25: 3 | J25: 1 | K25: 1 | L25: =M18 -> 250 | M25: =M18+25 -> 275 | N25: 372.91.480 | O25: 372.91.470
A26: =IF(AND($M$2>L26,$M$2<=M26),IF(AND($I$2>=H26,$I$2<I26),IF(E26=$K$2,J26,"-"),"-"),"-") -> - | B26: =IF(A26<>"-",ABS((FFP39Вес-H26)/(I26-H26)*2-1),"-") -> - | D26: 23 | E26: 372.91.171 | F26: 372.91.172 | G26: A | H26: 3 | I26: 3.3 | J26: 2 | K26: 1 | L26: =M19 -> 250 | M26: =M19+25 -> 275 | N26: 372.91.481 | O26: 372.91.471
A27: =IF(AND($M$2>L27,$M$2<=M27),IF(AND($I$2>=H27,$I$2<I27),IF(E27=$K$2,J27,"-"),"-"),"-") -> - | B27: =IF(A27<>"-",ABS((FFP40Вес-H27)/(I27-H27)*2-1),"-") -> - | D27: 24 | E27: 372.91.173 | F27: 372.91.174 | G27: B | H27: 2.5 | I27: 3.3 | J27: 1 | K27: 1 | L27: =M20 -> 250 | M27: =M20+25 -> 275 | N27: 372.91.480 | O27: 372.91.470
A28: =IF(AND($M$2>L28,$M$2<=M28),IF(AND($I$2>=H28,$I$2<I28),IF(E28=$K$2,J28,"-"),"-"),"-") -> - | B28: =IF(A28<>"-",ABS((FFP41Вес-H28)/(I28-H28)*2-1),"-") -> - | D28: 25 | E28: 372.91.173 | F28: 372.91.174 | G28: B | H28: 3.3 | I28: 5 | J28: 2 | K28: 1 | L28: =M21 -> 250 | M28: =M21+25 -> 275 | N28: 372.91.481 | O28: 372.91.471
A29: =IF(AND($M$2>L29,$M$2<=M29),IF(AND($I$2>=H29,$I$2<I29),IF(E29=$K$2,J29,"-"),"-"),"-") -> - | B29: =IF(A29<>"-",ABS((FFP42Вес-H29)/(I29-H29)*2-1),"-") -> - | D29: 26 | E29: 372.91.173 | F29: 372.91.174 | G29: B | H29: 5 | I29: 5.7 | J29: 3 | K29: 1 | L29: =M22 -> 250 | M29: =M22+25 -> 275 | N29: 372.91.482 | O29: 372.91.472
... A32: =IF(AND($M$2>L32,$M$2<=M32),IF(AND($I$2>=H32,$I$2<I32),IF(E32=$K$2,J32,"-"),"-"),"-") -> - | B32: =IF(A32<>"-",ABS((FFP45Вес-H32)/(I32-H32)*2-1),"-") -> - | D32: 29 | E32: 372.91.175 | F32: 372.91.176 | G32: C | H32: 10 | I32: 10.6 | J32: 3 | K32: 2 | L32: =M25 -> 275 | M32: =M25+25 -> 300 | N32: 372.91.482 | O32: 372.91.472
A33: =IF(AND($M$2>L33,$M$2<=M33),IF(AND($I$2>=H33,$I$2<I33),IF(E33=$K$2,J33,"-"),"-"),"-") -> - | B33: =IF(A33<>"-",ABS((FFP46Вес-H33)/(I33-H33)*2-1),"-") -> - | D33: 30 | E33: 372.91.171 | F33: 372.91.172 | G33: A | H33: 1.1 | I33: 2.7 | J33: 1 | K33: 1 | L33: =M25 -> 275 | M33: =M25+25 -> 300 | N33: 372.91.480 | O33: 372.91.470
A34: =IF(AND($M$2>L34,$M$2<=M34),IF(AND($I$2>=H34,$I$2<I34),IF(E34=$K$2,J34,"-"),"-"),"-") -> - | B34: =IF(A34<>"-",ABS((FFP47Вес-H34)/(I34-H34)*2-1),"-") -> - | D34: 31 | E34: 372.91.171 | F34: 372.91.172 | G34: A | H34: 2.7 | I34: 3.1 | J34: 1 | K34: 1 | L34: =M26 -> 275 | M34: =M26+25 -> 300 | N34: 372.91.480 | O34: 372.91.470
A35: =IF(AND($M$2>L35,$M$2<=M35),IF(AND($I$2>=H35,$I$2<I35),IF(E35=$K$2,J35,"-"),"-"),"-") -> - | B35: =IF(A35<>"-",ABS((FFP48Вес-H35)/(I35-H35)*2-1),"-") -> - | D35: 32 | E35: 372.91.173 | F35: 372.91.174 | G35: B | H35: 2.4 | I35: 3 | J35: 1 | K35: 1 | L35: =M27 -> 275 | M35: =M27+25 -> 300 | N35: 372.91.480 | O35: 372.91.470
A36: =IF(AND($M$2>L36,$M$2<=M36),IF(AND($I$2>=H36,$I$2<I36),IF(E36=$K$2,J36,"-"),"-"),"-") -> - | B36: =IF(A36<>"-",ABS((FFP17Вес-H36)/(I36-H36)*2-1),"-") -> - | D36: 33 | E36: 372.91.173 | F36: 372.91.174 | G36: B | H36: 3 | I36: 4.6 | J36: 2 | K36: 1 | L36: =M28 -> 275 | M36: =M28+25 -> 300 | N36: 372.91.481 | O36: 372.91.471
A37: =IF(AND($M$2>L37,$M$2<=M37),IF(AND($I$2>=H37,$I$2<I37),IF(E37=$K$2,J37,"-"),"-"),"-") -> - | B37: =IF(A37<>"-",ABS((FFP18Вес-H37)/(I37-H37)*2-1),"-") -> - | D37: 34 | E37: 372.91.173 | F37: 372.91.174 | G37: B | H37: 4.6 | I37: 5.1 | J37: 3 | K37: 1 | L37: =M29 -> 275 | M37: =M29+25 -> 300 | N37: 372.91.482 | O37: 372.91.472
A38: =IF(AND($M$2>L38,$M$2<=M38),IF(AND($I$2>=H38,$I$2<I38),IF(E38=$K$2,J38,"-"),"-"),"-") -> - | B38: =IF(A38<>"-",ABS((FFP19Вес-H38)/(I38-H38)*2-1),"-") -> - | D38: 35 | E38: 372.91.175 | F38: 372.91.176 | G38: C | H38: 4.4 | I38: 6.6 | J38: 3 | K38: 1 | L38: =M30 -> 275 | M38: =M30+25 -> 300 | N38: 372.91.482 | O38: 372.91.472
A39: =IF(AND($M$2>L39,$M$2<=M39),IF(AND($I$2>=H39,$I$2<I39),IF(E39=$K$2,J39,"-"),"-"),"-") -> - | B39: =IF(A39<>"-",ABS((FFP20Вес-H39)/(I39-H39)*2-1),"-") -> - | D39: 36 | E39: 372.91.175 | F39: 372.91.176 | G39: C | H39: 6.6 | I39: 9.6 | J39: 2 | K39: 2 | L39: =M31 -> 275 | M39: =M31+25 -> 300 | N39: 372.91.481 | O39: 372.91.471
A40: =IF(AND($M$2>L40,$M$2<=M40),IF(AND($I$2>=H40,$I$2<I40),IF(E40=$K$2,J40,"-"),"-"),"-") -> - | B40: =IF(A40<>"-",ABS((FFP21Вес-H40)/(I40-H40)*2-1),"-") -> - | D40: 37 | E40: 372.91.171 | F40: 372.91.172 | G40: A | H40: 1 | I40: 2.6 | J40: 1 | K40: 1 | L40: =M33 -> 300 | M40: =M33+25 -> 325 | N40: 372.91.480 | O40: 372.91.470
A41: =IF(AND($M$2>L41,$M$2<=M41),IF(AND($I$2>=H41,$I$2<I41),IF(E41=$K$2,J41,"-"),"-"),"-") -> - | B41: =IF(A41<>"-",ABS((FFP22Вес-H41)/(I41-H41)*2-1),"-") -> - | D41: 38 | E41: 372.91.171 | F41: 372.91.172 | G41: A | H41: 2.6 | I41: 2.8 | J41: 2 | K41: 1 | L41: =M34 -> 300 | M41: =M34+25 -> 325 | N41: 372.91.481 | O41: 372.91.471
A42: =IF(AND($M$2>L42,$M$2<=M42),IF(AND($I$2>=H42,$I$2<I42),IF(E42=$K$2,J42,"-"),"-"),"-") -> - | B42: =IF(A42<>"-",ABS((FFP23Вес-H42)/(I42-H42)*2-1),"-") -> - | D42: 39 | E42: 372.91.173 | F42: 372.91.174 | G42: B | H42: 2.1 | I42: 3 | J42: 1 | K42: 1 | L42: =M35 -> 300 | M42: =M35+25 -> 325 | N42: 372.91.480 | O42: 372.91.470
A43: =IF(AND($M$2>L43,$M$2<=M43),IF(AND($I$2>=H43,$I$2<I43),IF(E43=$K$2,J43,"-"),"-"),"-") -> - | B43: =IF(A43<>"-",ABS((FFP24Вес-H43)/(I43-H43)*2-1),"-") -> - | D43: 40 | E43: 372.91.173 | F43: 372.91.174 | G43: B | H43: 3 | I43: 4.2 | J43: 1 | K43: 1 | L43: =M36 -> 300 | M43: =M36+25 -> 325 | N43: 372.91.480 | O43: 372.91.470
A44: =IF(AND($M$2>L44,$M$2<=M44),IF(AND($I$2>=H44,$I$2<I44),IF(E44=$K$2,J44,"-"),"-"),"-") -> - | B44: =IF(A44<>"-",ABS((FFP25Вес-H44)/(I44-H44)*2-1),"-") -> - | D44: 41 | E44: 372.91.173 | F44: 372.91.174 | G44: B | H44: 4.2 | I44: 4.6 | J44: 1 | K44: 1 | L44: =M37 -> 300 | M44: =M37+25 -> 325 | N44: 372.91.480 | O44: 372.91.470
A45: =IF(AND($M$2>L45,$M$2<=M45),IF(AND($I$2>=H45,$I$2<I45),IF(E45=$K$2,J45,"-"),"-"),"-") -> - | B45: =IF(A45<>"-",ABS((FFP26Вес-H45)/(I45-H45)*2-1),"-") -> - | D45: 42 | E45: 372.91.175 | F45: 372.91.176 | G45: C | H45: 4 | I45: 6 | J45: 3 | K45: 1 | L45: =M38 -> 300 | M45: =M38+25 -> 325 | N45: 372.91.482 | O45: 372.91.472
A46: =IF(AND($M$2>L46,$M$2<=M46),IF(AND($I$2>=H46,$I$2<I46),IF(E46=$K$2,J46,"-"),"-"),"-") -> - | B46: =IF(A46<>"-",ABS((FFP27Вес-H46)/(I46-H46)*2-1),"-") -> - | D46: 43 | E46: 372.91.175 | F46: 372.91.176 | G46: C | H46: 6 | I46: 8.8 | J46: 2 | K46: 2 | L46: =M39 -> 300 | M46: =M39+25 -> 325 | N46: 372.91.481 | O46: 372.91.471
A47: =IF(AND($M$2>L47,$M$2<=M47),IF(AND($I$2>=H47,$I$2<I47),IF(E47=$K$2,J47,"-"),"-"),"-") -> - | B47: =IF(A47<>"-",ABS((FFP28Вес-H47)/(I47-H47)*2-1),"-") -> - | D47: 44 | E47: 372.91.171 | F47: 372.91.172 | G47: A | H47: 0.9 | I47: 2.4 | J47: 1 | K47: 1 | L47: =M40 -> 325 | M47: =M40+25 -> 350 | N47: 372.91.480 | O47: 372.91.470
A48: =IF(AND($M$2>L48,$M$2<=M48),IF(AND($I$2>=H48,$I$2<I48),IF(E48=$K$2,J48,"-"),"-"),"-") -> - | B48: =IF(A48<>"-",ABS((FFP29Вес-H48)/(I48-H48)*2-1),"-") -> - | D48: 45 | E48: 372.91.171 | F48: 372.91.172 | G48: A | H48: 2.4 | I48: 2.6 | J48: 2 | K48: 1 | L48: =M41 -> 325 | M48: =M41+25 -> 350 | N48: 372.91.481 | O48: 372.91.471
A49: =IF(AND($M$2>L49,$M$2<=M49),IF(AND($I$2>=H49,$I$2<I49),IF(E49=$K$2,J49,"-"),"-"),"-") -> - | B49: =IF(A49<>"-",ABS((FFP30Вес-H49)/(I49-H49)*2-1),"-") -> - | D49: 46 | E49: 372.91.173 | F49: 372.91.174 | G49: B | H49: 2 | I49: 2.9 | J49: 1 | K49: 1 | L49: =M42 -> 325 | M49: =M42+25 -> 350 | N49: 372.91.480 | O49: 372.91.470
A50: =IF(AND($M$2>L50,$M$2<=M50),IF(AND($I$2>=H50,$I$2<I50),IF(E50=$K$2,J50,"-"),"-"),"-") -> - | B50: =IF(A50<>"-",ABS((FFP31Вес-H50)/(I50-H50)*2-1),"-") -> - | D50: 47 | E50: 372.91.173 | F50: 372.91.174 | G50: B | H50: 2.9 | I50: 4.2 | J50: 2 | K50: 1 | L50: =M43 -> 325 | M50: =M43+25 -> 350 | N50: 372.91.481 | O50: 372.91.471
A51: =IF(AND($M$2>L51,$M$2<=M51),IF(AND($I$2>=H51,$I$2<I51),IF(E51=$K$2,J51,"-"),"-"),"-") -> - | B51: =IF(A51<>"-",ABS((FFP32Вес-H51)/(I51-H51)*2-1),"-") -> - | D51: 48 | E51: 372.91.175 | F51: 372.91.176 | G51: C | H51: 3.7 | I51: 3.9 | J51: 2 | K51: 1 | L51: =M45 -> 325 | M51: =M45+25 -> 350 | N51: 372.91.481 | O51: 372.91.471
A52: =IF(AND($M$2>L52,$M$2<=M52),IF(AND($I$2>=H52,$I$2<I52),IF(E52=$K$2,J52,"-"),"-"),"-") -> - | B52: =IF(A52<>"-",ABS((FFP33Вес-H52)/(I52-H52)*2-1),"-") -> - | D52: 49 | E52: 372.91.175 | F52: 372.91.176 | G52: C | H52: 3.9 | I52: 5.9 | J52: 3 | K52: 1 | L52: =M46 -> 325 | M52: =M46+25 -> 350 | N52: 372.91.482 | O52: 372.91.472
A53: =IF(AND($M$2>L53,$M$2<=M53),IF(AND($I$2>=H53,$I$2<I53),IF(E53=$K$2,J53,"-"),"-"),"-") -> - | B53: =IF(A53<>"-",ABS((FFP34Вес-H53)/(I53-H53)*2-1),"-") -> - | D53: 50 | E53: 372.91.175 | F53: 372.91.176 | G53: C | H53: 5.9 | I53: 8.1 | J53: 2 | K53: 2 | L53: 325 | M53: 350 | N53: 372.91.481 | O53: 372.91.471
A54: =IF(AND($M$2>L54,$M$2<=M54),IF(AND($I$2>=H54,$I$2<I54),IF(E54=$K$2,J54,"-"),"-"),"-") -> - | B54: =IF(A54<>"-",ABS((FFP35Вес-H54)/(I54-H54)*2-1),"-") -> - | D54: 51 | E54: 372.91.171 | F54: 372.91.172 | G54: A | H54: 0.9 | I54: 2.3 | J54: 1 | K54: 1 | L54: =M47 -> 350 | M54: =M47+25 -> 375 | N54: 372.91.480 | O54: 372.91.470
A55: =IF(AND($M$2>L55,$M$2<=M55),IF(AND($I$2>=H55,$I$2<I55),IF(E55=$K$2,J55,"-"),"-"),"-") -> - | B55: =IF(A55<>"-",ABS((FFP36Вес-H55)/(I55-H55)*2-1),"-") -> - | D55: 52 | E55: 372.91.173 | F55: 372.91.174 | G55: B | H55: 1.9 | I55: 2.7 | J55: 1 | K55: 1 | L55: =M49 -> 350 | M55: =M49+25 -> 375 | N55: 372.91.480 | O55: 372.91.470
A56: =IF(AND($M$2>L56,$M$2<=M56),IF(AND($I$2>=H56,$I$2<I56),IF(E56=$K$2,J56,"-"),"-"),"-") -> - | B56: =IF(A56<>"-",ABS((FFP37Вес-H56)/(I56-H56)*2-1),"-") -> - | D56: 53 | E56: 372.91.173 | F56: 372.91.174 | G56: B | H56: 2.7 | I56: 3.8 | J56: 2 | K56: 1 | L56: =M50 -> 350 | M56: =M50+25 -> 375 | N56: 372.91.481 | O56: 372.91.471
A57: =IF(AND($M$2>L57,$M$2<=M57),IF(AND($I$2>=H57,$I$2<I57),IF(E57=$K$2,J57,"-"),"-"),"-") -> - | B57: =IF(A57<>"-",ABS((FFP38Вес-H57)/(I57-H57)*2-1),"-") -> - | D57: 54 | E57: 372.91.175 | F57: 372.91.176 | G57: C | H57: 3.5 | I57: 3.9 | J57: 2 | K57: 1 | L57: =M51 -> 350 | M57: =M51+25 -> 375 | N57: 372.91.481 | O57: 372.91.471
A58: =IF(AND($M$2>L58,$M$2<=M58),IF(AND($I$2>=H58,$I$2<I58),IF(E58=$K$2,J58,"-"),"-"),"-") -> - | B58: =IF(A58<>"-",ABS((FFP39Вес-H58)/(I58-H58)*2-1),"-") -> - | D58: 55 | E58: 372.91.175 | F58: 372.91.176 | G58: C | H58: 3.9 | I58: 5.7 | J58: 3 | K58: 1 | L58: =M52 -> 350 | M58: =M52+25 -> 375 | N58: 372.91.482 | O58: 372.91.472
A59: =IF(AND($M$2>L59,$M$2<=M59),IF(AND($I$2>=H59,$I$2<I59),IF(E59=$K$2,J59,"-"),"-"),"-") -> - | B59: =IF(A59<>"-",ABS((FFP40Вес-H59)/(I59-H59)*2-1),"-") -> - | D59: 56 | E59: 372.91.175 | F59: 372.91.176 | G59: C | H59: 5.7 | I59: 7.5 | J59: 2 | K59: 2 | L59: =M53 -> 350 | M59: =M53+25 -> 375 | N59: 372.91.481 | O59: 372.91.471
A60: =IF(AND($M$2>L60,$M$2<=M60),IF(AND($I$2>=H60,$I$2<I60),IF(E60=$K$2,J60,"-"),"-"),"-") -> - | B60: =IF(A60<>"-",ABS((FFP41Вес-H60)/(I60-H60)*2-1),"-") -> - | D60: 57 | E60: 372.91.171 | F60: 372.91.172 | G60: A | H60: 0.8 | I60: 2.1 | J60: 1 | K60: 1 | L60: =M54 -> 375 | M60: =M54+25 -> 400 | N60: 372.91.480 | O60: 372.91.470
A61: =IF(AND($M$2>L61,$M$2<=M61),IF(AND($I$2>=H61,$I$2<I61),IF(E61=$K$2,J61,"-"),"-"),"-") -> - | B61: =IF(A61<>"-",ABS((FFP42Вес-H61)/(I61-H61)*2-1),"-") -> - | D61: 58 | E61: 372.91.173 | F61: 372.91.174 | G61: B | H61: 1.7 | I61: 2.7 | J61: 1 | K61: 1 | L61: =M55 -> 375 | M61: =M55+25 -> 400 | N61: 372.91.480 | O61: 372.91.470
A62: =IF(AND($M$2>L62,$M$2<=M62),IF(AND($I$2>=H62,$I$2<I62),IF(E62=$K$2,J62,"-"),"-"),"-") -> - | B62: =IF(A62<>"-",ABS((FFP43Вес-H62)/(I62-H62)*2-1),"-") -> - | D62: 59 | E62: 372.91.173 | F62: 372.91.174 | G62: B | H62: 2.7 | I62: 3.6 | J62: 2 | K62: 1 | L62: =M56 -> 375 | M62: =M56+25 -> 400 | N62: 372.91.481 | O62: 372.91.471
A63: =IF(AND($M$2>L63,$M$2<=M63),IF(AND($I$2>=H63,$I$2<I63),IF(E63=$K$2,J63,"-"),"-"),"-") -> - | B63: =IF(A63<>"-",ABS((FFP44Вес-H63)/(I63-H63)*2-1),"-") -> - | D63: 60 | E63: 372.91.175 | F63: 372.91.176 | G63: C | H63: 3.2 | I63: 3.8 | J63: 2 | K63: 1 | L63: =M57 -> 375 | M63: =M57+25 -> 400 | N63: 372.91.481 | O63: 372.91.471
A64: =IF(AND($M$2>L64,$M$2<=M64),IF(AND($I$2>=H64,$I$2<I64),IF(E64=$K$2,J64,"-"),"-"),"-") -> 3 | B64: =IF(A64<>"-",ABS((FFP45Вес-H64)/(I64-H64)*2-1),"-") -> 0.24711111 | D64: 61 | E64: 372.91.175 | F64: 372.91.176 | G64: C | H64: 3.8 | I64: 5.6 | J64: 3 | K64: 1 | L64: =M58 -> 375 | M64: =M58+25 -> 400 | N64: 372.91.482 | O64: 372.91.472
A65: =IF(AND($M$2>L65,$M$2<=M65),IF(AND($I$2>=H65,$I$2<I65),IF(E65=$K$2,J65,"-"),"-"),"-") -> - | B65: =IF(A65<>"-",ABS((FFP46Вес-H65)/(I65-H65)*2-1),"-") -> - | D65: 62 | E65: 372.91.175 | F65: 372.91.176 | G65: C | H65: 5.6 | I65: 7 | J65: 2 | K65: 2 | L65: =M59 -> 375 | M65: =M59+25 -> 400 | N65: 372.91.481 | O65: 372.91.471
A66: =IF(AND($M$2>L66,$M$2<=M66),IF(AND($I$2>=H66,$I$2<I66),IF(E66=$K$2,J66,"-"),"-"),"-") -> - | B66: =IF(A66<>"-",ABS((FFP47Вес-H66)/(I66-H66)*2-1),"-") -> - | D66: 63 | E66: 372.91.171 | F66: 372.91.172 | G66: A | H66: 0.7 | I66: 1.9 | J66: 1 | K66: 1 | L66: =M60 -> 400 | M66: =M60+25 -> 425 | N66: 372.91.480 | O66: 372.91.470
A67: =IF(AND($M$2>L67,$M$2<=M67),IF(AND($I$2>=H67,$I$2<I67),IF(E67=$K$2,J67,"-"),"-"),"-") -> - | B67: =IF(A67<>"-",ABS((FFP48Вес-H67)/(I67-H67)*2-1),"-") -> - | D67: 64 | E67: 372.91.173 | F67: 372.91.174 | G67: B | H67: 1.5 | I67: 2.3 | J67: 1 | K67: 1 | L67: =M61 -> 400 | M67: =M61+25 -> 425 | N67: 372.91.480 | O67: 372.91.470
A68: =IF(AND($M$2>L68,$M$2<=M68),IF(AND($I$2>=H68,$I$2<I68),IF(E68=$K$2,J68,"-"),"-"),"-") -> - | B68: =IF(A68<>"-",ABS((FFP17Вес-H68)/(I68-H68)*2-1),"-") -> - | D68: 65 | E68: 372.91.173 | F68: 372.91.174 | G68: B | H68: 2.3 | I68: 4 | J68: 2 | K68: 1 | L68: =M62 -> 400 | M68: =M62+25 -> 425 | N68: 372.91.481 | O68: 372.91.471
A69: =IF(AND($M$2>L69,$M$2<=M69),IF(AND($I$2>=H69,$I$2<I69),IF(E69=$K$2,J69,"-"),"-"),"-") -> - | B69: =IF(A69<>"-",ABS((FFP18Вес-H69)/(I69-H69)*2-1),"-") -> - | D69: 66 | E69: 372.91.175 | F69: 372.91.176 | G69: C | H69: 2.9 | I69: 4 | J69: 2 | K69: 1 | L69: =M63 -> 400 | M69: =M63+25 -> 425 | N69: 372.91.481 | O69: 372.91.471
A70: =IF(AND($M$2>L70,$M$2<=M70),IF(AND($I$2>=H70,$I$2<I70),IF(E70=$K$2,J70,"-"),"-"),"-") -> - | B70: =IF(A70<>"-",ABS((FFP19Вес-H70)/(I70-H70)*2-1),"-") -> - | D70: 67 | E70: 372.91.175 | F70: 372.91.176 | G70: C | H70: 4 | I70: 5 | J70: 3 | K70: 1 | L70: =M64 -> 400 | M70: =M64+25 -> 425 | N70: 372.91.482 | O70: 372.91.472
A71: =IF(AND($M$2>L71,$M$2<=M71),IF(AND($I$2>=H71,$I$2<I71),IF(E71=$K$2,J71,"-"),"-"),"-") -> - | B71: =IF(A71<>"-",ABS((FFP20Вес-H71)/(I71-H71)*2-1),"-") -> - | D71: 68 | E71: 372.91.175 | F71: 372.91.176 | G71: C | H71: 5 | I71: 6.5 | J71: 2 | K71: 2 | L71: =M65 -> 400 | M71: =M65+25 -> 425 | N71: 372.91.481 | O71: 372.91.471
A72: =IF(AND($M$2>L72,$M$2<=M72),IF(AND($I$2>=H72,$I$2<I72),IF(E72=$K$2,J72,"-"),"-"),"-") -> - | B72: =IF(A72<>"-",ABS((FFP21Вес-H72)/(I72-H72)*2-1),"-") -> - | D72: 69 | E72: 372.91.171 | F72: 372.91.172 | G72: A | H72: 0.6 | I72: 1.7 | J72: 1 | K72: 1 | L72: =M66 -> 425 | M72: =M66+25 -> 450 | N72: 372.91.480 | O72: 372.91.470
A73: =IF(AND($M$2>L73,$M$2<=M73),IF(AND($I$2>=H73,$I$2<I73),IF(E73=$K$2,J73,"-"),"-"),"-") -> - | B73: =IF(A73<>"-",ABS((FFP22Вес-H73)/(I73-H73)*2-1),"-") -> - | D73: 70 | E73: 372.91.173 | F73: 372.91.174 | G73: B | H73: 1.4 | I73: 2.4 | J73: 1 | K73: 1 | L73: =M67 -> 425 | M73: =M67+25 -> 450 | N73: 372.91.480 | O73: 372.91.470
A74: =IF(AND($M$2>L74,$M$2<=M74),IF(AND($I$2>=H74,$I$2<I74),IF(E74=$K$2,J74,"-"),"-"),"-") -> - | B74: =IF(A74<>"-",ABS((FFP23Вес-H74)/(I74-H74)*2-1),"-") -> - | D74: 71 | E74: 372.91.173 | F74: 372.91.174 | G74: B | H74: 2.4 | I74: 3.2 | J74: 2 | K74: 1 | L74: =M68 -> 425 | M74: =M68+25 -> 450 | N74: 372.91.481 | O74: 372.91.471
A75: =IF(AND($M$2>L75,$M$2<=M75),IF(AND($I$2>=H75,$I$2<I75),IF(E75=$K$2,J75,"-"),"-"),"-") -> - | B75: =IF(A75<>"-",ABS((FFP24Вес-H75)/(I75-H75)*2-1),"-") -> - | D75: 72 | E75: 372.91.175 | F75: 372.91.176 | G75: C | H75: 2.7 | I75: 3.3 | J75: 2 | K75: 1 | L75: =M69 -> 425 | M75: =M69+25 -> 450 | N75: 372.91.481 | O75: 372.91.471
A76: =IF(AND($M$2>L76,$M$2<=M76),IF(AND($I$2>=H76,$I$2<I76),IF(E76=$K$2,J76,"-"),"-"),"-") -> - | B76: =IF(A76<>"-",ABS((FFP25Вес-H76)/(I76-H76)*2-1),"-") -> - | D76: 73 | E76: 372.91.175 | F76: 372.91.176 | G76: C | H76: 3.3 | I76: 5.1 | J76: 3 | K76: 1 | L76: =M70 -> 425 | M76: =M70+25 -> 450 | N76: 372.91.482 | O76: 372.91.472
A77: =IF(AND($M$2>L77,$M$2<=M77),IF(AND($I$2>=H77,$I$2<I77),IF(E77=$K$2,J77,"-"),"-"),"-") -> - | B77: =IF(A77<>"-",ABS((FFP26Вес-H77)/(I77-H77)*2-1),"-") -> - | D77: 74 | E77: 372.91.175 | F77: 372.91.176 | G77: C | H77: 5.1 | I77: 6.1 | J77: 2 | K77: 2 | L77: =M71 -> 425 | M77: =M71+25 -> 450 | N77: 372.91.481 | O77: 372.91.471
G80: FREE FLAP 3.5 | H80: вес | I80: =FFP315Вес -> 8.5474 | J80: Модель | K80: =FreeFlap!E47 -> 372.91.245 | L80: высота | M80: =FFP315Высота -> 650 | N80: Тип толкателя | O80: =FreeFlap!K42 -> Врезной
E81: 1 | F81: 2 | G81: Модель | H81: от | I81: до | J81: Тип толк-ля | K81: Кол-во | L81: от | M81: до | N81: Врезной | O81: Накладной
A82: =IF(AND($M$80>L82,$M$80<=M82),IF(AND($I$80>=H82,$I$80<I82),IF(E82=$K$80,J82,"-"),"-"),"-") -> - | B82: =IF(A82<>"-",ABS((FFP315Вес-H82)/(I82-H82)*2-1),"-") -> - | D82: 1 | E82: 372.91.241 | F82: 372.91.242 | G82: D | H82: 5.2 | I82: 8.1 | J82: 2 | K82: 1 | L82: 0 | M82: 350 | N82: 372.91.481 | O82: 372.91.471
A83: =IF(AND($M$80>L83,$M$80<=M83),IF(AND($I$80>=H83,$I$80<I83),IF(E83=$K$80,J83,"-"),"-"),"-") -> - | B83: =IF(A83<>"-",ABS((FFP316Вес-H83)/(I83-H83)*2-1),"-") -> - | D83: 2 | E83: 372.91.241 | F83: 372.91.242 | G83: D | H83: =I82 -> 8.1 | I83: 11 | J83: 3 | K83: 1 | L83: 0 | M83: 350 | N83: 372.91.481 | O83: 372.91.471
A84: =IF(AND($M$80>L84,$M$80<=M84),IF(AND($I$80>=H84,$I$80<I84),IF(E84=$K$80,J84,"-"),"-"),"-") -> - | B84: =IF(A84<>"-",ABS((FFP317Вес-H84)/(I84-H84)*2-1),"-") -> - | D84: 3 | E84: 372.91.245 | F84: 372.91.246 | G84: E | H84: 6.7 | I84: 11.8 | J84: 3 | K84: 1 | L84: 0 | M84: 350 | N84: 372.91.481 | O84: 372.91.471
A85: =IF(AND($M$80>L85,$M$80<=M85),IF(AND($I$80>=H85,$I$80<I85),IF(E85=$K$80,J85,"-"),"-"),"-") -> - | B85: =IF(A85<>"-",ABS((FFP318Вес-H85)/(I85-H85)*2-1),"-") -> - | D85: 4 | E85: 372.91.245 | F85: 372.91.246 | G85: E | H85: =I84 -> 11.8 | I85: 14.3 | J85: 2 | K85: 2 | L85: 0 | M85: 350 | N85: 372.91.481 | O85: 372.91.471
A86: =IF(AND($M$80>L86,$M$80<=M86),IF(AND($I$80>=H86,$I$80<I86),IF(E86=$K$80,J86,"-"),"-"),"-") -> - | B86: =IF(A86<>"-",ABS((FFP319Вес-H86)/(I86-H86)*2-1),"-") -> - | D86: 5 | E86: 372.91.245 | F86: 372.91.246 | G86: F | H86: 10.1 | I86: 17.9 | J86: 2 | K86: 2 | L86: 0 | M86: 350 | N86: 372.91.481 | O86: 372.91.471
A87: =IF(AND($M$80>L87,$M$80<=M87),IF(AND($I$80>=H87,$I$80<I87),IF(E87=$K$80,J87,"-"),"-"),"-") -> - | B87: =IF(A87<>"-",ABS((FFP320Вес-H87)/(I87-H87)*2-1),"-") -> - | D87: 6 | E87: 372.91.245 | F87: 372.91.246 | G87: F | H87: =I86 -> 17.9 | I87: 21.4 | J87: 3 | K87: 2 | L87: 0 | M87: 350 | N87: 372.91.481 | O87: 372.91.471
A88: =IF(AND($M$80>L88,$M$80<=M88),IF(AND($I$80>=H88,$I$80<I88),IF(E88=$K$80,J88,"-"),"-"),"-") -> - | B88: =IF(A88<>"-",ABS((FFP321Вес-H88)/(I88-H88)*2-1),"-") -> - | D88: 7 | E88: 372.91.247 | F88: 372.91.248 | G88: G | H88: 13.5 | I88: 18.1 | J88: 2 | K88: 2 | L88: 0 | M88: 350 | N88: 372.91.481 | O88: 372.91.471
A89: =IF(AND($M$80>L89,$M$80<=M89),IF(AND($I$80>=H89,$I$80<I89),IF(E89=$K$80,J89,"-"),"-"),"-") -> - | B89: =IF(A89<>"-",ABS((FFP322Вес-H89)/(I89-H89)*2-1),"-") -> - | D89: 8 | E89: 372.91.247 | F89: 372.91.248 | G89: G | H89: =I88 -> 18.1 | I89: 27.3 | J89: 3 | K89: 2 | L89: 0 | M89: 350 | N89: 372.91.481 | O89: 372.91.471
A90: =IF(AND($M$80>L90,$M$80<=M90),IF(AND($I$80>=H90,$I$80<I90),IF(E90=$K$80,J90,"-"),"-"),"-") -> - | B90: =IF(A90<>"-",ABS((FFP323Вес-H90)/(I90-H90)*2-1),"-") -> - | D90: 9 | E90: 372.91.241 | F90: 372.91.242 | G90: D | H90: 4.7 | I90: 9 | J90: 2 | K90: 1 | L90: =M90-50 -> 350 | M90: 400 | N90: 372.91.481 | O90: 372.91.471
A91: =IF(AND($M$80>L91,$M$80<=M91),IF(AND($I$80>=H91,$I$80<I91),IF(E91=$K$80,J91,"-"),"-"),"-") -> - | B91: =IF(A91<>"-",ABS((FFP324Вес-H91)/(I91-H91)*2-1),"-") -> - | D91: 10 | E91: 372.91.241 | F91: 372.91.242 | G91: D | H91: 9 | I91: 9.6 | J91: 3 | K91: 1 | L91: =M91-50 -> 350 | M91: 400 | N91: 372.91.481 | O91: 372.91.471
A92: =IF(AND($M$80>L92,$M$80<=M92),IF(AND($I$80>=H92,$I$80<I92),IF(E92=$K$80,J92,"-"),"-"),"-") -> - | B92: =IF(A92<>"-",ABS((FFP325Вес-H92)/(I92-H92)*2-1),"-") -> - | D92: 11 | E92: 372.91.245 | F92: 372.91.246 | G92: E | H92: 5.9 | I92: 7.9 | J92: 2 | K92: 1 | L92: =M92-50 -> 350 | M92: 400 | N92: 372.91.481 | O92: 372.91.471
A93: =IF(AND($M$80>L93,$M$80<=M93),IF(AND($I$80>=H93,$I$80<I93),IF(E93=$K$80,J93,"-"),"-"),"-") -> - | B93: =IF(A93<>"-",ABS((FFP326Вес-H93)/(I93-H93)*2-1),"-") -> - | D93: 12 | E93: 372.91.245 | F93: 372.91.246 | G93: E | H93: 7.9 | I93: 11.6 | J93: 3 | K93: 1 | L93: =M93-50 -> 350 | M93: 400 | N93: 372.91.481 | O93: 372.91.471
A94: =IF(AND($M$80>L94,$M$80<=M94),IF(AND($I$80>=H94,$I$80<I94),IF(E94=$K$80,J94,"-"),"-"),"-") -> - | B94: =IF(A94<>"-",ABS((FFP327Вес-H94)/(I94-H94)*2-1),"-") -> - | D94: 13 | E94: 372.91.245 | F94: 372.91.246 | G94: E | H94: =I93 -> 11.6 | I94: 12.4 | J94: 2 | K94: 2 | L94: =M94-50 -> 350 | M94: 400 | N94: 372.91.481 | O94: 372.91.471
A95: =IF(AND($M$80>L95,$M$80<=M95),IF(AND($I$80>=H95,$I$80<I95),IF(E95=$K$80,J95,"-"),"-"),"-") -> - | B95: =IF(A95<>"-",ABS((FFP328Вес-H95)/(I95-H95)*2-1),"-") -> - | D95: 14 | E95: 372.91.245 | F95: 372.91.246 | G95: F | H95: 8.9 | I95: 10.7 | J95: 3 | K95: 1 | L95: =M95-50 -> 350 | M95: 400 | N95: 372.91.481 | O95: 372.91.471
A96: =IF(AND($M$80>L96,$M$80<=M96),IF(AND($I$80>=H96,$I$80<I96),IF(E96=$K$80,J96,"-"),"-"),"-") -> - | B96: =IF(A96<>"-",ABS((FFP329Вес-H96)/(I96-H96)*2-1),"-") -> - | D96: 15 | E96: 372.91.245 | F96: 372.91.246 | G96: F | H96: =I95 -> 10.7 | I96: 17.2 | J96: 2 | K96: 2 | L96: =M96-50 -> 350 | M96: 400 | N96: 372.91.481 | O96: 372.91.471
A97: =IF(AND($M$80>L97,$M$80<=M97),IF(AND($I$80>=H97,$I$80<I97),IF(E97=$K$80,J97,"-"),"-"),"-") -> - | B97: =IF(A97<>"-",ABS((FFP330Вес-H97)/(I97-H97)*2-1),"-") -> - | D97: 16 | E97: 372.91.245 | F97: 372.91.246 | G97: F | H97: =I96 -> 17.2 | I97: 18.6 | J97: 3 | K97: 2 | L97: =M97-50 -> 350 | M97: 400 | N97: 372.91.481 | O97: 372.91.471
A98: =IF(AND($M$80>L98,$M$80<=M98),IF(AND($I$80>=H98,$I$80<I98),IF(E98=$K$80,J98,"-"),"-"),"-") -> - | B98: =IF(A98<>"-",ABS((FFP331Вес-H98)/(I98-H98)*2-1),"-") -> - | D98: 17 | E98: 372.91.247 | F98: 372.91.248 | G98: G | H98: 11.8 | I98: 12.3 | J98: 3 | K98: 1 | L98: =M98-50 -> 350 | M98: 400 | N98: 372.91.481 | O98: 372.91.471
A99: =IF(AND($M$80>L99,$M$80<=M99),IF(AND($I$80>=H99,$I$80<I99),IF(E99=$K$80,J99,"-"),"-"),"-") -> - | B99: =IF(A99<>"-",ABS((FFP332Вес-H99)/(I99-H99)*2-1),"-") -> - | D99: 18 | E99: 372.91.247 | F99: 372.91.248 | G99: G | H99: =I98 -> 12.3 | I99: 17.9 | J99: 2 | K99: 2 | L99: =M99-50 -> 350 | M99: 400 | N99: 372.91.481 | O99: 372.91.471
A100: =IF(AND($M$80>L100,$M$80<=M100),IF(AND($I$80>=H100,$I$80<I100),IF(E100=$K$80,J100,"-"),"-"),"-") -> - | B100: =IF(A100<>"-",ABS((FFP333Вес-H100)/(I100-H100)*2-1),"-") -> - | D100: 19 | E100: 372.91.247 | F100: 372.91.248 | G100: G | H100: =I99 -> 17.9 | I100: 23.3 | J100: 3 | K100: 2 | L100: =M100-50 -> 350 | M100: 400 | N100: 372.91.481 | O100: 372.91.471
A101: =IF(AND($M$80>L101,$M$80<=M101),IF(AND($I$80>=H101,$I$80<I101),IF(E101=$K$80,J101,"-"),"-"),"-") -> - | B101: =IF(A101<>"-",ABS((FFP334Вес-H101)/(I101-H101)*2-1),"-") -> - | D101: 20 | E101: 372.91.241 | F101: 372.91.242 | G101: D | H101: 4.1 | I101: 5 | J101: 1 | K101: 1 | L101: =M101-50 -> 400 | M101: 450 | N101: 372.91.481 | O101: 372.91.471
A102: =IF(AND($M$80>L102,$M$80<=M102),IF(AND($I$80>=H102,$I$80<I102),IF(E102=$K$80,J102,"-"),"-"),"-") -> - | B102: =IF(A102<>"-",ABS((FFP335Вес-H102)/(I102-H102)*2-1),"-") -> - | D102: 21 | E102: 372.91.241 | F102: 372.91.242 | G102: D | H102: =I101 -> 5 | I102: 8.4 | J102: 2 | K102: 1 | L102: =M102-50 -> 400 | M102: 450 | N102: 372.91.481 | O102: 372.91.471
A103: =IF(AND($M$80>L103,$M$80<=M103),IF(AND($I$80>=H103,$I$80<I103),IF(E103=$K$80,J103,"-"),"-"),"-") -> - | B103: =IF(A103<>"-",ABS((FFP336Вес-H103)/(I103-H103)*2-1),"-") -> - | D103: 22 | E103: 372.91.245 | F103: 372.91.246 | G103: E | H103: 5.2 | I103: 7.9 | J103: 2 | K103: 1 | L103: =M103-50 -> 400 | M103: 450 | N103: 372.91.481 | O103: 372.91.471
A104: =IF(AND($M$80>L104,$M$80<=M104),IF(AND($I$80>=H104,$I$80<I104),IF(E104=$K$80,J104,"-"),"-"),"-") -> - | B104: =IF(A104<>"-",ABS((FFP337Вес-H104)/(I104-H104)*2-1),"-") -> - | D104: 23 | E104: 372.91.245 | F104: 372.91.246 | G104: E | H104: 7.9 | I104: 10.9 | J104: 3 | K104: 1 | L104: =M104-50 -> 400 | M104: 450 | N104: 372.91.481 | O104: 372.91.471
A105: =IF(AND($M$80>L105,$M$80<=M105),IF(AND($I$80>=H105,$I$80<I105),IF(E105=$K$80,J105,"-"),"-"),"-") -> - | B105: =IF(A105<>"-",ABS((FFP338Вес-H105)/(I105-H105)*2-1),"-") -> - | D105: 24 | E105: 372.91.245 | F105: 372.91.246 | G105: F | H105: 7.8 | I105: 10.2 | J105: 3 | K105: 1 | L105: =M105-50 -> 400 | M105: 450 | N105: 372.91.481 | O105: 372.91.471
...

Sheet Free-Серия
A3: 1 | C3: Материал фасада | G3: МДФ | H3: Ширина | I3: 600 | K3: Толщина | M3: 16
C5: =IF(Корректор>=1,"ОБРАТИТЕСЬ К ПОСТАВЩИКУ ЗА ОБНОВЛЕНИЕМ!","") | H5: Высота | I5: 800 | K5: Вес фасада | M5: =ВесФасадаРасчет -> 5.9368
C7: =$C$5 | G7: Цвет заглушек корпуса | M7: Белый
C9: =$C$5 | G9: Комплект петель крепления к корпусу с углом открывания 120' | M9: -
C11: =$C$5 | G11: Ограничитель угла открывания FREE FOLD на 90' | M11: -
C13: =$C$5 | G13: Адаптер для креплений к фасадам с алюминиевой рамкой 20 мм | M13: -
C15: Складной подъемный механизм | G15: FREE FOLD
L16: комментарий: требуются петли крепления к корпусу угол открывания 120'
C17: =IFERROR(SMALL(FFDKey,1),0) -> 7 | D17: № | E17: 1 | F17: Артикул | G17: Номенклатура | J17: Кол-во | K17: Ед. | L17: Цена (шт) | N17: Стоимость
C18: =MATCH(E18,ИндексСправ,0) -> 41 | D18: 1 | E18: =INDEX(FFD_Арт,FFDIndex,1+Корректор) -> 372.37.459 | F18: =IF(E18<>0,E18,"") -> 372.37.459 | G18: =IF(F18<>"",INDEX(СправАссорт,фСправТовар,4),"") -> Подъемный механизм FREE FOLD - H4f0; правый | J18: =IF(F18<>"",1,"") -> 1 | K18: =IF($F18<>"",Таб_Вес!$AC$35,"") -> шт | L18: =IF(AND(J18<>"",M18=""),INDEX(СправАссорт,C18,7),"") -> 0 | N18: =IF(J18<>"",J18*LARGE(L18:M18,1),"") -> 0
C19: =MATCH(E19,ИндексСправ,0) -> 54 | D19: 2 | E19: =INDEX(FFD_Арт,FFDIndex,2+Корректор) -> 372.37.460 | F19: =IF(E19<>0,E19,"") -> 372.37.460 | G19: =IF(F19<>"",INDEX(СправАссорт,фСправТовар,4),"") -> Подъемный механизм FREE FOLD - H4f0; левый | J19: =IF(F19<>"",1,"") -> 1 | K19: =IF($F19<>"",Таб_Вес!$AC$35,"") -> шт | L19: =IF(AND(J19<>"",M19=""),INDEX(СправАссорт,C19,7),"") -> 0 | N19: =IF(J19<>"",J19*LARGE(L19:M19,1),"") -> 0
C20: =MATCH(E20,ИндексСправ,0) -> 7 | D20: 3 | E20: =VLOOKUP(FFDЦвет,Справ!$E$40:$G$41,2+Корректор,0) -> 372.37.026 | F20: =IF(E20<>0,E20,"") -> 372.37.026 | G20: =IF(F20<>"",INDEX(СправАссорт,фСправТовар,4),"") -> Заглушка FREE FOLD белая | J20: =IF(F20<>"",1,"") -> 1 | K20: =IF($F20<>"",Таб_Вес!$AC$35,"") -> шт | L20: =IF(AND(J20<>"",M20=""),INDEX(СправАссорт,C20,7),"") -> 0 | N20: =IF(J20<>"",J20*LARGE(L20:M20,1),"") -> 0
C21: =MATCH(E21,ИндексСправ,0) -> 8 | D21: 4 | E21: =INDEX(Карта!$B$2:$S$22,ROW()-ROW($D$17),INDIRECT(ADDRESS(ROW($D$17),COLUMN()),1)*2-1+Корректор) -> 372.37.040 | F21: =IF(AND(E21<>0,E19<>0),E21,"") -> 372.37.040 | G21: =IF(F21<>"",INDEX(СправАссорт,фСправТовар,4),"") -> Крепления к фасаду FREE FOLD | J21: =IF(F21<>"",2,"") -> 2 | K21: =IF($F21<>"",Таб_Вес!$AC$35,"") -> шт | L21: =IF(AND(J21<>"",M21=""),INDEX(СправАссорт,C21,7),"") -> 0 | N21: =IF(J21<>"",J21*LARGE(L21:M21,1),"") -> 0
C22: =MATCH(E22,ИндексСправ,0) -> 10 | D22: 5 | E22: =INDEX(Карта!$B$2:$S$22,ROW()-ROW($D$17),INDIRECT(ADDRESS(ROW($D$17),COLUMN()),1)*2-1+Корректор) -> 372.64.796 | F22: =IF(E22<>0,E22,"") -> 372.64.796 | G22: =IF(F22<>"",INDEX(СправАссорт,фСправТовар,4),"") -> Средняя петля для двух секционных складных фасадов (с защитой от защемл. пальцев) | J22: =IF(F22<>"",2,"") -> 2 | K22: =IF($F22<>"",Таб_Вес!$AC$35,"") -> шт | L22: =IF(AND(J22<>"",M22=""),INDEX(СправАссорт,C22,7),"") -> 0 | N22: =IF(J22<>"",J22*LARGE(L22:M22,1),"") -> 0
C23: =MATCH(E23,ИндексСправ,0) -> 138 | D23: =IF(F23<>"",LARGE(D18:D22,1)+1,"") | E23: =INDEX(Карта!$B$2:$S$22,ROW()-ROW($D$17),INDIRECT(ADDRESS(ROW($D$17),COLUMN()),1)*2-1+Корректор) -> 329.03.640 | F23: =IF($M$9=Таб_Вес!$AC$25,E23,"") | G23: =IF(F23<>"",INDEX(СправАссорт,фСправТовар,4),"") | J23: =IF(F23<>"",2,"") | K23: =IF($F23<>"",Таб_Вес!$AC$35,"") | L23: =IF(AND(J23<>"",M23=""),INDEX(СправАссорт,C23,7),"") | N23: =IF(J23<>"",J23*LARGE(L23:M23,1),"")
C24: =MATCH(E24,ИндексСправ,0) -> 139 | D24: =IF(F24<>"",LARGE(D18:D23,1)+1,"") | E24: =INDEX(Карта!$B$2:$S$22,ROW()-ROW($D$17),INDIRECT(ADDRESS(ROW($D$17),COLUMN()),1)*2-1+Корректор) -> 329.73.503 | F24: =IF($M$9=Таб_Вес!$AC$25,E24,"") | G24: =IF(F24<>"",INDEX(СправАссорт,фСправТовар,4),"") | J24: =IF(F24<>"",2,"") | K24: =IF($F24<>"",Таб_Вес!$AC$35,"") | L24: =IF(AND(J24<>"",M24=""),INDEX(СправАссорт,C24,7),"") | N24: =IF(J24<>"",J24*LARGE(L24:M24,1),"")
C25: =MATCH(E25,ИндексСправ,0) -> 6 | D25: =IF(F25<>"",LARGE(D18:D24,1)+1,"") | E25: =INDEX(Карта!$B$2:$S$22,ROW()-ROW($D$17),INDIRECT(ADDRESS(ROW($D$17),COLUMN()),1)*2-1+Корректор) -> 372.37.060 | F25: =IF(M11=Таб_Вес!$AC$25,E25,"") | G25: =IF(F25<>"",INDEX(СправАссорт,фСправТовар,4),"") | J25: =IF(F25<>"",1,"") | K25: =IF($F25<>"",Таб_Вес!$AC$35,"") | L25: =IF(AND(J25<>"",M25=""),INDEX(СправАссорт,C25,7),"") | N25: =IF(J25<>"",J25*LARGE(L25:M25,1),"")
C26: =MATCH(E26,ИндексСправ,0) -> 9 | D26: =IF(F26<>"",LARGE(D18:D25,1)+1,"") | E26: =INDEX(Карта!$B$2:$S$22,ROW()-ROW($D$17),INDIRECT(ADDRESS(ROW($D$17),COLUMN()),1)*2-1+Корректор) -> 372.37.044 | F26: =IF(M13=Таб_Вес!$AC$25,E26,"") | G26: =IF(F26<>"",INDEX(СправАссорт,фСправТовар,4),"") | J26: =IF(F26<>"",1,"") | K26: =IF($F26<>"",Таб_Вес!$AC$35,"") | L26: =IF(AND(J26<>"",M26=""),INDEX(СправАссорт,C26,7),"") | N26: =IF(J26<>"",J26*LARGE(L26:M26,1),"")
C27: высота фасада 480-1040 мм | L27: Итого: | N27: =SUM(N18:N26) -> 0
A31: 4 | C31: Материал фасада | G31: МДФ | H31: Ширина | I31: 600 | K31: Толщина | M31: 19
C33: =$C$5 | H33: Высота | I33: 720 | K33: Вес фасада | M33: =ВесФасадаРасчет -> 6.33808
C35: =$C$5 | G35: Цвет заглушек корпуса | M35: Серый
C37: =$C$5 | G37: Адаптер для креплений к фасадам с алюминиевой рамкой 20 мм | M37: -
C39: Поворотный подъемный механизм | G39: FREE SWING
L40: комментарий: петли не требуются
C41: =IFERROR(MATCH(SMALL(FSВесKey,1),FSВесKey,0),0) -> 32 | D41: № | E41: 4 | F41: Артикул | G41: Номенклатура | J41: Кол-во | K41: Ед. | L41: Цена (шт) | N41: Стоимость
C42: =MATCH(E42,ИндексСправ,0) -> 81 | D42: 1 | E42: =INDEX(FS_Арт,FSIndex,1+Корректор) -> 372.34.422 | F42: =E42 -> 372.34.422 | G42: =IF(F42<>"",INDEX(СправАссорт,фСправТовар,4),"") -> Подъемный механизм FREE SWING - S6sw; правый | J42: =IF(F42<>"",1,"") -> 1 | K42: =IF($F42<>"",Таб_Вес!$AC$35,"") -> шт | L42: =IF(AND(J42<>"",M42=""),INDEX(СправАссорт,C42,7),"") -> 0 | N42: =IF(J42<>"",J42*LARGE(L42:M42,1),"") -> 0
C43: =MATCH(E43,ИндексСправ,0) -> 86 | D43: 2 | E43: =INDEX(FS_Арт,FSIndex,2+Корректор) -> 372.34.423 | F43: =E43 -> 372.34.423 | G43: =IF(F43<>"",INDEX(СправАссорт,фСправТовар,4),"") -> Подъемный механизм FREE SWING - S6sw; левый | J43: =IF(F43<>"",1,"") -> 1 | K43: =IF($F43<>"",Таб_Вес!$AC$35,"") -> шт | L43: =IF(AND(J43<>"",M43=""),INDEX(СправАссорт,C43,7),"") -> 0 | N43: =IF(J43<>"",J43*LARGE(L43:M43,1),"") -> 0
C44: =MATCH(E44,ИндексСправ,0) -> 116 | D44: 3 | E44: =VLOOKUP(FSЦвет,Справ!$E$28:$G$29,2,0+Корректор) -> 372.34.670 | F44: =E44 -> 372.34.670 | G44: =IF(F44<>"",INDEX(СправАссорт,фСправТовар,4),"") -> Заглушки FREE SWING серые | J44: =IF(F44<>"",1,"") -> 1 | K44: =IF($F44<>"",Таб_Вес!$AC$35,"") -> шт | L44: =IF(AND(J44<>"",M44=""),INDEX(СправАссорт,C44,7),"") -> 0 | N44: =IF(J44<>"",J44*LARGE(L44:M44,1),"") -> 0
C45: =MATCH(E45,ИндексСправ,0) -> 12 | D45: 4 | E45: =INDEX(Карта!$B$2:$S$22,ROW()-ROW($D$41),INDIRECT(ADDRESS(ROW($D$41),COLUMN()),1)*2-1+Корректор) -> 372.91.141 | F45: =E45 -> 372.91.141 | G45: =IF(F45<>"",INDEX(СправАссорт,фСправТовар,4),"") -> Крепления FREE Flap / Swing / Up | J45: =IF(F45<>"",2,"") -> 2 | K45: =IF($F45<>"",Таб_Вес!$AC$35,"") -> шт | L45: =IF(AND(J45<>"",M45=""),INDEX(СправАссорт,C45,7),"") -> 0 | N45: =IF(J45<>"",J45*LARGE(L45:M45,1),"") -> 0
C46: =MATCH(E46,ИндексСправ,0) -> 16 | D46: 5 | E46: =INDEX(Карта!$B$2:$S$22,ROW()-ROW($D$41),INDIRECT(ADDRESS(ROW($D$41),COLUMN()),1)*2-1+Корректор) -> 372.33.696 | F46: =E46 -> 372.33.696 | G46: =IF(F46<>"",INDEX(СправАссорт,фСправТовар,4),"") -> Синхронизирующая Штанга 1074 мм для шкафа 1200 мм | J46: =IF(F46<>"",1,"") -> 1 | K46: шт | L46: =IF(AND(J46<>"",M46=""),INDEX(СправАссорт,C46,7),"") -> 0 | N46: =IF(J46<>"",J46*LARGE(L46:M46,1),"") -> 0
C47: =MATCH(E47,ИндексСправ,0) -> 17 | D47: 6 | E47: =INDEX(Карта!$B$2:$S$22,ROW()-ROW($D$41),INDIRECT(ADDRESS(ROW($D$41),COLUMN()),1)*2-1+Корректор) -> 372.33.699 | F47: =E47 -> 372.33.699 | G47: =IF(F47<>"",INDEX(СправАссорт,фСправТовар,4),"") -> Адаптеры (фиксаторы) для штанги SWING / UP | J47: =IF(F47<>"",2,"") -> 2 | K47: шт | L47: =IF(AND(J47<>"",M47=""),INDEX(СправАссорт,C47,7),"") -> 0 | N47: =IF(J47<>"",J47*LARGE(L47:M47,1),"") -> 0
C48: =MATCH(E48,ИндексСправ,0) -> 14 | D48: =IF(F48<>"",LARGE(D42:D47,1)+1,"") | E48: =INDEX(Карта!$B$2:$S$22,ROW()-ROW($D$41),INDIRECT(ADDRESS(ROW($D$41),COLUMN()),1)*2-1+Корректор) -> 372.91.599 | F48: =IF(M37=Таб_Вес!$AC$25,E48,"") | G48: =IF(F48<>"",INDEX(СправАссорт,фСправТовар,4),"") | J48: =IF(F48<>"",1,"") | K48: =IF($F48<>"",Таб_Вес!$AC$35,"") | L48: =IF(AND(J48<>"",M48=""),INDEX(СправАссорт,C48,7),"") | N48: =IF(J48<>"",J48*LARGE(L48:M48,1),"")
C49: высота фасада 370-800 мм | L49: Итого: | N49: =SUM(N42:N48) -> 0
A53: 5 | C53: Материал фасада | G53: МДФ | H53: Ширина | I53: 900 | K53: Толщина | M53: 19
C55: =$C$5 | H55: Высота | I55: 550 | K55: Вес фасада | M55: =ВесФасадаРасчет -> 7.2478
C57: =$C$5 | G57: Цвет заглушек корпуса | M57: Серый
C59: =$C$5 | G59: Синхронизирующая штанга для корпуса | M59: 1200
C61: =$C$5 | G61: Адаптер для креплений к фасадам с алюминиевой рамкой 20 мм | M61: -
C63: Параллельный подъемный механизм | G63: FREE UP
L64: комментарий: петли не требуются
C65: =IFERROR(SMALL(FUKey,1),0) -> 6 | D65: № | E65: 5 | F65: Артикул | G65: Номенклатура | J65: Кол-во | K65: Ед. | L65: Цена (шт) | N65: Стоимость
C66: =MATCH(E66,ИндексСправ,0) -> 92 | D66: 1 | E66: =INDEX(FU_Арт,FUIndex,1+Корректор) -> 372.33.434 | F66: =E66 -> 372.33.434 | G66: =IF(F66<>"",INDEX(СправАссорт,фСправТовар,4),"") -> Подъемный механизм FREE UP - R3us; правый | J66: =IF(F66<>"",1,"") -> 1 | K66: =IF($F66<>"",Таб_Вес!$AC$35,"") -> шт | L66: =IF(AND(J66<>"",M66=""),INDEX(СправАссорт,C66,7),"") -> 0 | N66: =IF(J66<>"",J66*LARGE(L66:M66,1),"") -> 0
C67: =MATCH(E67,ИндексСправ,0) -> 98 | D67: 2 | E67: =INDEX(FU_Арт,FUIndex,2+Корректор) -> 372.33.435 | F67: =E67 -> 372.33.435 | G67: =IF(F67<>"",INDEX(СправАссорт,фСправТовар,4),"") -> Подъемный механизм FREE UP - R3us; левый | J67: =IF(F67<>"",1,"") -> 1 | K67: =IF($F67<>"",Таб_Вес!$AC$35,"") -> шт | L67: =IF(AND(J67<>"",M67=""),INDEX(СправАссорт,C67,7),"") -> 0 | N67: =IF(J67<>"",J67*LARGE(L67:M67,1),"") -> 0
C68: =MATCH(E68,ИндексСправ,0) -> 19 | D68: 3 | E68: =VLOOKUP(FUЦвет,Справ!$E$4:$G$5,2,0+Корректор) -> 372.33.670 | F68: =E68 -> 372.33.670 | G68: =IF(F68<>"",INDEX(СправАссорт,фСправТовар,4),"") -> Заглушки FREE UP - Серые | J68: =IF(F68<>"",1,"") -> 1 | K68: =IF($F68<>"",Таб_Вес!$AC$35,"") -> шт | L68: =IF(AND(J68<>"",M68=""),INDEX(СправАссорт,C68,7),"") -> 0 | N68: =IF(J68<>"",J68*LARGE(L68:M68,1),"") -> 0
C69: =MATCH(E69,ИндексСправ,0) -> 12 | D69: 4 | E69: =INDEX(Карта!$B$2:$S$22,ROW()-ROW($D$65),INDIRECT(ADDRESS(ROW($D$65),COLUMN()),1)*2-1+Корректор) -> 372.91.141 | F69: =E69 -> 372.91.141 | G69: =IF(F69<>"",INDEX(СправАссорт,фСправТовар,4),"") -> Крепления FREE Flap / Swing / Up | J69: =IF(F69<>"",2,"") -> 2 | K69: =IF($F69<>"",Таб_Вес!$AC$35,"") -> шт | L69: =IF(AND(J69<>"",M69=""),INDEX(СправАссорт,C69,7),"") -> 0 | N69: =IF(J69<>"",J69*LARGE(L69:M69,1),"") -> 0
C70: =MATCH(E70,ИндексСправ,0) -> 17 | D70: 5 | E70: =INDEX(Карта!$B$2:$S$22,ROW()-ROW($D$65),INDIRECT(ADDRESS(ROW($D$65),COLUMN()),1)*2-1+Корректор) -> 372.33.699 | F70: =E70 -> 372.33.699 | G70: =IF(F70<>"",INDEX(СправАссорт,фСправТовар,4),"") -> Адаптеры (фиксаторы) для штанги SWING / UP | J70: =IF(F70<>"",2,"") -> 2 | K70: =IF($F70<>"",Таб_Вес!$AC$35,"") -> шт | L70: =IF(AND(J70<>"",M70=""),INDEX(СправАссорт,C70,7),"") -> 0 | N70: =IF(J70<>"",J70*LARGE(L70:M70,1),"") -> 0
C71: =MATCH(E71,ИндексСправ,0) -> 16 | D71: =IF(F71<>"",LARGE(D66:D70,1)+1,"") -> 6 | E71: =VLOOKUP(M59,Справ!$E$8:$G$9,2,0+Корректор) -> 372.33.696 | F71: =IF(E71<>"",E71,"") -> 372.33.696 | G71: =IF(F71<>"",INDEX(СправАссорт,фСправТовар,4),"") -> Синхронизирующая Штанга 1074 мм для шкафа 1200 мм | J71: =IF(F71<>"",1,"") -> 1 | K71: =IF($F71<>"",Таб_Вес!$AC$35,"") -> шт | L71: =IF(AND(J71<>"",M71=""),INDEX(СправАссорт,C71,7),"") -> 0 | N71: =IF(J71<>"",J71*LARGE(L71:M71,1),"") -> 0
C72: =MATCH(E72,ИндексСправ,0) -> 14 | D72: =IF(F72<>"",LARGE(D67:D71,1)+1,"") | E72: =INDEX(Карта!$B$2:$S$22,ROW()-ROW($D$65),INDIRECT(ADDRESS(ROW($D$65),COLUMN()),1)*2-1+Корректор) -> 372.91.599 | F72: =IF(M61=Таб_Вес!$AC$25,E72,"") | G72: =IF(F72<>"",INDEX(СправАссорт,фСправТовар,4),"") | J72: =IF(F72<>"",1,"") | K72: =IF($F72<>"",Таб_Вес!$AC$35,"") | L72: =IF(AND(J72<>"",M72=""),INDEX(СправАссорт,C72,7),"") | N72: =IF(J72<>"",J72*LARGE(L72:M72,1),"")
C73: высота фасада 320-600 мм | L73: Итого: | N73: =SUM(N66:N72) -> 0

Sheet FreeFlap
A3: 2 | C3: Материал фасада | G3: МДФ | H3: Ширина | I3: 800 | K3: Толщина | M3: 18
C5: ='Free-Серия'!$C$5 | H5: Высота | I5: 400 | K5: Вес фасада | M5: =ВесФасадаРасчетFF17 -> 4.4776
H7: Тип открытия/закрытия | K7: Плавное закрывание
C9: ='Free-Серия'!$C$5 | G9: Цвет заглушек корпуса | M9: Серый
C11: ='Free-Серия'!$C$5 | G11: Ограничитель угла открывния FREE FLAP на 90' | M11: -
C13: ='Free-Серия'!$C$5 | G13: Адаптер для креплений к фасадам с алюминиевой рамкой 20 мм | M13: -
M14: ---------------------------------------------------------------------------------------------------
H15: Толкатель для системы PUSH OPEN | K15: Врезной
C17: Откидной подъемный механизм | G17: FREE FLAP 1.7
L18: комментарий: петли не требуются
C19: =IFERROR(MATCH(SMALL(FFL17Key,1),FFL17Key,0),0) -> 18 | D19: № | E19: 2 | F19: Артикул | G19: Номенклатура | J19: Кол-во | K19: Ед. | L19: Цена (шт) | N19: Стоимость
C20: =MATCH(E20,ИндексСправ,0) -> 65 | D20: 1 | E20: =INDEX(FFL17_Арт,FFL17Index,1+Корректор) -> 372.91.175 | F20: =E20 -> 372.91.175 | G20: =IF(F20<>"",INDEX(СправАссорт,фСправТоварFFL,4),"") -> Подъемный механизм FREE FLAP 1.7 - Model C; правый | J20: =IF(F20<>"",1,"") -> 1 | K20: =IF($F20<>"",Таб_Вес!$AC$35,"") -> шт | L20: =IF(AND(J20<>"",M20=""),INDEX(СправАссорт,C20,7),"") -> 0 | N20: =IF(J20<>"",J20*LARGE(L20:M20,1),"") -> 0
C21: =MATCH(E21,ИндексСправ,0) -> 68 | D21: 2 | E21: =INDEX(FFL17_Арт,FFL17Index,2+Корректор) -> 372.91.176 | F21: =E21 -> 372.91.176 | G21: =IF(F21<>"",INDEX(СправАссорт,фСправТоварFFL,4),"") -> Подъемный механизм FREE FLAP 1.7 - Model C; левый | J21: =IF(F21<>"",1,"") -> 1 | K21: =IF($F21<>"",Таб_Вес!$AC$35,"") -> шт | L21: =IF(AND(J21<>"",M21=""),INDEX(СправАссорт,C21,7),"") -> 0 | N21: =IF(J21<>"",J21*LARGE(L21:M21,1),"") -> 0
C22: =MATCH(E22,ИндексСправ,0) -> 118 | D22: 3 | E22: =VLOOKUP(FFL17Цвет,Справ!$E$36:$G$37,2,0+Корректор) -> 372.91.133 | F22: =E22 -> 372.91.133 | G22: =IF(F22<>"",INDEX(СправАссорт,фСправТоварFFL,4),"") -> Заглушка FREE flap 1.7 серая | J22: =IF(F22<>"",1,"") -> 1 | K22: =IF($F22<>"",Таб_Вес!$AC$35,"") -> шт | L22: =IF(AND(J22<>"",M22=""),INDEX(СправАссорт,C22,7),"") -> 0 | N22: =IF(J22<>"",J22*LARGE(L22:M22,1),"") -> 0
C23: =MATCH(E23,ИндексСправ,0) -> 12 | D23: 4 | E23: =INDEX(Карта!$B$2:$S$22,ROW()-ROW($D$19),INDIRECT(ADDRESS(ROW($D$19),COLUMN()),1)*2-1+Корректор) -> 372.91.141 | F23: =E23 -> 372.91.141 | G23: =IF(F23<>"",INDEX(СправАссорт,фСправТоварFFL,4),"") -> Крепления FREE Flap / Swing / Up | J23: =IF(F23<>"",2,"") -> 2 | K23: =IF($F23<>"",Таб_Вес!$AC$35,"") -> шт | L23: =IF(AND(J23<>"",M23=""),INDEX(СправАссорт,C23,7),"") -> 0 | N23: =IF(J23<>"",J23*LARGE(L23:M23,1),"") -> 0
C24: =MATCH(E24,ИндексСправ,0) -> 13 | D24: =IF(F24<>"",LARGE(D20:D23,1)+1,"") | E24: =INDEX(Карта!$B$2:$S$22,ROW()-ROW($D$19),INDIRECT(ADDRESS(ROW($D$19),COLUMN()),1)*2-1+Корректор) -> 372.91.499 | F24: =IF(M11=Таб_Вес!$AC$25,E24,"") | G24: =IF(F24<>"",INDEX(СправАссорт,фСправТоварFFL,4),"") | J24: =IF(F24<>"",1,"") | K24: =IF($F24<>"",Таб_Вес!$AC$35,"") | L24: =IF(AND(J24<>"",M24=""),INDEX(СправАссорт,C24,7),"") | N24: =IF(J24<>"",J24*LARGE(L24:M24,1),"")
C25: =MATCH(E25,ИндексСправ,0) -> 14 | D25: =IF(F25<>"",LARGE(D20:D24,1)+1,"") | E25: =INDEX(Карта!$B$2:$S$22,ROW()-ROW($D$19),INDIRECT(ADDRESS(ROW($D$19),COLUMN()),1)*2-1+Корректор) -> 372.91.599 | F25: =IF(M13=Таб_Вес!$AC$25,E25,"") | G25: =IF(F25<>"",INDEX(СправАссорт,фСправТоварFFL,4),"") | J25: =IF(F25<>"",1,"") | K25: =IF($F25<>"",Таб_Вес!$AC$35,"") | L25: =IF(AND(J25<>"",M25=""),INDEX(СправАссорт,C25,7),"") | N25: =IF(J25<>"",J25*LARGE(L25:M25,1),"")
A26: =IFERROR(MATCH(SMALL(FFL17_PUSH_Толкатель,1),FFL17_PUSH_Толкатель,0),0) -> 61 | C26: =MATCH(E26,ИндексСправ,0) -> 122 | D26: =IF(F26<>"",LARGE(D21:D25,1)+1,"") | E26: =INDEX(IF(K15=Справ!$I$24,ТАБ_Толкатель_Врезной,ТАБ_Толкатель_Накладной),A26,Корректор) -> 372.91.482 | F26: =IF(FLL17_PUSH=Справ!$I$22,E26,"") | G26: =IF(F26<>"",INDEX(СправАссорт,фСправТоварFFL,4),"") | J26: =IF(F26<>"",INDEX(ТАБ_FL17_Кол_во,A26,Корректор),"") | K26: =IF($F26<>"",Таб_Вес!$AC$35,"") | L26: =IF(AND(J26<>"",M26=""),INDEX(СправАссорт,C26,7),"") | N26: =IF(J26<>"",J26*LARGE(L26:M26,1),"")
C27: =MATCH(E27,ИндексСправ,0) -> 126 | D27: =IF(F27<>"",LARGE(D22:D26,1)+1,"") | E27: =INDEX(Карта!$B$2:$S$22,ROW()-ROW($D$19),INDIRECT(ADDRESS(ROW($D$19),COLUMN()),1)*2-1+Корректор) -> 372.91.479 | F27: =IF(AND(FLL17_Толкатель=Справ!$I$25,FLL17_PUSH=Справ!$I$22),E27,"") | G27: =IF(F27<>"",INDEX(СправАссорт,фСправТоварFFL,4),"") | J27: =IF(F27<>"",J26,"") | K27: =IF($F27<>"",Таб_Вес!$AC$35,"") | L27: =IF(AND(J27<>"",M27=""),INDEX(СправАссорт,C27,7),"") | N27: =IF(J27<>"",J27*LARGE(L27:M27,1),"")
C28: высота фасада 200-450 мм | L28: Итого: | N28: =SUM(N20:N25) -> 0
A32: 3 | C32: Материал фасада | G32: МДФ | H32: Ширина | I32: 900 | K32: Толщина | M32: 19
C34: ='Free-Серия'!$C$5 | H34: Высота | I34: 650 | K34: Вес фасада | M34: =ВесФасадаРасчетFF35 -> 8.5474
H36: Тип открытия/закрытия | K36: Плавное закрывание
C38: ='Free-Серия'!$C$5 | G38: Цвет заглушек корпуса | M38: Серый
C40: ='Free-Серия'!$C$5 | G40: Адаптер для креплений к фасадам с алюминиевой рамкой 20 мм | M40: -
M41: ---------------------------------------------------------------------------------------------------
H42: Толкатель для системы PUSH OPEN | K42: Врезной
C44: Откидной подъемный механизм | G44: FREE FLAP 3.15
L45: комментарий: петли не требуются
C46: =IFERROR(MATCH(SMALL(FFL315Key,1),FFL315Key,0),0) -> 21 | D46: № | E46: 3 | F46: Артикул | G46: Номенклатура | J46: Кол-во | K46: Ед. | L46: Цена (шт) | N46: Стоимость
C47: =MATCH(E47,ИндексСправ,0) -> 71 | D47: 1 | E47: =INDEX(FFL315_Арт,FFL315Index,1+Корректор) -> 372.91.245 | F47: =E47 -> 372.91.245 | G47: =IF(F47<>"",INDEX(СправАссорт,фСправТоварFFL,4),"") -> Подъемный механизм FREE FLAP 3.15 - Model F; правый | J47: =IF(F47<>"",1,"") -> 1 | K47: =IF($F47<>"",Таб_Вес!$AC$35,"") -> шт | L47: =IF(AND(J47<>"",M47=""),INDEX(СправАссорт,C47,7),"") -> 0 | N47: =IF(J47<>"",J47*LARGE(L47:M47,1),"") -> 0
C48: =MATCH(E48,ИндексСправ,0) -> 75 | D48: 2 | E48: =INDEX(FFL315_Арт,FFL315Index,2+Корректор) -> 372.91.246 | F48: =E48 -> 372.91.246 | G48: =IF(F48<>"",INDEX(СправАссорт,фСправТоварFFL,4),"") -> Подъемный механизм FREE FLAP 3.15 - Model F; левый | J48: =IF(F48<>"",1,"") -> 1 | K48: =IF($F48<>"",Таб_Вес!$AC$35,"") -> шт | L48: =IF(AND(J48<>"",M48=""),INDEX(СправАссорт,C48,7),"") -> 0 | N48: =IF(J48<>"",J48*LARGE(L48:M48,1),"") -> 0
C49: =MATCH(E49,ИндексСправ,0) -> 117 | D49: 3 | E49: =VLOOKUP(FFL315Цвет,Справ!$E$32:$G$33,2,0+Корректор) -> 372.91.234 | F49: =E49 -> 372.91.234 | G49: =IF(F49<>"",INDEX(СправАссорт,фСправТоварFFL,4),"") -> Заглушка FREE flap 3.15, серые | J49: =IF(F49<>"",1,"") -> 1 | K49: =IF($F49<>"",Таб_Вес!$AC$35,"") -> шт | L49: =IF(AND(J49<>"",M49=""),INDEX(СправАссорт,C49,7),"") -> 0 | N49: =IF(J49<>"",J49*LARGE(L49:M49,1),"") -> 0
C50: =MATCH(E50,ИндексСправ,0) -> 12 | D50: 4 | E50: =INDEX(Карта!$B$2:$S$22,ROW()-ROW($D$46),INDIRECT(ADDRESS(ROW($D$46),COLUMN()),1)*2-1+Корректор) -> 372.91.141 | F50: =E50 -> 372.91.141 | G50: =IF(F50<>"",INDEX(СправАссорт,фСправТоварFFL,4),"") -> Крепления FREE Flap / Swing / Up | J50: =IF(F50<>"",2,"") -> 2 | K50: =IF($F50<>"",Таб_Вес!$AC$35,"") -> шт | L50: =IF(AND(J50<>"",M50=""),INDEX(СправАссорт,C50,7),"") -> 0 | N50: =IF(J50<>"",J50*LARGE(L50:M50,1),"") -> 0
C51: =MATCH(E51,ИндексСправ,0) -> 14 | D51: =IF(F51<>"",LARGE(D47:D50,1)+1,"") | E51: =INDEX(Карта!$B$2:$S$22,ROW()-ROW($D$46),INDIRECT(ADDRESS(ROW($D$46),COLUMN()),1)*2-1+Корректор) -> 372.91.599 | F51: =IF(M40=Таб_Вес!$AC$25,E51,"") | G51: =IF(F51<>"",INDEX(СправАссорт,фСправТоварFFL,4),"") | J51: =IF(F51<>"",1,"") | K51: =IF($F51<>"",Таб_Вес!$AC$35,"") | L51: =IF(AND(J51<>"",M51=""),INDEX(СправАссорт,C51,7),"") | N51: =IF(J51<>"",J51*LARGE(L51:M51,1),"")
A52: =IFERROR(MATCH(SMALL(FFL315_PUSH_Толкатель,1),FFL315_PUSH_Толкатель,0),0) -> 64 | C52: =MATCH(E52,ИндексСправ,0) -> 121 | D52: =IF(F52<>"",LARGE(D48:D51,1)+1,"") | E52: =INDEX(IF(K42=Справ!$I$24,ТАБ_FL315_Толкатель_Врезной,ТАБ_FL315_Толкатель_Накладной),A52,Корректор) -> 372.91.481 | F52: =IF(FLL315_PUSH=Справ!$I$22,E52,"") | G52: =IF(F52<>"",INDEX(СправАссорт,фСправТоварFFL,4),"") | J52: =IF(F52<>"",INDEX(ТАБ_FL17_Кол_во,A52,Корректор),"") | K52: =IF($F52<>"",Таб_Вес!$AC$35,"") | L52: =IF(AND(J52<>"",M52=""),INDEX(СправАссорт,C52,7),"") | N52: =IF(J52<>"",J52*LARGE(L52:M52,1),"")
C53: =MATCH(E53,ИндексСправ,0) -> 126 | D53: =IF(F53<>"",LARGE(D49:D52,1)+1,"") | E53: =INDEX(Карта!$B$2:$S$22,ROW()-ROW($D$46),INDIRECT(ADDRESS(ROW($D$46),COLUMN()),1)*2-1+Корректор) -> 372.91.479 | F53: =IF(AND(FLL315_Толкатель=Справ!$I$25,FLL315_PUSH=Справ!$I$22),E53,"") | G53: =IF(F53<>"",INDEX(СправАссорт,фСправТоварFFL,4),"") | J53: =IF(F53<>"",J52,"") | K53: =IF($F53<>"",Таб_Вес!$AC$35,"") | L53: =IF(AND(J53<>"",M53=""),INDEX(СправАссорт,C53,7),"") | N53: =IF(J53<>"",J53*LARGE(L53:M53,1),"")
C54: высота фасада 450-650 мм | L54: Итого: | N54: =SUM(N47:N51) -> 0

Sheet FreeFlapH1.5
A3: 6 | C3: Материал фасада | G3: МДФ | H3: Ширина | I3: 600 | K3: Толщина | M3: 16
C5: ='Free-Серия'!$C$5 | H5: Высота | I5: 600 | K5: Вес фасада | M5: =ВесФасадаРасчетFFH15 -> 4.4776
C7: ='Free-Серия'!$C$5 | G7: Цвет подъемного механизма | M7: Белый
C9: ='Free-Серия'!$C$5 | G9: Угол открывания | M9: 110
C11: ='Free-Серия'!$C$5 | G11: Комплект петель крепления к корпусу с углом открывания 110' с доводчиком | M11: -
C13: ='Free-Серия'!$C$5 | G13: Комплект петель крепления к корпусу с углом откр. 110' без доводчика | M13: -
C15: ='Free-Серия'!$C$5 | G15: Амортизатор (доводчик) для привинчивания к чашке петли | M15: -
C17: ='Free-Серия'!$C$5 | G17: Регулировочный ключ SW10 | M17: -
H19: Тип открытия/закрытия | K19: Плавное закрывание
H21: Толкатель для системы PUSH OPEN | K21: Врезной
A23: =IFERROR(MATCH(SMALL(FFLH15_Итого_110,1),FFLH15_Итого_110,0),0) -> 24 | C23: Откидной подъемный механизм | G23: FREE FLAP H 1.5
A24: =IFERROR(MATCH(SMALL(FFLH15_Итого_90,1),FFLH15_Итого_90,0),0) -> 24 | E24: 2
A25: =IFERROR(MATCH(SMALL(FFLH15_Итого_75,1),FFLH15_Итого_75,0),0) -> 18 | D25: № | E25: 6 | F25: Артикул | G25: Номенклатура | J25: Кол-во | K25: Ед. | L25: Цена (шт) | N25: Стоимость
C26: =MATCH(E26,ИндексСправ,0) -> 104 | D26: 1 | E26: =IF(FFLH15Угол=INDEX(спрУгол,3,1+Корректор),IF(FFLH15Index110<>0,INDEX(FFLH15_Арт_110,FFLH15Index110,3-MATCH(FFLH15Цвет,ЦветМП,0)),"-"),IF(FFLH15Угол=INDEX(спрУгол,2,1),IF(FFLH15Index90<>0,INDEX(FFLH15_Арт_90,FFLH15Index90,3-MATCH(FFLH15Цвет,ЦветМП,0)),"-"),IF(FFLH15Угол=INDEX(спрУгол,1,1),IF(FFLH15Index75<>0,INDEX(FFLH15_Арт_75,FFLH15Index75,3-MATCH(FFLH15Цвет,ЦветМП,0)),"-"),"Иное"))) -> 372.39.430 | F26: =E26 -> 372.39.430 | G26: =IF(F26<>"",INDEX(СправАссорт,фСправТоварFFH15,4),"") -> Подъемный механизм FREE FLAP H 1.5 - Model D; белый | J26: =IF(FFLH15Угол=INDEX(спрУгол,3,1),IF(FFLH15Index110<>0,INDEX(FFLH15_Кол_во_110,FFLH15Index110,1),"-"),IF(FFLH15Угол=INDEX(спрУгол,2,1),IF(FFLH15Index90<>0,INDEX(FFLH15_Кол_во_90,FFLH15Index90,1),"-"),IF(FFLH15Угол=INDEX(спрУгол,1,1),IF(FFLH15Index75<>0,INDEX(FFLH15_Кол_во_75,FFLH15Index75,1),"-"),"Иное"))) -> 2 | K26: =IF($F26<>"",Таб_Вес!$AC$35,"") -> шт | L26: =IF(AND(J26<>"",M26=""),INDEX(СправАссорт,C26,7),"") -> 0 | N26: =IF(J26<>"",J26*LARGE(L26:M26,1),"") -> 0
C27: =MATCH(E27,ИндексСправ,0) -> 28 | D27: =IF(F27<>"",LARGE(D26:D26,1)+1,"") -> 2 | E27: =INDEX(Справ!$E$12:$G$13,MATCH(FFHL15Цвет,Справ!$E$12:$E$13,0),2+Корректор) -> 372.39.015 | F27: =E27 -> 372.39.015 | G27: =IF(F27<>"",INDEX(СправАссорт,фСправТоварFFH16,4),"") -> Крепление к фасаду, для Free flap H1.5, белое | J27: =IF(F27<>"",$J$26,"") -> 2 | K27: =IF($F27<>"",Таб_Вес!$AC$35,"") -> шт | L27: =IF(AND(J27<>"",M27=""),INDEX(СправАссорт,C27,7),"") -> 0 | N27: =IF(J27<>"",J27*LARGE(L27:M27,1),"") -> 0
C28: =MATCH(E28,ИндексСправ,0) -> 30 | D28: =IF(F28<>"",LARGE(D27:D27,1)+1,"") -> 3 | E28: =INDEX(Справ!$E$16:$G$17,MATCH(FFHL15Цвет,Справ!$E$16:$E$17,0),2+Корректор) -> 372.39.017 | F28: =E28 -> 372.39.017 | G28: =IF(F28<>"",INDEX(СправАссорт,фСправТоварFFH17,4),"") -> Крепление к корпусу, для Free flap H1.5, белое | J28: =IF(F28<>"",$J$26,"") -> 2 | K28: =IF($F28<>"",Таб_Вес!$AC$35,"") -> шт | L28: =IF(AND(J28<>"",M28=""),INDEX(СправАссорт,C28,7),"") -> 0 | N28: =IF(J28<>"",J28*LARGE(L28:M28,1),"") -> 0
C29: =MATCH(E29,ИндексСправ,0) -> 26 | D29: =IF(F29<>"",LARGE(D26:D28,1)+1,"") -> 4 | E29: =INDEX(Справ!$E$20:$G$21,MATCH(FFHL15Цвет,Справ!$E$16:$E$17,0),2+Корректор) -> 372.39.003 | F29: =E29 -> 372.39.003 | G29: =IF(F29<>"",INDEX(СправАссорт,фСправТоварFFH18,4),"") -> Заглушка HAFELE для Free flap H1.5, белая, левая | J29: =IF(F29<>"",1,"") -> 1 | K29: =IF($F29<>"",Таб_Вес!$AC$35,"") -> шт | L29: =IF(AND(J29<>"",M29=""),INDEX(СправАссорт,C29,7),"") -> 0 | N29: =IF(J29<>"",J29*LARGE(L29:M29,1),"") -> 0
C30: =MATCH(E30,ИндексСправ,0) -> 25 | D30: =IF(F30<>"",LARGE(D26:D29,1)+1,"") -> 5 | E30: =INDEX(Справ!$E$24:$G$25,MATCH(FFHL15Цвет,Справ!$E$16:$E$17,0),2+Корректор) -> 372.39.002 | F30: =IF($J$26=2,E30,"") -> 372.39.002 | G30: =IF(F30<>"",INDEX(СправАссорт,фСправТоварFFH19,4),"") -> Заглушка HAFELE для Free flap H1.5, белая, правая | J30: =IF(F30<>"",1,"") -> 1 | K30: =IF($F30<>"",Таб_Вес!$AC$35,"") -> шт | L30: =IF(AND(J30<>"",M30=""),INDEX(СправАссорт,C30,7),"") -> 0 | N30: =IF(J30<>"",J30*LARGE(L30:M30,1),"") -> 0
C31: =MATCH(E31,ИндексСправ,0) -> 142 | D31: =IF(F31<>"",LARGE(D26:D30,1)+1,"") | E31: =INDEX(Карта!$B$2:$S$22,ROW()-ROW($D$25),INDIRECT(ADDRESS(ROW($D$25),COLUMN()),1)*2-1+Корректор) -> 329.17.700 | F31: =IF($M$11=Таб_Вес!$AC$25,E31,"") | G31: =IF(F31<>"",INDEX(СправАссорт,фСправТоварFFH20,4),"") | J31: =IF(AND(F31<>"",$M$13="-"),2,"") | K31: =IF($J31<>"",Таб_Вес!$AC$35,"") | L31: =IF(AND(J31<>"",M31=""),INDEX(СправАссорт,C31,7),"") | N31: =IF(J31<>"",J31*LARGE(L31:M31,1),"")
C32: =MATCH(E32,ИндексСправ,0) -> 139 | D32: =IF(F32<>"",LARGE(D$26:D31,1)+1,"") | E32: =INDEX(Карта!$B$2:$S$22,ROW()-ROW($D$25),INDIRECT(ADDRESS(ROW($D$25),COLUMN()),1)*2-1+Корректор) -> 329.73.503 | F32: =IF($M$11=Таб_Вес!$AC$25,E32,"") | G32: =IF(F32<>"",INDEX(СправАссорт,фСправТоварFFH21,4),"") | J32: =IF(AND(F32<>"",$M$13="-"),2,"") | K32: =IF($J32<>"",Таб_Вес!$AC$35,"") | L32: =IF(AND(J32<>"",M32=""),INDEX(СправАссорт,C32,7),"") | N32: =IF(J32<>"",J32*LARGE(L32:M32,1),"")
C33: =MATCH(E33,ИндексСправ,0) -> 144 | D33: =IF(F33<>"",LARGE(D$26:D32,1)+1,"") | E33: =INDEX(Карта!$B$2:$S$22,ROW()-ROW($D$25),INDIRECT(ADDRESS(ROW($D$25),COLUMN()),1)*2-1+Корректор) -> 329.17.600 | F33: =IF($M$13=Таб_Вес!$AC$25,E33,"") | G33: =IF(F33<>"",INDEX(СправАссорт,фСправТоварFFH22,4),"") | J33: =IF(AND(F33<>"",$M$11="-"),2,"") | K33: =IF($J33<>"",Таб_Вес!$AC$35,"") | L33: =IF(AND(J33<>"",M33=""),INDEX(СправАссорт,C33,7),"") | N33: =IF(J33<>"",J33*LARGE(L33:M33,1),"")
C34: =MATCH(E34,ИндексСправ,0) -> 145 | D34: =IF(F34<>"",LARGE(D$26:D33,1)+1,"") | E34: =INDEX(Карта!$B$2:$S$22,ROW()-ROW($D$25),INDIRECT(ADDRESS(ROW($D$25),COLUMN()),1)*2-1+Корректор) -> 316.51.502 | F34: =IF($M$13=Таб_Вес!$AC$25,E34,"") | G34: =IF(F34<>"",INDEX(СправАссорт,фСправТоварFFH23,4),"") | J34: =IF(AND(F34<>"",$M$11="-"),2,"") | K34: =IF($J34<>"",Таб_Вес!$AC$35,"") | L34: =IF(AND(J34<>"",M34=""),INDEX(СправАссорт,C34,7),"") | N34: =IF(J34<>"",J34*LARGE(L34:M34,1),"")
C35: =MATCH(E35,ИндексСправ,0) -> 114 | D35: =IF(F35<>"",LARGE(D$26:D34,1)+1,"") | E35: =INDEX(Карта!$B$2:$S$22,ROW()-ROW($D$25),INDIRECT(ADDRESS(ROW($D$25),COLUMN()),1)*2-1+Корректор) -> 316.53.710 | F35: =IF($M$15=Таб_Вес!$AC$25,E35,"") | G35: =IF(F35<>"",INDEX(СправАссорт,фСправТоварFFH24,4),"") | J35: =IF(AND(F35<>"",$M$11="-"),1,"") | K35: =IF($J35<>"",Таб_Вес!$AC$35,"") | L35: =IF(AND(J35<>"",M35=""),INDEX(СправАссорт,C35,7),"") | N35: =IF(J35<>"",J35*LARGE(L35:M35,1),"")
C36: =MATCH(E36,ИндексСправ,0) -> 22 | D36: =IF(F36<>"",LARGE(D26:D35,1)+1,"") | E36: =INDEX(Карта!$B$2:$S$22,ROW()-ROW($D$25),INDIRECT(ADDRESS(ROW($D$25),COLUMN()),1)*2-1+Корректор) -> 235.79.301 | F36: =IF(M17=Таб_Вес!$AC$25,E36,"") | G36: =IF(F36<>"",INDEX(СправАссорт,фСправТоварFFH25,4),"") | J36: =IF(F36<>"",1,"") | K36: =IF($F36<>"",Таб_Вес!$AC$35,"") | L36: =IF(AND(J36<>"",M36=""),INDEX(СправАссорт,C36,7),"") | N36: =IF(J36<>"",J36*LARGE(L36:M36,1),"")
C37: высота фасада 350-600 мм | L37: Итого: | N37: =SUM(N26:N36) -> 0

Sheet Курс Евро
D3: =IF(J3=Цены!M16,INDEX(Цены!$M$1:$M$6,MATCH(SUMIF(Цены!$O$1:$O$6,">0",Цены!$O$1:$O$6),Цены!$O$1:$O$6,1),1),NOW()) -> 44720.527 | I3: Обновить через интернет | J3: =IF(AND(Цены!D1<>0,I3=Цены!$M$12),Цены!M16,Цены!M17) -> Обновление через интернет не осущественно
C4: Курс Евро | D4: =IF(КУРСЕ>0,КУРСЕ,IF($I$4>0,$I$4,0)) -> 70.3 | H4: Курс Евро | I4: 70.3 | J4: =IF(I3=Цены!M11,"<== Введите курс Евро самостоятельно","")
D5: =I3 -> Обновить через интернет
I10: Ценовой сегмент | J10: Средний

Sheet Настройки цен
C6: Розничная наценка | D6: 0.3
C8: Показывать в расчете | D8: розничные цены
C13: Вы можете установить два вида цен при расчете стоимости комплектов подъемных механизмов: закупочные цены (отпускные цены поставщика) или ваши розничные цены. Для установки розничных цен укажите наценку.

Sheet Ценообразование
B2: Страница для дилеров Hafele
B3: На этой странице вы можете установить оптовую ценовую политику.
C5: На ассортимент Hafele установлена | D5: - | E5: Индивидуальная наценка | F5: 0.2
B7: Подъемные МЕХАНИЗМЫ | E7: Аксессуары к ПМ | H7: Петли
B9: Единая наценка | C9: 0.2 | E9: Единая наценка | F9: 0.2 | H9: Петли | I9: 0.15
B11: FREE FOLD | C11: 0.15 | E11: Адаптер алюм рам | F11: 0.15
B12: FREE FLAP 1.7 | C12: 0.15 | E12: Адаптер фиксатор | F12: 0.15
B13: FREE FLAP 3.15 | C13: 0.15 | E13: Амортизатор к чашке петли | F13: 0.15
B14: FREE SWING | C14: 0.15 | E14: Заглушки | F14: 0.15
B15: FREE UP | C15: 0.25 | E15: Крепление к корпусу | F15: 0.15
B16: FREE FLAP H 1.5 | C16: 0.15 | E16: Крепление к фасаду | F16: 0.15
B17: MAXI | C17: 0.15 | E17: Ограничитель угла | F17: 0.15
B18: DUO | C18: 0.15 | E18: Средняя петля для складных фасадов | F18: 0.15
E19: Регулировочный ключ | F19: 0.15
E20: Штанга | F20: 0.15
E21: Толкатели PUSH | F21: 0.15

Sheet Цены
C1: =РознНаценка -> 0.3 | D1: =IF('Курс Евро'!I3=Цены!M12,P1,'Курс Евро'!$I$4) -> 0 | L1: =L2+13.2/24 -> 44721.077 | M1: =INT(L1) -> 44721 | N1: =SUMIF(КВ!$A$1:$A$186,M1,КВ!$B$1:$B$200) -> 0 | O1: =IF(N1=0,"-",N1) -> - | P1: =SUM(O1:O6) -> 0
B2: =ФлагЦеныПрайса -> розничные цены | C2: =НЦ -> #REF! | D2: =D1*1.01 -> 0 | L2: =NOW() -> 44720.527 | M2: =TODAY() -> 44720 | N2: =SUMIF(КВ!$A$1:$A$186,M2,КВ!$B$1:$B$200) -> 0 | O2: =IF(SUM(O$1:O1)=0,IF(N2=0,"-",N2),"-") -> - | R2: =INDEX(ТабМДФ,7,MATCH("МДФ",Таб_Вес!$AI$19:$AI$21,0))*10000 -> 44720
C3: Итого евро | D3: Итого руб | E3: ЗЦ | F3: Итог нац | G3: Нац. Индивид | H3: Флаг Группы | M3: =M2-1 -> 44719 | N3: =SUMIF(КВ!$A$1:$A$186,M3,КВ!$B$1:$B$200) -> 0 | O3: =IF(SUM(O$1:O2)=0,IF(N3=0,"-",N3),"-") -> - | R3: =(YEAR(R2)-2000)+MONTH(R2)/100 -> 22.06
B4: 235.79.301 | C4: =E4*(1+F4)*(1+РознНаценка*VLOOKUP(ФлагЦеныПрайса,ЦеныПрайса,2,0)) -> 0.19645018 | D4: =C4*$D$2 -> 0 | E4: 0.1314048 | F4: =IF(Ценообразование!$E$5=Справ!$I$14,Ценообразование!$F$5,G4) -> 0.15 | G4: =IF(0<COUNTIF(Петли!E:E,B4),НацПетли,SUMIF(ПМ!E:E,B4,ПМ!G:G)) -> 0.15 | H4: =IF(0<COUNTIF(Петли!E:E,B4),3,IF(COUNTIFS(ПМ!E:E,B4,ПМ!B:B,Справ!$I$17)=1,1,IF(COUNTIFS(ПМ!E:E,B4,ПМ!B:B,Справ!$I$18)=1,2,0))) -> 2 | I4: =IF(H4=1,IF(Ценообразование!$B$9=Справ!$I$11,Ценообразование!$C$9,G4),IF(H4=2,IF(Ценообразование!$E$9=Справ!$I$11,Ценообразование!$F$9,G4),IF(H4=3,НацПетли,0))) -> 0.2 | M4: =M3-1 -> 44718 | N4: =SUMIF(КВ!$A$1:$A$186,M4,КВ!$B$1:$B$200) -> 0 | O4: =IF(SUM(O$1:O3)=0,IF(N4=0,"-",N4),"-") -> - | Q4: 19.08 | R4: 19.04 | S4: =R4-R3 -> -3.02
B5: 329.03.640 | C5: =E5*(1+F5)*(1+РознНаценка*VLOOKUP(ФлагЦеныПрайса,ЦеныПрайса,2,0)) -> 1.7241784 | D5: =C5*$D$2 -> 0 | E5: 1.1532966 | F5: =IF(Ценообразование!$E$5=Справ!$I$14,Ценообразование!$F$5,G5) -> 0.15 | G5: =IF(0<COUNTIF(Петли!E:E,B5),НацПетли,SUMIF(ПМ!E:E,B5,ПМ!G:G)) -> 0.15 | H5: =IF(0<COUNTIF(Петли!E:E,B5),3,IF(COUNTIFS(ПМ!E:E,B5,ПМ!B:B,Справ!$I$17)=1,1,IF(COUNTIFS(ПМ!E:E,B5,ПМ!B:B,Справ!$I$18)=1,2,0))) -> 3 | I5: =IF(H5=1,IF(Ценообразование!$B$9=Справ!$I$11,Ценообразование!$C$9,G5),IF(H5=2,IF(Ценообразование!$E$9=Справ!$I$11,Ценообразование!$F$9,G5),IF(H5=3,НацПетли,0))) -> 0.15 | M5: =M4-1 -> 44717 | N5: =SUMIF(КВ!$A$1:$A$186,M5,КВ!$B$1:$B$200) -> 0 | O5: =IF(SUM(O$1:O4)=0,IF(N5=0,"-",N5),"-") -> - | R5: =IF(S4>=1,S4,0) -> 0
B6: 329.71.503 | C6: =E6*(1+F6)*(1+РознНаценка*VLOOKUP(ФлагЦеныПрайса,ЦеныПрайса,2,0)) -> 0.77792208 | D6: =C6*$D$2 -> 0 | E6: 0.5984016 | F6: =IF(Ценообразование!$E$5=Справ!$I$14,Ценообразование!$F$5,G6) -> 0 | G6: =IF(0<COUNTIF(Петли!E:E,B6),НацПетли,SUMIF(ПМ!E:E,B6,ПМ!G:G)) -> 0 | H6: =IF(0<COUNTIF(Петли!E:E,B6),3,IF(COUNTIFS(ПМ!E:E,B6,ПМ!B:B,Справ!$I$17)=1,1,IF(COUNTIFS(ПМ!E:E,B6,ПМ!B:B,Справ!$I$18)=1,2,0))) -> 0 | I6: =IF(H6=1,IF(Ценообразование!$B$9=Справ!$I$11,Ценообразование!$C$9,G6),IF(H6=2,IF(Ценообразование!$E$9=Справ!$I$11,Ценообразование!$F$9,G6),IF(H6=3,НацПетли,0))) -> 0 | K6: =SUMIF(O1:O6,">0",O1:O6) -> 0 | M6: =M5-1 -> 44716 | N6: =SUMIF(КВ!$A$1:$A$186,M6,КВ!$B$1:$B$200) -> 0 | O6: =IF(SUM(O$1:O5)=0,IF(N6=0,"-",N6),"-") -> -
B7: 372.33.410 | C7: =E7*(1+F7)*(1+РознНаценка*VLOOKUP(ФлагЦеныПрайса,ЦеныПрайса,2,0)) -> 33.452897 | D7: =C7*$D$2 -> 0 | E7: 20.586398 | F7: =IF(Ценообразование!$E$5=Справ!$I$14,Ценообразование!$F$5,G7) -> 0.25 | G7: =IF(0<COUNTIF(Петли!E:E,B7),НацПетли,SUMIF(ПМ!E:E,B7,ПМ!G:G)) -> 0.25 | H7: =IF(0<COUNTIF(Петли!E:E,B7),3,IF(COUNTIFS(ПМ!E:E,B7,ПМ!B:B,Справ!$I$17)=1,1,IF(COUNTIFS(ПМ!E:E,B7,ПМ!B:B,Справ!$I$18)=1,2,0))) -> 1 | I7: =IF(H7=1,IF(Ценообразование!$B$9=Справ!$I$11,Ценообразование!$C$9,G7),IF(H7=2,IF(Ценообразование!$E$9=Справ!$I$11,Ценообразование!$F$9,G7),IF(H7=3,НацПетли,0))) -> 0.2 | K7: =MATCH(SUMIF($O$1:$O$6,">0",$O$1:$O$6),$O$1:$O$6,1) -> #N/A
B8: 372.33.411 | C8: =E8*(1+F8)*(1+РознНаценка*VLOOKUP(ФлагЦеныПрайса,ЦеныПрайса,2,0)) -> 33.452897 | D8: =C8*$D$2 -> 0 | E8: 20.586398 | F8: =IF(Ценообразование!$E$5=Справ!$I$14,Ценообразование!$F$5,G8) -> 0.25 | G8: =IF(0<COUNTIF(Петли!E:E,B8),НацПетли,SUMIF(ПМ!E:E,B8,ПМ!G:G)) -> 0.25 | H8: =IF(0<COUNTIF(Петли!E:E,B8),3,IF(COUNTIFS(ПМ!E:E,B8,ПМ!B:B,Справ!$I$17)=1,1,IF(COUNTIFS(ПМ!E:E,B8,ПМ!B:B,Справ!$I$18)=1,2,0))) -> 1 | I8: =IF(H8=1,IF(Ценообразование!$B$9=Справ!$I$11,Ценообразование!$C$9,G8),IF(H8=2,IF(Ценообразование!$E$9=Справ!$I$11,Ценообразование!$F$9,G8),IF(H8=3,НацПетли,0))) -> 0.2
B9: 372.33.412 | C9: =E9*(1+F9)*(1+РознНаценка*VLOOKUP(ФлагЦеныПрайса,ЦеныПрайса,2,0)) -> 33.452897 | D9: =C9*$D$2 -> 0 | E9: 20.586398 | F9: =IF(Ценообразование!$E$5=Справ!$I$14,Ценообразование!$F$5,G9) -> 0.25 | G9: =IF(0<COUNTIF(Петли!E:E,B9),НацПетли,SUMIF(ПМ!E:E,B9,ПМ!G:G)) -> 0.25 | H9: =IF(0<COUNTIF(Петли!E:E,B9),3,IF(COUNTIFS(ПМ!E:E,B9,ПМ!B:B,Справ!$I$17)=1,1,IF(COUNTIFS(ПМ!E:E,B9,ПМ!B:B,Справ!$I$18)=1,2,0))) -> 1 | I9: =IF(H9=1,IF(Ценообразование!$B$9=Справ!$I$11,Ценообразование!$C$9,G9),IF(H9=2,IF(Ценообразование!$E$9=Справ!$I$11,Ценообразование!$F$9,G9),IF(H9=3,НацПетли,0))) -> 0.2
B10: 372.33.413 | C10: =E10*(1+F10)*(1+РознНаценка*VLOOKUP(ФлагЦеныПрайса,ЦеныПрайса,2,0)) -> 33.452897 | D10: =C10*$D$2 -> 0 | E10: 20.586398 | F10: =IF(Ценообразование!$E$5=Справ!$I$14,Ценообразование!$F$5,G10) -> 0.25 | G10: =IF(0<COUNTIF(Петли!E:E,B10),НацПетли,SUMIF(ПМ!E:E,B10,ПМ!G:G)) -> 0.25 | H10: =IF(0<COUNTIF(Петли!E:E,B10),3,IF(COUNTIFS(ПМ!E:E,B10,ПМ!B:B,Справ!$I$17)=1,1,IF(COUNTIFS(ПМ!E:E,B10,ПМ!B:B,Справ!$I$18)=1,2,0))) -> 1 | I10: =IF(H10=1,IF(Ценообразование!$B$9=Справ!$I$11,Ценообразование!$C$9,G10),IF(H10=2,IF(Ценообразование!$E$9=Справ!$I$11,Ценообразование!$F$9,G10),IF(H10=3,НацПетли,0))) -> 0.2
B11: 372.33.422 | C11: =E11*(1+F11)*(1+РознНаценка*VLOOKUP(ФлагЦеныПрайса,ЦеныПрайса,2,0)) -> 33.452897 | D11: =C11*$D$2 -> 0 | E11: 20.586398 | F11: =IF(Ценообразование!$E$5=Справ!$I$14,Ценообразование!$F$5,G11) -> 0.25 | G11: =IF(0<COUNTIF(Петли!E:E,B11),НацПетли,SUMIF(ПМ!E:E,B11,ПМ!G:G)) -> 0.25 | H11: =IF(0<COUNTIF(Петли!E:E,B11),3,IF(COUNTIFS(ПМ!E:E,B11,ПМ!B:B,Справ!$I$17)=1,1,IF(COUNTIFS(ПМ!E:E,B11,ПМ!B:B,Справ!$I$18)=1,2,0))) -> 1 | I11: =IF(H11=1,IF(Ценообразование!$B$9=Справ!$I$11,Ценообразование!$C$9,G11),IF(H11=2,IF(Ценообразование!$E$9=Справ!$I$11,Ценообразование!$F$9,G11),IF(H11=3,НацПетли,0))) -> 0.2 | M11: Установлен пользователем
B12: 372.33.423 | C12: =E12*(1+F12)*(1+РознНаценка*VLOOKUP(ФлагЦеныПрайса,ЦеныПрайса,2,0)) -> 33.452897 | D12: =C12*$D$2 -> 0 | E12: 20.586398 | F12: =IF(Ценообразование!$E$5=Справ!$I$14,Ценообразование!$F$5,G12) -> 0.25 | G12: =IF(0<COUNTIF(Петли!E:E,B12),НацПетли,SUMIF(ПМ!E:E,B12,ПМ!G:G)) -> 0.25 | H12: =IF(0<COUNTIF(Петли!E:E,B12),3,IF(COUNTIFS(ПМ!E:E,B12,ПМ!B:B,Справ!$I$17)=1,1,IF(COUNTIFS(ПМ!E:E,B12,ПМ!B:B,Справ!$I$18)=1,2,0))) -> 1 | I12: =IF(H12=1,IF(Ценообразование!$B$9=Справ!$I$11,Ценообразование!$C$9,G12),IF(H12=2,IF(Ценообразование!$E$9=Справ!$I$11,Ценообразование!$F$9,G12),IF(H12=3,НацПетли,0))) -> 0.2 | M12: Обновить через интернет
B13: 372.33.424 | C13: =E13*(1+F13)*(1+РознНаценка*VLOOKUP(ФлагЦеныПрайса,ЦеныПрайса,2,0)) -> 33.452897 | D13: =C13*$D$2 -> 0 | E13: 20.586398 | F13: =IF(Ценообразование!$E$5=Справ!$I$14,Ценообразование!$F$5,G13) -> 0.25 | G13: =IF(0<COUNTIF(Петли!E:E,B13),НацПетли,SUMIF(ПМ!E:E,B13,ПМ!G:G)) -> 0.25 | H13: =IF(0<COUNTIF(Петли!E:E,B13),3,IF(COUNTIFS(ПМ!E:E,B13,ПМ!B:B,Справ!$I$17)=1,1,IF(COUNTIFS(ПМ!E:E,B13,ПМ!B:B,Справ!$I$18)=1,2,0))) -> 1 | I13: =IF(H13=1,IF(Ценообразование!$B$9=Справ!$I$11,Ценообразование!$C$9,G13),IF(H13=2,IF(Ценообразование!$E$9=Справ!$I$11,Ценообразование!$F$9,G13),IF(H13=3,НацПетли,0))) -> 0.2
B14: 372.33.425 | C14: =E14*(1+F14)*(1+РознНаценка*VLOOKUP(ФлагЦеныПрайса,ЦеныПрайса,2,0)) -> 33.452897 | D14: =C14*$D$2 -> 0 | E14: 20.586398 | F14: =IF(Ценообразование!$E$5=Справ!$I$14,Ценообразование!$F$5,G14) -> 0.25 | G14: =IF(0<COUNTIF(Петли!E:E,B14),НацПетли,SUMIF(ПМ!E:E,B14,ПМ!G:G)) -> 0.25 | H14: =IF(0<COUNTIF(Петли!E:E,B14),3,IF(COUNTIFS(ПМ!E:E,B14,ПМ!B:B,Справ!$I$17)=1,1,IF(COUNTIFS(ПМ!E:E,B14,ПМ!B:B,Справ!$I$18)=1,2,0))) -> 1 | I14: =IF(H14=1,IF(Ценообразование!$B$9=Справ!$I$11,Ценообразование!$C$9,G14),IF(H14=2,IF(Ценообразование!$E$9=Справ!$I$11,Ценообразование!$F$9,G14),IF(H14=3,НацПетли,0))) -> 0.2
B15: 372.33.432 | C15: =E15*(1+F15)*(1+РознНаценка*VLOOKUP(ФлагЦеныПрайса,ЦеныПрайса,2,0)) -> 33.452897 | D15: =C15*$D$2 -> 0 | E15: 20.586398 | F15: =IF(Ценообразование!$E$5=Справ!$I$14,Ценообразование!$F$5,G15) -> 0.25 | G15: =IF(0<COUNTIF(Петли!E:E,B15),НацПетли,SUMIF(ПМ!E:E,B15,ПМ!G:G)) -> 0.25 | H15: =IF(0<COUNTIF(Петли!E:E,B15),3,IF(COUNTIFS(ПМ!E:E,B15,ПМ!B:B,Справ!$I$17)=1,1,IF(COUNTIFS(ПМ!E:E,B15,ПМ!B:B,Справ!$I$18)=1,2,0))) -> 1 | I15: =IF(H15=1,IF(Ценообразование!$B$9=Справ!$I$11,Ценообразование!$C$9,G15),IF(H15=2,IF(Ценообразование!$E$9=Справ!$I$11,Ценообразование!$F$9,G15),IF(H15=3,НацПетли,0))) -> 0.2
B16: 372.33.433 | C16: =E16*(1+F16)*(1+РознНаценка*VLOOKUP(ФлагЦеныПрайса,ЦеныПрайса,2,0)) -> 33.452897 | D16: =C16*$D$2 -> 0 | E16: 20.586398 | F16: =IF(Ценообразование!$E$5=Справ!$I$14,Ценообразование!$F$5,G16) -> 0.25 | G16: =IF(0<COUNTIF(Петли!E:E,B16),НацПетли,SUMIF(ПМ!E:E,B16,ПМ!G:G)) -> 0.25 | H16: =IF(0<COUNTIF(Петли!E:E,B16),3,IF(COUNTIFS(ПМ!E:E,B16,ПМ!B:B,Справ!$I$17)=1,1,IF(COUNTIFS(ПМ!E:E,B16,ПМ!B:B,Справ!$I$18)=1,2,0))) -> 1 | I16: =IF(H16=1,IF(Ценообразование!$B$9=Справ!$I$11,Ценообразование!$C$9,G16),IF(H16=2,IF(Ценообразование!$E$9=Справ!$I$11,Ценообразование!$F$9,G16),IF(H16=3,НацПетли,0))) -> 0.2 | M16: Обновленно успешно
B17: 372.33.434 | C17: =E17*(1+F17)*(1+РознНаценка*VLOOKUP(ФлагЦеныПрайса,ЦеныПрайса,2,0)) -> 33.452897 | D17: =C17*$D$2 -> 0 | E17: 20.586398 | F17: =IF(Ценообразование!$E$5=Справ!$I$14,Ценообразование!$F$5,G17) -> 0.25 | G17: =IF(0<COUNTIF(Петли!E:E,B17),НацПетли,SUMIF(ПМ!E:E,B17,ПМ!G:G)) -> 0.25 | H17: =IF(0<COUNTIF(Петли!E:E,B17),3,IF(COUNTIFS(ПМ!E:E,B17,ПМ!B:B,Справ!$I$17)=1,1,IF(COUNTIFS(ПМ!E:E,B17,ПМ!B:B,Справ!$I$18)=1,2,0))) -> 1 | I17: =IF(H17=1,IF(Ценообразование!$B$9=Справ!$I$11,Ценообразование!$C$9,G17),IF(H17=2,IF(Ценообразование!$E$9=Справ!$I$11,Ценообразование!$F$9,G17),IF(H17=3,НацПетли,0))) -> 0.2 | M17: Обновление через интернет не осущественно
B18: 372.33.435 | C18: =E18*(1+F18)*(1+РознНаценка*VLOOKUP(ФлагЦеныПрайса,ЦеныПрайса,2,0)) -> 33.452897 | D18: =C18*$D$2 -> 0 | E18: 20.586398 | F18: =IF(Ценообразование!$E$5=Справ!$I$14,Ценообразование!$F$5,G18) -> 0.25 | G18: =IF(0<COUNTIF(Петли!E:E,B18),НацПетли,SUMIF(ПМ!E:E,B18,ПМ!G:G)) -> 0.25 | H18: =IF(0<COUNTIF(Петли!E:E,B18),3,IF(COUNTIFS(ПМ!E:E,B18,ПМ!B:B,Справ!$I$17)=1,1,IF(COUNTIFS(ПМ!E:E,B18,ПМ!B:B,Справ!$I$18)=1,2,0))) -> 1 | I18: =IF(H18=1,IF(Ценообразование!$B$9=Справ!$I$11,Ценообразование!$C$9,G18),IF(H18=2,IF(Ценообразование!$E$9=Справ!$I$11,Ценообразование!$F$9,G18),IF(H18=3,НацПетли,0))) -> 0.2
B19: 372.33.670 | C19: =E19*(1+F19)*(1+РознНаценка*VLOOKUP(ФлагЦеныПрайса,ЦеныПрайса,2,0)) -> 2.9159515 | D19: =C19*$D$2 -> 0 | E19: 1.9504692 | F19: =IF(Ценообразование!$E$5=Справ!$I$14,Ценообразование!$F$5,G19) -> 0.15 | G19: =IF(0<COUNTIF(Петли!E:E,B19),НацПетли,SUMIF(ПМ!E:E,B19,ПМ!G:G)) -> 0.15 | H19: =IF(0<COUNTIF(Петли!E:E,B19),3,IF(COUNTIFS(ПМ!E:E,B19,ПМ!B:B,Справ!$I$17)=1,1,IF(COUNTIFS(ПМ!E:E,B19,ПМ!B:B,Справ!$I$18)=1,2,0))) -> 2 | I19: =IF(H19=1,IF(Ценообразование!$B$9=Справ!$I$11,Ценообразование!$C$9,G19),IF(H19=2,IF(Ценообразование!$E$9=Справ!$I$11,Ценообразование!$F$9,G19),IF(H19=3,НацПетли,0))) -> 0.2
B20: 372.33.675 | C20: =E20*(1+F20)*(1+РознНаценка*VLOOKUP(ФлагЦеныПрайса,ЦеныПрайса,2,0)) -> 2.9159515 | D20: =C20*$D$2 -> 0 | E20: 1.9504692 | F20: =IF(Ценообразование!$E$5=Справ!$I$14,Ценообразование!$F$5,G20) -> 0.15 | G20: =IF(0<COUNTIF(Петли!E:E,B20),НацПетли,SUMIF(ПМ!E:E,B20,ПМ!G:G)) -> 0.15 | H20: =IF(0<COUNTIF(Петли!E:E,B20),3,IF(COUNTIFS(ПМ!E:E,B20,ПМ!B:B,Справ!$I$17)=1,1,IF(COUNTIFS(ПМ!E:E,B20,ПМ!B:B,Справ!$I$18)=1,2,0))) -> 2 | I20: =IF(H20=1,IF(Ценообразование!$B$9=Справ!$I$11,Ценообразование!$C$9,G20),IF(H20=2,IF(Ценообразование!$E$9=Справ!$I$11,Ценообразование!$F$9,G20),IF(H20=3,НацПетли,0))) -> 0.2
B21: 372.33.696 | C21: =E21*(1+F21)*(1+РознНаценка*VLOOKUP(ФлагЦеныПрайса,ЦеныПрайса,2,0)) -> 5.1194711 | D21: =C21*$D$2 -> 0 | E21: 3.4243954 | F21: =IF(Ценообразование!$E$5=Справ!$I$14,Ценообразование!$F$5,G21) -> 0.15 | G21: =IF(0<COUNTIF(Петли!E:E,B21),НацПетли,SUMIF(ПМ!E:E,B21,ПМ!G:G)) -> 0.15 | H21: =IF(0<COUNTIF(Петли!E:E,B21),3,IF(COUNTIFS(ПМ!E:E,B21,ПМ!B:B,Справ!$I$17)=1,1,IF(COUNTIFS(ПМ!E:E,B21,ПМ!B:B,Справ!$I$18)=1,2,0))) -> 2 | I21: =IF(H21=1,IF(Ценообразование!$B$9=Справ!$I$11,Ценообразование!$C$9,G21),IF(H21=2,IF(Ценообразование!$E$9=Справ!$I$11,Ценообразование!$F$9,G21),IF(H21=3,НацПетли,0))) -> 0.2
B22: 372.33.698 | C22: =E22*(1+F22)*(1+РознНаценка*VLOOKUP(ФлагЦеныПрайса,ЦеныПрайса,2,0)) -> 9.0981164 | D22: =C22*$D$2 -> 0 | E22: 6.0856966 | F22: =IF(Ценообразование!$E$5=Справ!$I$14,Ценообразование!$F$5,G22) -> 0.15 | G22: =IF(0<COUNTIF(Петли!E:E,B22),НацПетли,SUMIF(ПМ!E:E,B22,ПМ!G:G)) -> 0.15 | H22: =IF(0<COUNTIF(Петли!E:E,B22),3,IF(COUNTIFS(ПМ!E:E,B22,ПМ!B:B,Справ!$I$17)=1,1,IF(COUNTIFS(ПМ!E:E,B22,ПМ!B:B,Справ!$I$18)=1,2,0))) -> 2 | I22: =IF(H22=1,IF(Ценообразование!$B$9=Справ!$I$11,Ценообразование!$C$9,G22),IF(H22=2,IF(Ценообразование!$E$9=Справ!$I$11,Ценообразование!$F$9,G22),IF(H22=3,НацПетли,0))) -> 0.2
B23: 372.33.699 | C23: =E23*(1+F23)*(1+РознНаценка*VLOOKUP(ФлагЦеныПрайса,ЦеныПрайса,2,0)) -> 0.48692688 | D23: =C23*$D$2 -> 0 | E23: 0.3257036 | F23: =IF(Ценообразование!$E$5=Справ!$I$14,Ценообразование!$F$5,G23) -> 0.15 | G23: =IF(0<COUNTIF(Петли!E:E,B23),НацПетли,SUMIF(ПМ!E:E,B23,ПМ!G:G)) -> 0.15 | H23: =IF(0<COUNTIF(Петли!E:E,B23),3,IF(COUNTIFS(ПМ!E:E,B23,ПМ!B:B,Справ!$I$17)=1,1,IF(COUNTIFS(ПМ!E:E,B23,ПМ!B:B,Справ!$I$18)=1,2,0))) -> 2 | I23: =IF(H23=1,IF(Ценообразование!$B$9=Справ!$I$11,Ценообразование!$C$9,G23),IF(H23=2,IF(Ценообразование!$E$9=Справ!$I$11,Ценообразование!$F$9,G23),IF(H23=3,НацПетли,0))) -> 0.2
B24: 372.34.404 | C24: =E24*(1+F24)*(1+РознНаценка*VLOOKUP(ФлагЦеныПрайса,ЦеныПрайса,2,0)) -> 30.214094 | D24: =C24*$D$2 -> 0 | E24: 20.210096 | F24: =IF(Ценообразование!$E$5=Справ!$I$14,Ценообразование!$F$5,G24) -> 0.15 | G24: =IF(0<COUNTIF(Петли!E:E,B24),НацПетли,SUMIF(ПМ!E:E,B24,ПМ!G:G)) -> 0.15 | H24: =IF(0<COUNTIF(Петли!E:E,B24),3,IF(COUNTIFS(ПМ!E:E,B24,ПМ!B:B,Справ!$I$17)=1,1,IF(COUNTIFS(ПМ!E:E,B24,ПМ!B:B,Справ!$I$18)=1,2,0))) -> 1 | I24: =IF(H24=1,IF(Ценообразование!$B$9=Справ!$I$11,Ценообразование!$C$9,G24),IF(H24=2,IF(Ценообразование!$E$9=Справ!$I$11,Ценообразование!$F$9,G24),IF(H24=3,НацПетли,0))) -> 0.2
B25: 372.34.405 | C25: =E25*(1+F25)*(1+РознНаценка*VLOOKUP(ФлагЦеныПрайса,ЦеныПрайса,2,0)) -> 30.214094 | D25: =C25*$D$2 -> 0 | E25: 20.210096 | F25: =IF(Ценообразование!$E$5=Справ!$I$14,Ценообразование!$F$5,G25) -> 0.15 | G25: =IF(0<COUNTIF(Петли!E:E,B25),НацПетли,SUMIF(ПМ!E:E,B25,ПМ!G:G)) -> 0.15 | H25: =IF(0<COUNTIF(Петли!E:E,B25),3,IF(COUNTIFS(ПМ!E:E,B25,ПМ!B:B,Справ!$I$17)=1,1,IF(COUNTIFS(ПМ!E:E,B25,ПМ!B:B,Справ!$I$18)=1,2,0))) -> 1 | I25: =IF(H25=1,IF(Ценообразование!$B$9=Справ!$I$11,Ценообразование!$C$9,G25),IF(H25=2,IF(Ценообразование!$E$9=Справ!$I$11,Ценообразование!$F$9,G25),IF(H25=3,НацПетли,0))) -> 0.2
B26: 372.34.412 | C26: =E26*(1+F26)*(1+РознНаценка*VLOOKUP(ФлагЦеныПрайса,ЦеныПрайса,2,0)) -> 30.214094 | D26: =C26*$D$2 -> 0 | E26: 20.210096 | F26: =IF(Ценообразование!$E$5=Справ!$I$14,Ценообразование!$F$5,G26) -> 0.15 | G26: =IF(0<COUNTIF(Петли!E:E,B26),НацПетли,SUMIF(ПМ!E:E,B26,ПМ!G:G)) -> 0.15 | H26: =IF(0<COUNTIF(Петли!E:E,B26),3,IF(COUNTIFS(ПМ!E:E,B26,ПМ!B:B,Справ!$I$17)=1,1,IF(COUNTIFS(ПМ!E:E,B26,ПМ!B:B,Справ!$I$18)=1,2,0))) -> 1 | I26: =IF(H26=1,IF(Ценообразование!$B$9=Справ!$I$11,Ценообразование!$C$9,G26),IF(H26=2,IF(Ценообразование!$E$9=Справ!$I$11,Ценообразование!$F$9,G26),IF(H26=3,НацПетли,0))) -> 0.2
B27: 372.34.413 | C27: =E27*(1+F27)*(1+РознНаценка*VLOOKUP(ФлагЦеныПрайса,ЦеныПрайса,2,0)) -> 30.214094 | D27: =C27*$D$2 -> 0 | E27: 20.210096 | F27: =IF(Ценообразование!$E$5=Справ!$I$14,Ценообразование!$F$5,G27) -> 0.15 | G27: =IF(0<COUNTIF(Петли!E:E,B27),НацПетли,SUMIF(ПМ!E:E,B27,ПМ!G:G)) -> 0.15 | H27: =IF(0<COUNTIF(Петли!E:E,B27),3,IF(COUNTIFS(ПМ!E:E,B27,ПМ!B:B,Справ!$I$17)=1,1,IF(COUNTIFS(ПМ!E:E,B27,ПМ!B:B,Справ!$I$18)=1,2,0))) -> 1 | I27: =IF(H27=1,IF(Ценообразование!$B$9=Справ!$I$11,Ценообразование!$C$9,G27),IF(H27=2,IF(Ценообразование!$E$9=Справ!$I$11,Ценообразование!$F$9,G27),IF(H27=3,НацПетли,0))) -> 0.2
B28: 372.34.414 | C28: =E28*(1+F28)*(1+РознНаценка*VLOOKUP(ФлагЦеныПрайса,ЦеныПрайса,2,0)) -> 30.214094 | D28: =C28*$D$2 -> 0 | E28: 20.210096 | F28: =IF(Ценообразование!$E$5=Справ!$I$14,Ценообразование!$F$5,G28) -> 0.15 | G28: =IF(0<COUNTIF(Петли!E:E,B28),НацПетли,SUMIF(ПМ!E:E,B28,ПМ!G:G)) -> 0.15 | H28: =IF(0<COUNTIF(Петли!E:E,B28),3,IF(COUNTIFS(ПМ!E:E,B28,ПМ!B:B,Справ!$I$17)=1,1,IF(COUNTIFS(ПМ!E:E,B28,ПМ!B:B,Справ!$I$18)=1,2,0))) -> 1 | I28: =IF(H28=1,IF(Ценообразование!$B$9=Справ!$I$11,Ценообразование!$C$9,G28),IF(H28=2,IF(Ценообразование!$E$9=Справ!$I$11,Ценообразование!$F$9,G28),IF(H28=3,НацПетли,0))) -> 0.2
B29: 372.34.415 | C29: =E29*(1+F29)*(1+РознНаценка*VLOOKUP(ФлагЦеныПрайса,ЦеныПрайса,2,0)) -> 30.214094 | D29: =C29*$D$2 -> 0 | E29: 20.210096 | F29: =IF(Ценообразование!$E$5=Справ!$I$14,Ценообразование!$F$5,G29) -> 0.15 | G29: =IF(0<COUNTIF(Петли!E:E,B29),НацПетли,SUMIF(ПМ!E:E,B29,ПМ!G:G)) -> 0.15 | H29: =IF(0<COUNTIF(Петли!E:E,B29),3,IF(COUNTIFS(ПМ!E:E,B29,ПМ!B:B,Справ!$I$17)=1,1,IF(COUNTIFS(ПМ!E:E,B29,ПМ!B:B,Справ!$I$18)=1,2,0))) -> 1 | I29: =IF(H29=1,IF(Ценообразование!$B$9=Справ!$I$11,Ценообразование!$C$9,G29),IF(H29=2,IF(Ценообразование!$E$9=Справ!$I$11,Ценообразование!$F$9,G29),IF(H29=3,НацПетли,0))) -> 0.2
... B138: 372.37.683 | C138: =E138*(1+F138)*(1+РознНаценка*VLOOKUP(ФлагЦеныПрайса,ЦеныПрайса,2,0)) -> 79.030039 | D138: =C138*$D$2 -> 0 | E138: 52.862903 | F138: =IF(Ценообразование!$E$5=Справ!$I$14,Ценообразование!$F$5,G138) -> 0.15 | G138: =IF(0<COUNTIF(Петли!E:E,B138),НацПетли,SUMIF(ПМ!E:E,B138,ПМ!G:G)) -> 0.15 | H138: =IF(0<COUNTIF(Петли!E:E,B138),3,IF(COUNTIFS(ПМ!E:E,B138,ПМ!B:B,Справ!$I$17)=1,1,IF(COUNTIFS(ПМ!E:E,B138,ПМ!B:B,Справ!$I$18)=1,2,0))) -> 1 | I138: =IF(H138=1,IF(Ценообразование!$B$9=Справ!$I$11,Ценообразование!$C$9,G138),IF(H138=2,IF(Ценообразование!$E$9=Справ!$I$11,Ценообразование!$F$9,G138),IF(H138=3,НацПетли,0))) -> 0.2

Sheet Мех
E3: FREE FOLD | F3: FFD | H3: вес | I3: ='Free-Серия'!M5 -> 5.9368 | L3: высота | M3: ='Free-Серия'!I5 -> 800
D4: № | E4: АртикулП | F4: АртикулЛ | H4: ВеСот | I4: ВеСдо | J4: FFDВеСот2 | K4: FFDВеСдо2 | L4: ВыСот | M4: ВыСдо | N4: механизм | O4: FFDПММ | P4: по разм | Q4: вес | R4: высота
A5: =IF(AND(FFDВысота>=FFDВыСот,FFDВысота<=FFDВыСдо,FFDВес>=FFDВеСот,FFDВес<=FFDВеСдо),FFD№,"-") -> - | B5: =IF(A5<>"-",ABS((FFDВес-H5)/(I5-H5)*2-1),"-") -> - | C5: =IF(ISNUMBER(A5),IF(O5=O6,IF(B5<=B6,A5,"-"),IF(O4=O5,IF(B4>B5,A5,"-"),A5)),"-") -> - | D5: 1 | E5: 372.37.430 | F5: 372.37.431 | H5: 4.3 | I5: 9.2 | L5: 580 | M5: 650 | N5: E3f0 | O5: E
A6: =IF(AND(FFDВысота>=FFDВыСот,FFDВысота<=FFDВыСдо,FFDВес>=FFDВеСот,FFDВес<=FFDВеСдо),FFD№,"-") -> - | B6: =IF(A6<>"-",ABS((FFDВес-H6)/(I6-H6)*2-1),"-") -> - | C6: =IF(ISNUMBER(A6),IF(O6=O7,IF(B6<=B7,A6,"-"),IF(O5=O6,IF(B5>B6,A6,"-"),A6)),"-") -> - | D6: 2 | E6: 372.37.432 | F6: 372.37.433 | H6: 6.5 | I6: 13.5 | L6: 580 | M6: 650 | N6: E4f0 | O6: E
A7: =IF(AND(FFDВысота>=FFDВыСот,FFDВысота<=FFDВыСдо,FFDВес>=FFDВеСот,FFDВес<=FFDВеСдо),FFD№,"-") -> - | B7: =IF(A7<>"-",ABS((FFDВес-H7)/(I7-H7)*2-1),"-") -> - | C7: =IF(ISNUMBER(A7),IF(O7=O8,IF(B7<=B8,A7,"-"),IF(O6=O7,IF(B6>B7,A7,"-"),A7)),"-") -> - | D7: 3 | E7: 372.37.439 | F7: 372.37.440 | H7: 3.9 | I7: 7.9 | L7: 650 | M7: 730 | N7: F3f0 | O7: F
A8: =IF(AND(FFDВысота>=FFDВыСот,FFDВысота<=FFDВыСдо,FFDВес>=FFDВеСот,FFDВес<=FFDВеСдо),FFD№,"-") -> - | B8: =IF(A8<>"-",ABS((FFDВес-H8)/(I8-H8)*2-1),"-") -> - | C8: =IF(ISNUMBER(A8),IF(O8=O9,IF(B8<=B9,A8,"-"),IF(O7=O8,IF(B7>B8,A8,"-"),A8)),"-") -> - | D8: 4 | E8: 372.37.441 | F8: 372.37.442 | H8: 5.8 | I8: 12.2 | L8: 650 | M8: 730 | N8: F4f0 | O8: F
A9: =IF(AND(FFDВысота>=FFDВыСот,FFDВысота<=FFDВыСдо,FFDВес>=FFDВеСот,FFDВес<=FFDВеСдо),FFD№,"-") -> - | B9: =IF(A9<>"-",ABS((FFDВес-H9)/(I9-H9)*2-1),"-") -> - | C9: =IF(ISNUMBER(A9),IF(O9=O10,IF(B9<=B10,A9,"-"),IF(O8=O9,IF(B8>B9,A9,"-"),A9)),"-") -> - | D9: 5 | E9: 372.37.450 | F9: 372.37.451 | H9: 5.3 | I9: 11.1 | L9: 710 | M9: 790 | N9: G4f0 | O9: G
A10: =IF(AND(FFDВысота>=FFDВыСот,FFDВысота<=FFDВыСдо,FFDВес>=FFDВеСот,FFDВес<=FFDВеСдо),FFD№,"-") -> - | B10: =IF(A10<>"-",ABS((FFDВес-H10)/(I10-H10)*2-1),"-") -> - | C10: =IF(ISNUMBER(A10),IF(O10=O11,IF(B10<=B11,A10,"-"),IF(O9=O10,IF(B9>B10,A10,"-"),A10)),"-") -> - | D10: 6 | E10: 372.37.452 | F10: 372.37.453 | H10: 8.7 | I10: 17.2 | L10: 710 | M10: 790 | N10: G5f0 | O10: G
A11: =IF(AND(FFDВысота>=FFDВыСот,FFDВысота<=FFDВыСдо,FFDВес>=FFDВеСот,FFDВес<=FFDВеСдо),FFD№,"-") -> 7 | B11: =IF(A11<>"-",ABS((FFDВес-H11)/(I11-H11)*2-1),"-") -> 0.616 | C11: =IF(ISNUMBER(A11),IF(O11=O12,IF(B11<=B12,A11,"-"),IF(O10=O11,IF(B10>B11,A11,"-"),A11)),"-") -> 7 | D11: 7 | E11: 372.37.459 | F11: 372.37.460 | H11: 4.9 | I11: 10.3 | L11: 770 | M11: 840 | N11: H4f0 | O11: H
A12: =IF(AND(FFDВысота>=FFDВыСот,FFDВысота<=FFDВыСдо,FFDВес>=FFDВеСот,FFDВес<=FFDВеСдо),FFD№,"-") -> - | B12: =IF(A12<>"-",ABS((FFDВес-H12)/(I12-H12)*2-1),"-") -> - | C12: =IF(ISNUMBER(A12),IF(O12=O13,IF(B12<=B13,A12,"-"),IF(O11=O12,IF(B11>B12,A12,"-"),A12)),"-") -> - | D12: 8 | E12: 372.37.461 | F12: 372.37.462 | H12: 8 | I12: 16.7 | L12: 770 | M12: 840 | N12: H5f0 | O12: H
A13: =IF(AND(FFDВысота>=FFDВыСот,FFDВысота<=FFDВыСдо,FFDВес>=FFDВеСот,FFDВес<=FFDВеСдо),FFD№,"-") -> - | B13: =IF(A13<>"-",ABS((FFDВес-H13)/(I13-H13)*2-1),"-") -> - | C13: =IF(ISNUMBER(A13),IF(O13=O14,IF(B13<=B14,A13,"-"),IF(O12=O13,IF(B12>B13,A13,"-"),A13)),"-") -> - | D13: 9 | E13: 372.37.468 | F13: 372.37.469 | H13: 4.5 | I13: 9 | L13: 840 | M13: 910 | N13: I4f0 | O13: I
A14: =IF(AND(FFDВысота>=FFDВыСот,FFDВысота<=FFDВыСдо,FFDВес>=FFDВеСот,FFDВес<=FFDВеСдо),FFD№,"-") -> - | B14: =IF(A14<>"-",ABS((FFDВес-H14)/(I14-H14)*2-1),"-") -> - | C14: =IF(ISNUMBER(A14),IF(O14=O16,IF(B14<=B16,A14,"-"),IF(O13=O14,IF(B13>B14,A14,"-"),A14)),"-") -> - | D14: 10 | E14: 372.37.470 | F14: 372.37.471 | H14: 7.3 | I14: 15.3 | L14: 840 | M14: 910 | N14: I5f0 | O14: I
A15: =IF(AND(FFDВысота>=FFDВыСот,FFDВысота<=FFDВыСдо,FFDВес>=FFDВеСот,FFDВес<=FFDВеСдо),FFD№,"-") -> - | B15: =IF(A15<>"-",ABS((FFDВес-H15)/(I15-H15)*2-1),"-") -> - | C15: =IF(ISNUMBER(A15),IF(O15=O18,IF(B15<=B18,A15,"-"),IF(O14=O15,IF(B14>B15,A15,"-"),A15)),"-") -> - | D15: 11 | E15: 372.37.683 | H15: 4.2 | I15: 8 | L15: 910 | M15: 970 | N15: J4f0 | O15: J
A16: =IF(AND(FFDВысота>=FFDВыСот,FFDВысота<=FFDВыСдо,FFDВес>=FFDВеСот,FFDВес<=FFDВеСдо),FFD№,"-") -> - | B16: =IF(A16<>"-",ABS((FFDВес-H16)/(I16-H16)*2-1),"-") -> - | C16: =IF(ISNUMBER(A16),IF(O16=O19,IF(B16<=B19,A16,"-"),IF(O15=O16,IF(B15>B16,A16,"-"),A16)),"-") -> - | D16: 12 | E16: 372.37.479 | F16: 372.37.480 | H16: 6.8 | I16: 14.2 | L16: 910 | M16: 970 | N16: J5f0 | O16: J
A17: =IF(AND(FFDВысота>=FFDВыСот,FFDВысота<=FFDВыСдо,FFDВес>=FFDВеСот,FFDВес<=FFDВеСдо),FFD№,"-") -> - | B17: =IF(A17<>"-",ABS((FFDВес-H17)/(I17-H17)*2-1),"-") -> - | C17: =IF(ISNUMBER(A17),IF(O17=O20,IF(B17<=B20,A17,"-"),IF(O16=O17,IF(B16>B17,A17,"-"),A17)),"-") -> - | D17: 13 | E17: 372.37.693 | H17: 3.9 | I17: 7 | L17: 960 | M17: 1010 | N17: K4f0 | O17: K
A18: =IF(AND(FFDВысота>=FFDВыСот,FFDВысота<=FFDВыСдо,FFDВес>=FFDВеСот,FFDВес<=FFDВеСдо),FFD№,"-") -> - | B18: =IF(A18<>"-",ABS((FFDВес-H18)/(I18-H18)*2-1),"-") -> - | C18: =IF(ISNUMBER(A18),IF(O18=O21,IF(B18<=B21,A18,"-"),IF(O17=O18,IF(B17>B18,A18,"-"),A18)),"-") -> - | D18: 14 | E18: 372.37.488 | F18: 372.37.489 | H18: 6.5 | I18: 12.8 | L18: 960 | M18: 1010 | N18: K5fo | O18: K
A19: =IF(AND(FFDВысота>=FFDВыСот,FFDВысота<=FFDВыСдо,FFDВес>=FFDВеСот,FFDВес<=FFDВеСдо),FFD№,"-") -> - | B19: =IF(A19<>"-",ABS((FFDВес-H19)/(I19-H19)*2-1),"-") -> - | C19: =IF(ISNUMBER(A19),IF(O19=O22,IF(B19<=B22,A19,"-"),IF(O18=O19,IF(B18>B19,A19,"-"),A19)),"-") -> - | D19: 15 | E19: 372.37.497 | F19: 372.37.498 | H19: 6.2 | I19: 12.9 | L19: 1000 | M19: 1040 | N19: L4fo | O19: L
A20: =IF(AND(FFDВысота>=FFDВыСот,FFDВысота<=FFDВыСдо,FFDВес>=FFDВеСот,FFDВес<=FFDВеСдо),FFD№,"-") -> 16 | B20: =IF(A20<>"-",ABS((FFDВес-H20)/(I20-H20)*2-1),"-") -> 0.9881264 | C20: =IF(ISNUMBER(A20),IF(O20=O21,IF(B20<=B21,A20,"-"),IF(O19=O20,IF(B19>B20,A20,"-"),A20)),"-") -> 16 | D20: 16 | E20: 000.000.000 | F20: 000.000.000 | H20: 0 | I20: 1000 | L20: 0 | M20: 2000 | N20: LLLL | O20: LL
E22: FREE FLAP 1.7 | F22: FFL17 | H22: вес | I22: =FreeFlap!M5 -> 4.4776 | L22: высота | M22: =FreeFlap!I5 -> 400
D23: № | E23: АртикулП | F23: АртикулЛ | H23: ВеСот | I23: ВеСдо | L23: ВыСот | M23: ВыСдо | N23: механизм | O23: сторона | P23: по разм | Q23: вес | R23: высота
A24: =IF(AND(FFP17Высота>=FFL17ВыСот,FFP17Высота<=FFL17ВыСдо,FFP17Вес>=FFL17ВеСот,FFP17Вес<=FFL17ВеСдо),FFL17№,"-") -> - | B24: =IF(A24<>"-",ABS((FFP17Вес-H24)/(I24-H24)*2-1),"-") -> - | D24: 1 | E24: 372.91.171 | F24: 372.91.172 | H24: 1.7 | I24: 4.6 | L24: 200 | M24: 200 | N24: Model A | Q24: =FFP17Вес -> 4.4776 | R24: =FFP17Высота -> 400
A25: =IF(AND(FFP18Высота>=FFL18ВыСот,FFP18Высота<=FFL18ВыСдо,FFP18Вес>=FFL18ВеСот,FFP18Вес<=FFL18ВеСдо),FFL18№,"-") -> - | B25: =IF(A25<>"-",ABS((FFP18Вес-H25)/(I25-H25)*2-1),"-") -> - | D25: 2 | E25: 372.91.171 | F25: 372.91.172 | H25: 1.3 | I25: 3.8 | L25: 200 | M25: 250 | N25: Model A | Q25: =FFP18Вес -> 4.4776 | R25: =FFP18Высота -> 400
A26: =IF(AND(FFP19Высота>=FFL19ВыСот,FFP19Высота<=FFL19ВыСдо,FFP19Вес>=FFL19ВеСот,FFP19Вес<=FFL19ВеСдо),FFL19№,"-") -> - | B26: =IF(A26<>"-",ABS((FFP19Вес-H26)/(I26-H26)*2-1),"-") -> - | D26: 3 | E26: 372.91.171 | F26: 372.91.172 | H26: 1.1 | I26: 3.1 | L26: 250 | M26: 300 | N26: Model A | Q26: =FFP19Вес -> 4.4776 | R26: =FFP19Высота -> 400
A27: =IF(AND(FFP20Высота>=FFL20ВыСот,FFP20Высота<=FFL20ВыСдо,FFP20Вес>=FFL20ВеСот,FFP20Вес<=FFL20ВеСдо),FFL20№,"-") -> - | B27: =IF(A27<>"-",ABS((FFP20Вес-H27)/(I27-H27)*2-1),"-") -> - | D27: 4 | E27: 372.91.171 | F27: 372.91.172 | H27: 0.9 | I27: 2.6 | L27: 300 | M27: 350 | N27: Model A | Q27: =FFP20Вес -> 4.4776 | R27: =FFP20Высота -> 400
A28: =IF(AND(FFP21Высота>=FFL21ВыСот,FFP21Высота<=FFL21ВыСдо,FFP21Вес>=FFL21ВеСот,FFP21Вес<=FFL21ВеСдо),FFL21№,"-") -> - | B28: =IF(A28<>"-",ABS((FFP21Вес-H28)/(I28-H28)*2-1),"-") -> - | D28: 5 | E28: 372.91.171 | F28: 372.91.172 | H28: 0.8 | I28: 2.1 | L28: 350 | M28: 400 | N28: Model A | Q28: =FFP21Вес -> 4.4776 | R28: =FFP21Высота -> 400
A29: =IF(AND(FFP22Высота>=FFL22ВыСот,FFP22Высота<=FFL22ВыСдо,FFP22Вес>=FFL22ВеСот,FFP22Вес<=FFL22ВеСдо),FFL22№,"-") -> - | B29: =IF(A29<>"-",ABS((FFP22Вес-H29)/(I29-H29)*2-1),"-") -> - | D29: 6 | E29: 372.91.171 | F29: 372.91.172 | H29: 0.6 | I29: 1.7 | L29: 400 | M29: 450 | N29: Model A | Q29: =FFP22Вес -> 4.4776 | R29: =FFP22Высота -> 400
A30: =IF(AND(FFP23Высота>=FFL23ВыСот,FFP23Высота<=FFL23ВыСдо,FFP23Вес>=FFL23ВеСот,FFP23Вес<=FFL23ВеСдо),FFL23№,"-") -> - | B30: =IF(A30<>"-",ABS((FFP23Вес-H30)/(I30-H30)*2-1),"-") -> - | D30: 7 | E30: 372.91.173 | F30: 372.91.174 | H30: 3.6 | I30: 7.9 | L30: 200 | M30: 200 | N30: Model B | Q30: =FFP23Вес -> 4.4776 | R30: =FFP23Высота -> 400
A31: =IF(AND(FFP24Высота>=FFL24ВыСот,FFP24Высота<=FFL24ВыСдо,FFP24Вес>=FFL24ВеСот,FFP24Вес<=FFL24ВеСдо),FFL24№,"-") -> - | B31: =IF(A31<>"-",ABS((FFP24Вес-H31)/(I31-H31)*2-1),"-") -> - | D31: 8 | E31: 372.91.173 | F31: 372.91.174 | H31: 2.9 | I31: 6.4 | L31: 200 | M31: 250 | N31: Model B | Q31: =FFP24Вес -> 4.4776 | R31: =FFP24Высота -> 400
A32: =IF(AND(FFP25Высота>=FFL25ВыСот,FFP25Высота<=FFL25ВыСдо,FFP25Вес>=FFL25ВеСот,FFP25Вес<=FFL25ВеСдо),FFL25№,"-") -> - | B32: =IF(A32<>"-",ABS((FFP25Вес-H32)/(I32-H32)*2-1),"-") -> - | D32: 9 | E32: 372.91.173 | F32: 372.91.174 | H32: 2.4 | I32: 5.1 | L32: 250 | M32: 300 | N32: Model B | Q32: =FFP25Вес -> 4.4776 | R32: =FFP25Высота -> 400
A33: =IF(AND(FFP26Высота>=FFL26ВыСот,FFP26Высота<=FFL26ВыСдо,FFP26Вес>=FFL26ВеСот,FFP26Вес<=FFL26ВеСдо),FFL26№,"-") -> - | B33: =IF(A33<>"-",ABS((FFP26Вес-H33)/(I33-H33)*2-1),"-") -> - | D33: 10 | E33: 372.91.173 | F33: 372.91.174 | H33: 2 | I33: 4.2 | L33: 300 | M33: 350 | N33: Model B | Q33: =FFP26Вес -> 4.4776 | R33: =FFP26Высота -> 400
A34: =IF(AND(FFP27Высота>=FFL27ВыСот,FFP27Высота<=FFL27ВыСдо,FFP27Вес>=FFL27ВеСот,FFP27Вес<=FFL27ВеСдо),FFL27№,"-") -> - | B34: =IF(A34<>"-",ABS((FFP27Вес-H34)/(I34-H34)*2-1),"-") -> - | D34: 11 | E34: 372.91.173 | F34: 372.91.174 | H34: 1.7 | I34: 3.6 | L34: 350 | M34: 400 | N34: Model B | Q34: =FFP27Вес -> 4.4776 | R34: =FFP27Высота -> 400
A35: =IF(AND(FFP28Высота>=FFL28ВыСот,FFP28Высота<=FFL28ВыСдо,FFP28Вес>=FFL28ВеСот,FFP28Вес<=FFL28ВеСдо),FFL28№,"-") -> - | B35: =IF(A35<>"-",ABS((FFP28Вес-H35)/(I35-H35)*2-1),"-") -> - | D35: 12 | E35: 372.91.173 | F35: 372.91.174 | H35: 1.4 | I35: 3.2 | L35: 400 | M35: 450 | N35: Model B | Q35: =FFP28Вес -> 4.4776 | R35: =FFP28Высота -> 400
... A40: =IF(AND(FFP33Высота>=FFL33ВыСот,FFP33Высота<=FFL33ВыСдо,FFP33Вес>=FFL33ВеСот,FFP33Вес<=FFL33ВеСдо),FFL33№,"-") -> 17 | B40: =IF(A40<>"-",ABS((FFP33Вес-H40)/(I40-H40)*2-1),"-") -> 0.32757895 | D40: 17 | E40: 372.91.175 | F40: 372.91.176 | H40: 3.2 | I40: 7 | L40: 350 | M40: 400 | N40: Model C | Q40: =FFP33Вес -> 4.4776 | R40: =FFP33Высота -> 400
A41: =IF(AND(FFP34Высота>=FFL34ВыСот,FFP34Высота<=FFL34ВыСдо,FFP34Вес>=FFL34ВеСот,FFP34Вес<=FFL34ВеСдо),FFL34№,"-") -> 18 | B41: =IF(A41<>"-",ABS((FFP34Вес-H41)/(I41-H41)*2-1),"-") -> 0.045647059 | D41: 18 | E41: 372.91.175 | F41: 372.91.176 | H41: 2.7 | I41: 6.1 | L41: 400 | M41: 450 | N41: Model C | Q41: 5.55832 | R41: 420
A42: =IF(AND(FFP35Высота>=FFL35ВыСот,FFP35Высота<=FFL35ВыСдо,FFP35Вес>=FFL35ВеСот,FFP35Вес<=FFL35ВеСдо),FFL35№,"-") -> 19 | B42: =IF(A42<>"-",ABS((FFP35Вес-H42)/(I42-H42)*2-1),"-") -> 0.99820896 | D42: 19 | E42: 000.000.000 | F42: 000.000.000 | H42: 0 | I42: 5000 | L42: 0 | M42: 2000 | N42: Model - | Q42: 5.55832 | R42: 420
E44: FREE FLAP 3.15 | F44: FFL315 | H44: вес | I44: =FreeFlap!M34 -> 8.5474 | L44: высота | M44: =FreeFlap!I34 -> 650
D45: № | E45: АртикулП | F45: АртикулЛ | H45: ВеСот | I45: ВеСдо | L45: ВыСот | M45: ВыСдо | N45: механизм | O45: сторона | P45: по разм | Q45: вес | R45: высота
A46: =IF(AND(FFP315Высота>FFL315ВыСот,FFP315Высота<=FFL315ВыСдо,FFP315Вес>=FFL315ВеСот,FFP315Вес<=FFL315ВеСдо),FFL315№,"-") -> - | B46: =IF(A46<>"-",ABS((FFP315Вес-H46)/(I46-H46)*2-1),"-") -> - | D46: 1 | E46: 372.91.241 | F46: 372.91.242 | H46: 5.2 | I46: 11 | L46: 340 | M46: 350 | N46: Model D | Q46: =FFP315Вес -> 8.5474 | R46: =FFP315Высота -> 650
A47: =IF(AND(FFP316Высота>FFL316ВыСот,FFP316Высота<=FFL316ВыСдо,FFP316Вес>=FFL316ВеСот,FFP316Вес<=FFL316ВеСдо),FFL316№,"-") -> - | B47: =IF(A47<>"-",ABS((FFP316Вес-H47)/(I47-H47)*2-1),"-") -> - | D47: 2 | E47: 372.91.241 | F47: 372.91.242 | H47: 4.7 | I47: 9.6 | L47: 350 | M47: 400 | N47: Model D | Q47: =FFP316Вес -> 8.5474 | R47: =FFP316Высота -> 650
A48: =IF(AND(FFP317Высота>FFL317ВыСот,FFP317Высота<=FFL317ВыСдо,FFP317Вес>=FFL317ВеСот,FFP317Вес<=FFL317ВеСдо),FFL317№,"-") -> - | B48: =IF(A48<>"-",ABS((FFP317Вес-H48)/(I48-H48)*2-1),"-") -> - | D48: 3 | E48: 372.91.241 | F48: 372.91.242 | H48: 4.1 | I48: 8.4 | L48: 400 | M48: 450 | N48: Model D | Q48: =FFP317Вес -> 8.5474 | R48: =FFP317Высота -> 650
A49: =IF(AND(FFP318Высота>FFL318ВыСот,FFP318Высота<=FFL318ВыСдо,FFP318Вес>=FFL318ВеСот,FFP318Вес<=FFL318ВеСдо),FFL318№,"-") -> - | B49: =IF(A49<>"-",ABS((FFP318Вес-H49)/(I49-H49)*2-1),"-") -> - | D49: 4 | E49: 372.91.241 | F49: 372.91.242 | H49: 3.7 | I49: 7.5 | L49: 450 | M49: 500 | N49: Model D | Q49: =FFP318Вес -> 8.5474 | R49: =FFP318Высота -> 650
A50: =IF(AND(FFP319Высота>FFL319ВыСот,FFP319Высота<=FFL319ВыСдо,FFP319Вес>=FFL319ВеСот,FFP319Вес<=FFL319ВеСдо),FFL319№,"-") -> - | B50: =IF(A50<>"-",ABS((FFP319Вес-H50)/(I50-H50)*2-1),"-") -> - | D50: 5 | E50: 372.91.241 | F50: 372.91.242 | H50: 3.3 | I50: 6.8 | L50: 500 | M50: 550 | N50: Model D | Q50: =FFP319Вес -> 8.5474 | R50: =FFP319Высота -> 650
A51: =IF(AND(FFP320Высота>FFL320ВыСот,FFP320Высота<=FFL320ВыСдо,FFP320Вес>=FFL320ВеСот,FFP320Вес<=FFL320ВеСдо),FFL320№,"-") -> - | B51: =IF(A51<>"-",ABS((FFP320Вес-H51)/(I51-H51)*2-1),"-") -> - | D51: 6 | E51: 372.91.241 | F51: 372.91.242 | H51: 3 | I51: 6.2 | L51: 550 | M51: 600 | N51: Model D | Q51: =FFP320Вес -> 8.5474 | R51: =FFP320Высота -> 650
A52: =IF(AND(FFP321Высота>FFL321ВыСот,FFP321Высота<=FFL321ВыСдо,FFP321Вес>=FFL321ВеСот,FFP321Вес<=FFL321ВеСдо),FFL321№,"-") -> - | B52: =IF(A52<>"-",ABS((FFP321Вес-H52)/(I52-H52)*2-1),"-") -> - | D52: 7 | E52: 372.91.241 | F52: 372.91.242 | H52: 2.6 | I52: 5.6 | L52: 600 | M52: 650 | N52: Model D | Q52: =FFP321Вес -> 8.5474 | R52: =FFP321Высота -> 650
A53: =IF(AND(FFP322Высота>FFL322ВыСот,FFP322Высота<=FFL322ВыСдо,FFP322Вес>=FFL322ВеСот,FFP322Вес<=FFL322ВеСдо),FFL322№,"-") -> - | B53: =IF(A53<>"-",ABS((FFP322Вес-H53)/(I53-H53)*2-1),"-") -> - | D53: 8 | E53: 372.91.243 | F53: 372.91.244 | H53: 6.7 | I53: 14.3 | L53: 340 | M53: 350 | N53: Model E | Q53: =FFP322Вес -> 8.5474 | R53: =FFP322Высота -> 650
A54: =IF(AND(FFP323Высота>FFL323ВыСот,FFP323Высота<=FFL323ВыСдо,FFP323Вес>=FFL323ВеСот,FFP323Вес<=FFL323ВеСдо),FFL323№,"-") -> - | B54: =IF(A54<>"-",ABS((FFP323Вес-H54)/(I54-H54)*2-1),"-") -> - | D54: 9 | E54: 372.91.243 | F54: 372.91.244 | H54: 5.9 | I54: 12.4 | L54: 350 | M54: 400 | N54: Model E | Q54: =FFP323Вес -> 8.5474 | R54: =FFP323Высота -> 650
A55: =IF(AND(FFP324Высота>FFL324ВыСот,FFP324Высота<=FFL324ВыСдо,FFP324Вес>=FFL324ВеСот,FFP324Вес<=FFL324ВеСдо),FFL324№,"-") -> - | B55: =IF(A55<>"-",ABS((FFP324Вес-H55)/(I55-H55)*2-1),"-") -> - | D55: 10 | E55: 372.91.243 | F55: 372.91.244 | H55: 5.2 | I55: 10.9 | L55: 400 | M55: 450 | N55: Model E | Q55: =FFP324Вес -> 8.5474 | R55: =FFP324Высота -> 650
A56: =IF(AND(FFP325Высота>FFL325ВыСот,FFP325Высота<=FFL325ВыСдо,FFP325Вес>=FFL325ВеСот,FFP325Вес<=FFL325ВеСдо),FFL325№,"-") -> - | B56: =IF(A56<>"-",ABS((FFP325Вес-H56)/(I56-H56)*2-1),"-") -> - | D56: 11 | E56: 372.91.243 | F56: 372.91.244 | H56: 4.7 | I56: 9.7 | L56: 450 | M56: 500 | N56: Model E | Q56: =FFP325Вес -> 8.5474 | R56: =FFP325Высота -> 650
A57: =IF(AND(FFP326Высота>FFL326ВыСот,FFP326Высота<=FFL326ВыСдо,FFP326Вес>=FFL326ВеСот,FFP326Вес<=FFL326ВеСдо),FFL326№,"-") -> - | B57: =IF(A57<>"-",ABS((FFP326Вес-H57)/(I57-H57)*2-1),"-") -> - | D57: 12 | E57: 372.91.243 | F57: 372.91.244 | H57: 4.2 | I57: 8.8 | L57: 500 | M57: 550 | N57: Model E | Q57: =FFP326Вес -> 8.5474 | R57: =FFP326Высота -> 650
... A74: =IF(AND(FFP343Высота>FFL343ВыСот,FFP343Высота<=FFL343ВыСдо,FFP343Вес>=FFL343ВеСот,FFP343Вес<=FFL343ВеСдо),FFL343№,"-") -> 29 | B74: =IF(A74<>"-",ABS((FFP343Вес-H74)/(I74-H74)*2-1),"-") -> 0.99658104 | D74: 29 | E74: 000.000.000 | F74: 000.000.000 | H74: 0 | I74: 5000 | L74: 0 | M74: 2000 | N74: Model - | Q74: =FFP343Вес -> 8.5474 | R74: =FFP343Высота -> 650
E76: FREE SWING | F76: FS | H76: вес | I76: ='Free-Серия'!M33 -> 6.33808 | L76: высота | M76: ='Free-Серия'!I33 -> 720
D77: № | E77: АртикулП | F77: АртикулЛ | H77: ВеСот | I77: ВеСдо | L77: ВыСот | M77: ВыСдо | N77: механизм | O77: сторона | P77: по разм | Q77: вес | R77: высота
A78: =IF(AND(FSВысота>=FSВыСот,FSВысота<=FSВыСдо,FSВес>=FSВеСот,FSВес<=FSВеСдо),FS№,"-") -> - | B78: =IF(A78<>"-",ABS((FSВес-H78)/(I78-H78)*2-1),"-") -> - | D78: 1 | E78: 372.34.404 | F78: 372.34.405 | H78: 1.8 | I78: 4 | L78: 370 | M78: 370 | N78: S7sw | Q78: =FSВес -> 6.33808 | R78: =FSВысота -> 720
A79: =IF(AND(FSВысота>=FSВыСот,FSВысота<=FSВыСдо,FSВес>=FSВеСот,FSВес<=FSВеСдо),FS№,"-") -> - | B79: =IF(A79<>"-",ABS((FSВес-H79)/(I79-H79)*2-1),"-") -> - | D79: 2 | E79: 372.34.404 | F79: 372.34.405 | H79: 3.4 | I79: 6.5 | L79: 370 | M79: 370 | N79: S7sw | Q79: =FSВес -> 6.33808 | R79: =FSВысота -> 720
A80: =IF(AND(FSВысота>=FSВыСот,FSВысота<=FSВыСдо,FSВес>=FSВеСот,FSВес<=FSВеСдо),FS№,"-") -> - | B80: =IF(A80<>"-",ABS((FSВес-H80)/(I80-H80)*2-1),"-") -> - | D80: 3 | E80: 372.34.404 | F80: 372.34.405 | H80: 5.2 | I80: 10.3 | L80: 370 | M80: 370 | N80: S7sw | O80: оригинал | Q80: =FSВес -> 6.33808 | R80: =FSВысота -> 720
A81: =IF(AND(FSВысота>=FSВыСот,FSВысота<=FSВыСдо,FSВес>=FSВеСот,FSВес<=FSВеСдо),FS№,"-") -> - | B81: =IF(A81<>"-",ABS((FSВес-H81)/(I81-H81)*2-1),"-") -> - | D81: 4 | E81: 372.34.404 | F81: 372.34.405 | H81: 1.8 | I81: 3.9 | L81: 370 | M81: 370 | N81: S7sw | Q81: =FSВес -> 6.33808 | R81: =FSВысота -> 720
A82: =IF(AND(FSВысота>=FSВыСот,FSВысота<=FSВыСдо,FSВес>=FSВеСот,FSВес<=FSВеСдо),FS№,"-") -> - | B82: =IF(A82<>"-",ABS((FSВес-H82)/(I82-H82)*2-1),"-") -> - | D82: 5 | E82: 372.34.404 | F82: 372.34.405 | H82: 3.3 | I82: 6.3 | L82: 370 | M82: 400 | N82: S7sw | Q82: =FSВес -> 6.33808 | R82: =FSВысота -> 720
A83: =IF(AND(FSВысота>=FSВыСот,FSВысота<=FSВыСдо,FSВес>=FSВеСот,FSВес<=FSВеСдо),FS№,"-") -> - | B83: =IF(A83<>"-",ABS((FSВес-H83)/(I83-H83)*2-1),"-") -> - | D83: 6 | E83: 372.34.404 | F83: 372.34.405 | H83: 5 | I83: 10 | L83: 370 | M83: 400 | N83: S7sw | O83: оригинал | Q83: =FSВес -> 6.33808 | R83: =FSВысота -> 720
A84: =IF(AND(FSВысота>=FSВыСот,FSВысота<=FSВыСдо,FSВес>=FSВеСот,FSВес<=FSВеСдо),FS№,"-") -> - | B84: =IF(A84<>"-",ABS((FSВес-H84)/(I84-H84)*2-1),"-") -> - | D84: 7 | E84: 372.34.404 | F84: 372.34.405 | H84: 1.9 | I84: 3.7 | L84: 370 | M84: 400 | N84: S7sw | Q84: =FSВес -> 6.33808 | R84: =FSВысота -> 720
A85: =IF(AND(FSВысота>=FSВыСот,FSВысота<=FSВыСдо,FSВес>=FSВеСот,FSВес<=FSВеСдо),FS№,"-") -> - | B85: =IF(A85<>"-",ABS((FSВес-H85)/(I85-H85)*2-1),"-") -> - | D85: 8 | E85: 372.34.404 | F85: 372.34.405 | H85: 3.2 | I85: 6.1 | L85: 400 | M85: 450 | N85: S7sw | Q85: =FSВес -> 6.33808 | R85: =FSВысота -> 720
A86: =IF(AND(FSВысота>=FSВыСот,FSВысота<=FSВыСдо,FSВес>=FSВеСот,FSВес<=FSВеСдо),FS№,"-") -> - | B86: =IF(A86<>"-",ABS((FSВес-H86)/(I86-H86)*2-1),"-") -> - | D86: 9 | E86: 372.34.404 | F86: 372.34.405 | H86: 4.8 | I86: 9.4 | L86: 400 | M86: 450 | N86: S7sw | O86: оригинал | Q86: =FSВес -> 6.33808 | R86: =FSВысота -> 720
A87: =IF(AND(FSВысота>=FSВыСот,FSВысота<=FSВыСдо,FSВес>=FSВеСот,FSВес<=FSВеСдо),FS№,"-") -> - | B87: =IF(A87<>"-",ABS((FSВес-H87)/(I87-H87)*2-1),"-") -> - | D87: 10 | E87: 372.34.404 | F87: 372.34.405 | H87: 1.9 | I87: 3.5 | L87: 400 | M87: 450 | N87: S7sw | Q87: =FSВес -> 6.33808 | R87: =FSВысота -> 720
A88: =IF(AND(FSВысота>=FSВыСот,FSВысота<=FSВыСдо,FSВес>=FSВеСот,FSВес<=FSВеСдо),FS№,"-") -> - | B88: =IF(A88<>"-",ABS((FSВес-H88)/(I88-H88)*2-1),"-") -> - | D88: 11 | E88: 372.34.404 | F88: 372.34.405 | H88: 3 | I88: 5.8 | L88: 450 | M88: 500 | N88: S7sw | Q88: =FSВес -> 6.33808 | R88: =FSВысота -> 720
A89: =IF(AND(FSВысота>=FSВыСот,FSВысота<=FSВыСдо,FSВес>=FSВеСот,FSВес<=FSВеСдо),FS№,"-") -> - | B89: =IF(A89<>"-",ABS((FSВес-H89)/(I89-H89)*2-1),"-") -> - | D89: 12 | E89: 372.34.404 | F89: 372.34.405 | H89: 4.5 | I89: 8.9 | L89: 450 | M89: 500 | N89: S7sw | O89: оригинал | Q89: =FSВес -> 6.33808 | R89: =FSВысота -> 720
A90: =IF(AND(FSВысота>=FSВыСот,FSВысота<=FSВыСдо,FSВес>=FSВеСот,FSВес<=FSВеСдо),FS№,"-") -> - | B90: =IF(A90<>"-",ABS((FSВес-H90)/(I90-H90)*2-1),"-") -> - | D90: 13 | E90: 372.34.404 | F90: 372.34.405 | H90: 2.5 | I90: 5.9 | L90: 450 | M90: 500 | N90: S7sw | Q90: =FSВес -> 6.33808 | R90: =FSВысота -> 720
A91: =IF(AND(FSВысота>=FSВыСот,FSВысота<=FSВыСдо,FSВес>=FSВеСот,FSВес<=FSВеСдо),FS№,"-") -> - | B91: =IF(A91<>"-",ABS((FSВес-H91)/(I91-H91)*2-1),"-") -> - | D91: 14 | E91: 372.34.412 | F91: 372.34.413 | H91: 5 | I91: 10 | L91: 450 | M91: 500 | N91: S5sw | O91: оригинал | Q91: =FSВес -> 6.33808 | R91: =FSВысота -> 720
A92: =IF(AND(FSВысота>=FSВыСот,FSВысота<=FSВыСдо,FSВес>=FSВеСот,FSВес<=FSВеСдо),FS№,"-") -> - | B92: =IF(A92<>"-",ABS((FSВес-H92)/(I92-H92)*2-1),"-") -> - | D92: 15 | E92: 372.34.414 | F92: 372.34.415 | H92: 8.2 | I92: 15.9 | L92: 450 | M92: 500 | N92: S8sw | O92: оригинал | Q92: =FSВес -> 6.33808 | R92: =FSВысота -> 720
A93: =IF(AND(FSВысота>=FSВыСот,FSВысота<=FSВыСдо,FSВес>=FSВеСот,FSВес<=FSВеСдо),FS№,"-") -> - | B93: =IF(A93<>"-",ABS((FSВес-H93)/(I93-H93)*2-1),"-") -> - | D93: 16 | E93: 372.34.404 | F93: 372.34.405 | H93: 2.5 | I93: 5.6 | L93: 450 | M93: 500 | N93: S7sw | Q93: =FSВес -> 6.33808 | R93: =FSВысота -> 720
A94: =IF(AND(FSВысота>=FSВыСот,FSВысота<=FSВыСдо,FSВес>=FSВеСот,FSВес<=FSВеСдо),FS№,"-") -> - | B94: =IF(A94<>"-",ABS((FSВес-H94)/(I94-H94)*2-1),"-") -> - | D94: 17 | E94: 372.34.412 | F94: 372.34.413 | H94: 4.8 | I94: 9.6 | L94: 500 | M94: 550 | N94: S5sw | O94: оригинал | Q94: =FSВес -> 6.33808 | R94: =FSВысота -> 720
A95: =IF(AND(FSВысота>=FSВыСот,FSВысота<=FSВыСдо,FSВес>=FSВеСот,FSВес<=FSВеСдо),FS№,"-") -> - | B95: =IF(A95<>"-",ABS((FSВес-H95)/(I95-H95)*2-1),"-") -> - | D95: 18 | E95: 372.34.414 | F95: 372.34.415 | H95: 7.8 | I95: 15.2 | L95: 500 | M95: 550 | N95: S8sw | O95: оригинал | Q95: =FSВес -> 6.33808 | R95: =FSВысота -> 720
A96: =IF(AND(FSВысота>=FSВыСот,FSВысота<=FSВыСдо,FSВес>=FSВеСот,FSВес<=FSВеСдо),FS№,"-") -> - | B96: =IF(A96<>"-",ABS((FSВес-H96)/(I96-H96)*2-1),"-") -> - | D96: 19 | E96: 372.34.404 | F96: 372.34.405 | H96: 2.5 | I96: 5.3 | L96: 500 | M96: 550 | N96: S7sw | Q96: =FSВес -> 6.33808 | R96: =FSВысота -> 720
A97: =IF(AND(FSВысота>=FSВыСот,FSВысота<=FSВыСдо,FSВес>=FSВеСот,FSВес<=FSВеСдо),FS№,"-") -> - | B97: =IF(A97<>"-",ABS((FSВес-H97)/(I97-H97)*2-1),"-") -> - | D97: 20 | E97: 372.34.412 | F97: 372.34.413 | H97: 4.7 | I97: 9.3 | L97: 650 | M97: 600 | N97: S5sw | O97: оригинал | Q97: =FSВес -> 6.33808 | R97: =FSВысота -> 720
A98: =IF(AND(FSВысота>=FSВыСот,FSВысота<=FSВыСдо,FSВес>=FSВеСот,FSВес<=FSВеСдо),FS№,"-") -> - | B98: =IF(A98<>"-",ABS((FSВес-H98)/(I98-H98)*2-1),"-") -> - | D98: 21 | E98: 372.34.414 | F98: 372.34.415 | H98: 7.5 | I98: 14.5 | L98: 650 | M98: 600 | N98: S8sw | O98: оригинал | Q98: =FSВес -> 6.33808 | R98: =FSВысота -> 720
A99: =IF(AND(FSВысота>=FSВыСот,FSВысота<=FSВыСдо,FSВес>=FSВеСот,FSВес<=FSВеСдо),FS№,"-") -> - | B99: =IF(A99<>"-",ABS((FSВес-H99)/(I99-H99)*2-1),"-") -> - | D99: 22 | E99: 372.34.404 | F99: 372.34.405 | H99: 2.5 | I99: 4.8 | L99: 650 | M99: 600 | N99: S7sw | Q99: =FSВес -> 6.33808 | R99: =FSВысота -> 720
A100: =IF(AND(FSВысота>=FSВыСот,FSВысота<=FSВыСдо,FSВес>=FSВеСот,FSВес<=FSВеСдо),FS№,"-") -> - | B100: =IF(A100<>"-",ABS((FSВес-H100)/(I100-H100)*2-1),"-") -> - | D100: 23 | E100: 372.34.412 | F100: 372.34.413 | H100: 4.5 | I100: 8.8 | L100: 600 | M100: 670 | N100: S5sw | O100: оригинал | Q100: =FSВес -> 6.33808 | R100: =FSВысота -> 720
A101: =IF(AND(FSВысота>=FSВыСот,FSВысота<=FSВыСдо,FSВес>=FSВеСот,FSВес<=FSВеСдо),FS№,"-") -> - | B101: =IF(A101<>"-",ABS((FSВес-H101)/(I101-H101)*2-1),"-") -> - | D101: 24 | E101: 372.34.414 | F101: 372.34.415 | H101: 7 | I101: 13.5 | L101: 600 | M101: 670 | N101: S8sw | O101: оригинал | Q101: =FSВес -> 6.33808 | R101: =FSВысота -> 720
A102: =IF(AND(FSВысота>=FSВыСот,FSВысота<=FSВыСдо,FSВес>=FSВеСот,FSВес<=FSВеСдо),FS№,"-") -> - | B102: =IF(A102<>"-",ABS((FSВес-H102)/(I102-H102)*2-1),"-") -> - | D102: 25 | E102: 372.34.420 | F102: 372.34.421 | H102: 3.2 | I102: 6.5 | L102: 600 | M102: 670 | N102: S3sw | O102: оригинал | Q102: =FSВес -> 6.33808 | R102: =FSВысота -> 720
A103: =IF(AND(FSВысота>=FSВыСот,FSВысота<=FSВыСдо,FSВес>=FSВеСот,FSВес<=FSВеСдо),FS№,"-") -> - | B103: =IF(A103<>"-",ABS((FSВес-H103)/(I103-H103)*2-1),"-") -> - | D103: 26 | E103: 372.34.422 | F103: 372.34.423 | H103: 5.7 | I103: 11.3 | L103: 600 | M103: 670 | N103: S6sw | O103: оригинал | Q103: =FSВес -> 6.33808 | R103: =FSВысота -> 720
A104: =IF(AND(FSВысота>=FSВыСот,FSВысота<=FSВыСдо,FSВес>=FSВеСот,FSВес<=FSВеСдо),FS№,"-") -> - | B104: =IF(A104<>"-",ABS((FSВес-H104)/(I104-H104)*2-1),"-") -> - | D104: 27 | E104: 372.34.422 | F104: 372.34.423 | H104: 8.5 | I104: 17.1 | L104: 600 | M104: 670 | N104: S6sw | Q104: =FSВес -> 6.33808 | R104: =FSВысота -> 720
A105: =IF(AND(FSВысота>=FSВыСот,FSВысота<=FSВыСдо,FSВес>=FSВеСот,FSВес<=FSВеСдо),FS№,"-") -> - | B105: =IF(A105<>"-",ABS((FSВес-H105)/(I105-H105)*2-1),"-") -> - | D105: 28 | E105: 372.34.420 | F105: 372.34.421 | H105: 3.1 | I105: 6.3 | L105: 600 | M105: 670 | N105: S3sw | O105: оригинал | Q105: =FSВес -> 6.33808 | R105: =FSВысота -> 720
A106: =IF(AND(FSВысота>=FSВыСот,FSВысота<=FSВыСдо,FSВес>=FSВеСот,FSВес<=FSВеСдо),FS№,"-") -> - | B106: =IF(A106<>"-",ABS((FSВес-H106)/(I106-H106)*2-1),"-") -> - | D106: 29 | E106: 372.34.422 | F106: 372.34.423 | H106: 5.6 | I106: 11.1 | L106: 670 | M106: 700 | N106: S6sw | O106: оригинал | Q106: =FSВес -> 6.33808 | R106: =FSВысота -> 720
A107: =IF(AND(FSВысота>=FSВыСот,FSВысота<=FSВыСдо,FSВес>=FSВеСот,FSВес<=FSВеСдо),FS№,"-") -> - | B107: =IF(A107<>"-",ABS((FSВес-H107)/(I107-H107)*2-1),"-") -> - | D107: 30 | E107: 372.34.422 | F107: 372.34.423 | H107: 8.4 | I107: 16.7 | L107: 670 | M107: 700 | N107: S6sw | Q107: =FSВес -> 6.33808 | R107: =FSВысота -> 720
A108: =IF(AND(FSВысота>=FSВыСот,FSВысота<=FSВыСдо,FSВес>=FSВеСот,FSВес<=FSВеСдо),FS№,"-") -> - | B108: =IF(A108<>"-",ABS((FSВес-H108)/(I108-H108)*2-1),"-") -> - | D108: 31 | E108: 372.34.420 | F108: 372.34.421 | H108: 3 | I108: 6 | L108: 670 | M108: 700 | N108: S3sw | O108: оригинал | Q108: =FSВес -> 6.33808 | R108: =FSВысота -> 720
A109: =IF(AND(FSВысота>=FSВыСот,FSВысота<=FSВыСдо,FSВес>=FSВеСот,FSВес<=FSВеСдо),FS№,"-") -> 32 | B109: =IF(A109<>"-",ABS((FSВес-H109)/(I109-H109)*2-1),"-") -> 0.64600755 | D109: 32 | E109: 372.34.422 | F109: 372.34.423 | H109: 5.4 | I109: 10.7 | L109: 700 | M109: 750 | N109: S6sw | O109: оригинал | Q109: =FSВес -> 6.33808 | R109: =FSВысота -> 720
A110: =IF(AND(FSВысота>=FSВыСот,FSВысота<=FSВыСдо,FSВес>=FSВеСот,FSВес<=FSВеСдо),FS№,"-") -> - | B110: =IF(A110<>"-",ABS((FSВес-H110)/(I110-H110)*2-1),"-") -> - | D110: 33 | E110: 372.34.422 | F110: 372.34.423 | H110: 8.2 | I110: 16 | L110: 700 | M110: 750 | N110: S6sw | Q110: =FSВес -> 6.33808 | R110: =FSВысота -> 720
A111: =IF(AND(FSВысота>=FSВыСот,FSВысота<=FSВыСдо,FSВес>=FSВеСот,FSВес<=FSВеСдо),FS№,"-") -> - | B111: =IF(A111<>"-",ABS((FSВес-H111)/(I111-H111)*2-1),"-") -> - | D111: 34 | E111: 372.34.420 | F111: 372.34.421 | H111: 2.9 | I111: 5.7 | L111: 700 | M111: 750 | N111: S3sw | O111: оригинал | Q111: =FSВес -> 6.33808 | R111: =FSВысота -> 720
A112: =IF(AND(FSВысота>=FSВыСот,FSВысота<=FSВыСдо,FSВес>=FSВеСот,FSВес<=FSВеСдо),FS№,"-") -> - | B112: =IF(A112<>"-",ABS((FSВес-H112)/(I112-H112)*2-1),"-") -> - | D112: 35 | E112: 372.34.422 | F112: 372.34.423 | H112: 5.3 | I112: 10.3 | L112: 750 | M112: 800 | N112: S6sw | O112: оригинал | Q112: =FSВес -> 6.33808 | R112: =FSВысота -> 720
A113: =IF(AND(FSВысота>=FSВыСот,FSВысота<=FSВыСдо,FSВес>=FSВеСот,FSВес<=FSВеСдо),FS№,"-") -> - | B113: =IF(A113<>"-",ABS((FSВес-H113)/(I113-H113)*2-1),"-") -> - | D113: 36 | E113: 372.34.422 | F113: 372.34.423 | H113: 8 | I113: 15.3 | L113: 750 | M113: 800 | N113: S6sw | Q113: =FSВес -> 6.33808 | R113: =FSВысота -> 720
A114: =IF(AND(FSВысота>=FSВыСот,FSВысота<=FSВыСдо,FSВес>=FSВеСот,FSВес<=FSВеСдо),FS№,"-") -> 37 | B114: =IF(A114<>"-",ABS((FSВес-H114)/(I114-H114)*2-1),"-") -> 0.98732384 | D114: 37 | E114: 000.000.000 | F114: 000.000.000 | H114: 0 | I114: 1000 | L114: 0 | M114: 2000 | N114: Ssss | Q114: =FSВес -> 6.33808 | R114: =FSВысота -> 720
E116: FREE UP | F116: FU | H116: вес | I116: ='Free-Серия'!M55 -> 7.2478 | L116: высота | M116: ='Free-Серия'!I55 -> 550
D117: № | E117: АртикулП | F117: АртикулЛ | H117: ВеСот | I117: ВеСдо | L117: ВыСот | M117: ВыСдо | N117: механизм | O117: сторона | P117: по разм | Q117: вес | R117: высота
A118: =IF(AND(FUВысота>=FUВыСот,FUВысота<=FUВыСдо,FUВес>=FUВеСот,FUВес<=FUВеСдо),FU№,"-") -> - | B118: =IF(A118<>"-",ABS((FUВес-H118)/(I118-H118)*2-1),"-") -> - | C118: =IF(ISNUMBER(A118),IF(O118=O119,IF(B118<=B119,A118,"-"),IF(O117=O118,IF(B117>B118,A118,"-"),A118)),"-") -> - | D118: 1 | E118: 372.33.410 | F118: 372.33.411 | H118: 2.4 | I118: 4.8 | L118: 345 | M118: 420 | N118: P1us | O118: P | Q118: =FUВес -> 7.2478 | R118: =FUВысота -> 550
A119: =IF(AND(FUВысота>=FUВыСот,FUВысота<=FUВыСдо,FUВес>=FUВеСот,FUВес<=FUВеСдо),FU№,"-") -> - | B119: =IF(A119<>"-",ABS((FUВес-H119)/(I119-H119)*2-1),"-") -> - | C119: =IF(ISNUMBER(A119),IF(O119=O120,IF(B119<=B120,A119,"-"),IF(O118=O119,IF(B118>B119,A119,"-"),A119)),"-") -> - | D119: 2 | E119: 372.33.412 | F119: 372.33.413 | H119: 4.1 | I119: 8 | L119: 345 | M119: 420 | N119: P2us | O119: P | Q119: =FUВес -> 7.2478 | R119: =FUВысота -> 550
A120: =IF(AND(FUВысота>=FUВыСот,FUВысота<=FUВыСдо,FUВес>=FUВеСот,FUВес<=FUВеСдо),FU№,"-") -> - | B120: =IF(A120<>"-",ABS((FUВес-H120)/(I120-H120)*2-1),"-") -> - | C120: =IF(ISNUMBER(A120),IF(O120=O121,IF(B120<=B121,A120,"-"),IF(O119=O120,IF(B119>B120,A120,"-"),A120)),"-") -> - | D120: 3 | E120: 372.33.422 | F120: 372.33.423 | H120: 3.4 | I120: 6.7 | L120: 380 | M120: 500 | N120: Q2us | O120: Q | Q120: =FUВес -> 7.2478 | R120: =FUВысота -> 550
A121: =IF(AND(FUВысота>=FUВыСот,FUВысота<=FUВыСдо,FUВес>=FUВеСот,FUВес<=FUВеСдо),FU№,"-") -> - | B121: =IF(A121<>"-",ABS((FUВес-H121)/(I121-H121)*2-1),"-") -> - | C121: =IF(ISNUMBER(A121),IF(O121=O122,IF(B121<=B122,A121,"-"),IF(O120=O121,IF(B120>B121,A121,"-"),A121)),"-") -> - | D121: 4 | E121: 372.33.424 | F121: 372.33.425 | H121: 6.3 | I121: 11.8 | L121: 380 | M121: 500 | N121: Q3us | O121: Q | Q121: =FUВес -> 7.2478 | R121: =FUВысота -> 550
A122: =IF(AND(FUВысота>=FUВыСот,FUВысота<=FUВыСдо,FUВес>=FUВеСот,FUВес<=FUВеСдо),FU№,"-") -> - | B122: =IF(A122<>"-",ABS((FUВес-H122)/(I122-H122)*2-1),"-") -> - | C122: =IF(ISNUMBER(A122),IF(O122=O123,IF(B122<=B123,A122,"-"),IF(O121=O122,IF(B121>B122,A122,"-"),A122)),"-") -> - | D122: 5 | E122: 372.33.432 | F122: 372.33.433 | H122: 2.6 | I122: 5.5 | L122: 430 | M122: 600 | N122: R2us | O122: R | Q122: =FUВес -> 7.2478 | R122: =FUВысота -> 550
A123: =IF(AND(FUВысота>=FUВыСот,FUВысота<=FUВыСдо,FUВес>=FUВеСот,FUВес<=FUВеСдо),FU№,"-") -> 6 | B123: =IF(A123<>"-",ABS((FUВес-H123)/(I123-H123)*2-1),"-") -> 0.043489362 | C123: =IF(ISNUMBER(A123),IF(O123=O124,IF(B123<=B124,A123,"-"),IF(O122=O123,IF(B122>B123,A123,"-"),A123)),"-") -> 6 | D123: 6 | E123: 372.33.434 | F123: 372.33.435 | H123: 5 | I123: 9.7 | L123: 430 | M123: 600 | N123: R3us | O123: R | Q123: =FUВес -> 7.2478 | R123: =FUВысота -> 550
A124: =IF(AND(FUВысота>=FUВыСот,FUВысота<=FUВыСдо,FUВес>=FUВеСот,FUВес<=FUВеСдо),FU№,"-") -> 7 | B124: =IF(A124<>"-",ABS((FUВес-H124)/(I124-H124)*2-1),"-") -> 0.9855044 | C124: =IF(ISNUMBER(A124),IF(O124=O125,IF(B124<=B125,A124,"-"),IF(O123=O124,IF(B123>B124,A124,"-"),A124)),"-") -> 7 | D124: 7 | E124: 000.000.000 | F124: 000.000.000 | H124: 0 | I124: 1000 | L124: 0 | M124: 2000 | N124: Rrrr | O124: RR | Q124: =FUВес -> 7.2478 | R124: =FUВысота -> 550
E127: FREE FLAP H 1.5 | F127: FFLH15 | H127: вес | I127: =FreeFlapH1.5!M5 -> 4.4776 | L127: высота | M127: =FreeFlapH1.5!I5 -> 600 | N127: ширина | O127: =FreeFlapH1.5!I3 -> 600
A128: 1 | B128: 2 | D128: № | E128: АртикулП | F128: АртикулЛ | G128: КолвоM | H128: ВеСот | I128: ВеСдо | J128: ВеСот2 | K128: ВеСдо2 | L128: ВыСот | M128: ВыСдо | N128: механизм | O128: сторона | P128: по разм | Q128: вес | R128: высота
...

Sheet Таб_Вес
B14: ДСП 19 | R14: Вес двери = табличный вес х множитель. | AC14: Ручка | AD14: 0.1 | AJ14: 1 | AK14: 2 | AL14: 3 | AM14: 4 | AN14: 5 | AO14: 6 | AP14: 7 | AQ14: 8 | AR14: 9
B15: Высота двери (мм). | D15: Ширина (мм) | R15: Толщина фасада | S15: Множитель | U15: Ширина | V15: Высота | W15: Толщина | Y15: Ширина | Z15: Высота | AA15: Толщина | AC15: Материал | AD15: Коэф | AE15: Расчет1 | AF15: Расчет2 | AJ15: Free Fold | AK15: Free Flap 1,7 | AL15: Free Flap 3,15 | AM15: FREE SWING | AN15: Free Up | AO15: FREE FLAP H 1.5 | AP15: Maxi | AQ15: DUO Standart | AR15: DUO Forte
D16: 400 | E16: 450 | F16: 500 | G16: 550 | H16: 600 | I16: 700 | J16: 800 | K16: 900 | L16: 1000 | M16: 1200 | N16: 1500 | O16: 1800 | U16: 400 | V16: 200 | W16: 15 | Y16: ='Free-Серия'!$I$3 -> 600 | Z16: ='Free-Серия'!$I$5 -> 800 | AA16: ='Free-Серия'!$M$3 -> 16 | AC16: Алюминевые рамки | AD16: 2.5e-06 | AE16: =Y$16*Z$16*AA$16*AD16 -> 19.2 | AF16: =Z40 -> 5.7 | AH16: 1 | AI16: Ширина | AJ16: =FFGШирина -> 600 | AK16: =FFP17Ширина -> 800 | AL16: =FFP315Ширина -> 900 | AM16: =FSШирина -> 600 | AN16: =FUШирина -> 900 | AO16: =FFPH15Ширина -> 600 | AP16: =MXШирина -> #REF! | AQ16: =DUOШирина -> #REF! | AR16: =DUOFШирина -> #REF!
D17: 1 | E17: 2 | F17: 3 | G17: 4 | H17: 5 | I17: 6 | J17: 7 | K17: 8 | L17: 9 | M17: 10 | N17: 11 | O17: 12 | U17: =U16+50 -> 450 | V17: =V16+10 -> 210 | W17: 16 | Y17: =INT(Y16/50)*50 -> 600 | Z17: =INT(Z16/50)*50 -> 800 | AC17: ДСП | AD17: 6.8e-07 | AE17: =Y$16*Z$16*AA$16*AD17 -> 5.2224 | AF17: =Z26 -> 5.208 | AH17: 2 | AI17: Высота | AJ17: =FFDВысота -> 800 | AK17: =FFP17Высота -> 400 | AL17: =FFP315Высота -> 650 | AM17: =FSВысота -> 720 | AN17: =FUВысота -> 550 | AO17: =FFPH15Высота -> 600 | AP17: =MXВысота -> #REF! | AQ17: =DUOВысота -> #REF! | AR17: =DUOFВысота -> #REF!
B18: 300 | C18: 1 | D18: 1.6 | E18: 1.7 | F18: 1.9 | G18: 2.1 | H18: 2.3 | I18: 2.7 | J18: 3.1 | K18: 3.5 | L18: 3.9 | M18: 4.7 | N18: 5.8 | O18: 7 | R18: 15 | S18: 0.79 | U18: =U17+50 -> 500 | V18: =V17+10 -> 220 | W18: 18 | Y18: =Y16-Y17 -> 0 | Z18: =Z16-Z17 -> 0 | AC18: МДФ | AD18: 7.6e-07 | AE18: =Y$16*Z$16*AA$16*AD18 -> 5.8368 | AF18: =AE18 -> 5.8368 | AH18: 3 | AI18: Толщина | AJ18: =FFDТолщина -> 16 | AK18: =FFP17Толщина -> 18 | AL18: =FFP315Толщина -> 19 | AM18: =FSТолщина -> 19 | AN18: =FUТолщина -> 19 | AO18: =FFPH15Толщина -> 16 | AP18: =MXТолщина -> #REF! | AQ18: =DUOТолщина -> #REF! | AR18: =DUOFТолщина -> #REF!
B19: 350 | C19: 2 | D19: 1.8 | E19: 2 | F19: 2.3 | G19: 2.5 | H19: 2.7 | I19: 3.2 | J19: 3.6 | K19: 4.1 | L19: 4.5 | M19: 5.4 | N19: 6.8 | O19: 8.1 | R19: 16 | S19: 0.84 | U19: =U18+50 -> 550 | V19: =V18+10 -> 230 | W19: 19 | Y19: =Y18/50 -> 0 | Z19: =Z18/50 -> 0 | AH19: 4 | AI19: =AC16 -> Алюминевые рамки | AJ19: =VLOOKUP(ИндексВысоты,Алм_ТабФ,ИндексШирины+1)+SUM((AJ$16-INT(AJ16/50)*50)/50*(VLOOKUP(ИндексВысоты,Алм_ТабФ,ИндексШирины+1+1)-VLOOKUP(ИндексВысоты,Алм_ТабФ,ИндексШирины+1)),(AJ$17-INT(AJ$17/50)*50)/50*(VLOOKUP(ИндексВысоты+1,Алм_ТабФ,ИндексШирины+1)-VLOOKUP(ИндексВысоты,Алм_ТабФ,ИндексШирины+1)))+$AD$14 -> 5.8 | AK19: =VLOOKUP(ИндексВысоты,Алм_ТабФ,ИндексШирины+1)+SUM((AK$16-INT(AK16/50)*50)/50*(VLOOKUP(ИндексВысоты,Алм_ТабФ,ИндексШирины+1+1)-VLOOKUP(ИндексВысоты,Алм_ТабФ,ИндексШирины+1)),(AK$17-INT(AK$17/50)*50)/50*(VLOOKUP(ИндексВысоты+1,Алм_ТабФ,ИндексШирины+1)-VLOOKUP(ИндексВысоты,Алм_ТабФ,ИндексШирины+1)))+$AD$14 -> 4.1 | AL19: =VLOOKUP(ИндексВысоты,Алм_ТабФ,ИндексШирины+1)+SUM((AL$16-INT(AL16/50)*50)/50*(VLOOKUP(ИндексВысоты,Алм_ТабФ,ИндексШирины+1+1)-VLOOKUP(ИндексВысоты,Алм_ТабФ,ИндексШирины+1)),(AL$17-INT(AL$17/50)*50)/50*(VLOOKUP(ИндексВысоты+1,Алм_ТабФ,ИндексШирины+1)-VLOOKUP(ИндексВысоты,Алм_ТабФ,ИндексШирины+1)))+$AD$14 -> 7 | AM19: =VLOOKUP(ИндексВысоты,Алм_ТабФ,ИндексШирины+1)+SUM((AM$16-INT(AM16/50)*50)/50*(VLOOKUP(ИндексВысоты,Алм_ТабФ,ИндексШирины+1+1)-VLOOKUP(ИндексВысоты,Алм_ТабФ,ИндексШирины+1)),(AM$17-INT(AM$17/50)*50)/50*(VLOOKUP(ИндексВысоты+1,Алм_ТабФ,ИндексШирины+1)-VLOOKUP(ИндексВысоты,Алм_ТабФ,ИндексШирины+1)))+$AD$14 -> 5.26 | AN19: =VLOOKUP(ИндексВысоты,Алм_ТабФ,ИндексШирины+1)+SUM((AN$16-INT(AN16/50)*50)/50*(VLOOKUP(ИндексВысоты,Алм_ТабФ,ИндексШирины+1+1)-VLOOKUP(ИндексВысоты,Алм_ТабФ,ИндексШирины+1)),(AN$17-INT(AN$17/50)*50)/50*(VLOOKUP(ИндексВысоты+1,Алм_ТабФ,ИндексШирины+1)-VLOOKUP(ИндексВысоты,Алм_ТабФ,ИндексШирины+1)))+$AD$14 -> 6 | AO19: =VLOOKUP(ИндексВысоты,Алм_ТабФ,ИндексШирины+1)+SUM((AO$16-INT(AO16/50)*50)/50*(VLOOKUP(ИндексВысоты,Алм_ТабФ,ИндексШирины+1+1)-VLOOKUP(ИндексВысоты,Алм_ТабФ,ИндексШирины+1)),(AO$17-INT(AO$17/50)*50)/50*(VLOOKUP(ИндексВысоты+1,Алм_ТабФ,ИндексШирины+1)-VLOOKUP(ИндексВысоты,Алм_ТабФ,ИндексШирины+1)))+$AD$14 -> 4.5 | AP19: =VLOOKUP(ИндексВысоты,Алм_ТабФ,ИндексШирины+1)+SUM((AP$16-INT(AP16/50)*50)/50*(VLOOKUP(ИндексВысоты,Алм_ТабФ,ИндексШирины+1+1)-VLOOKUP(ИндексВысоты,Алм_ТабФ,ИндексШирины+1)),(AP$17-INT(AP$17/50)*50)/50*(VLOOKUP(ИндексВысоты+1,Алм_ТабФ,ИндексШирины+1)-VLOOKUP(ИндексВысоты,Алм_ТабФ,ИндексШирины+1)))+$AD$14 -> #REF! | AQ19: =VLOOKUP(ИндексВысоты,Алм_ТабФ,ИндексШирины+1)+SUM((AQ$16-INT(AQ16/50)*50)/50*(VLOOKUP(ИндексВысоты,Алм_ТабФ,ИндексШирины+1+1)-VLOOKUP(ИндексВысоты,Алм_ТабФ,ИндексШирины+1)),(AQ$17-INT(AQ$17/50)*50)/50*(VLOOKUP(ИндексВысоты+1,Алм_ТабФ,ИндексШирины+1)-VLOOKUP(ИндексВысоты,Алм_ТабФ,ИндексШирины+1)))+$AD$14 -> #REF! | AR19: =VLOOKUP(ИндексВысоты,Алм_ТабФ,ИндексШирины+1)+SUM((AR$16-INT(AR16/50)*50)/50*(VLOOKUP(ИндексВысоты,Алм_ТабФ,ИндексШирины+1+1)-VLOOKUP(ИндексВысоты,Алм_ТабФ,ИндексШирины+1)),(AR$17-INT(AR$17/50)*50)/50*(VLOOKUP(ИндексВысоты+1,Алм_ТабФ,ИндексШирины+1)-VLOOKUP(ИндексВысоты,Алм_ТабФ,ИндексШирины+1)))+$AD$14 -> #REF!
B20: 400 | C20: 3 | D20: 2.1 | E20: 2.3 | F20: 2.6 | G20: 2.8 | H20: 3.1 | I20: 3.6 | J20: 4.1 | K20: 4.7 | L20: 5.2 | M20: 6.2 | N20: 7.8 | O20: 9.3 | R20: 18 | S20: 0.95 | U20: =U19+50 -> 600 | V20: =V19+10 -> 240 | W20: 20 | Y20: =MATCH(Y16,ШиринаФТаб,3) -> 5 | Z20: =MATCH(Z16,ВысотаФТаб,3) -> 11 | AH20: 5 | AI20: =AC17 -> ДСП | AJ20: =AJ$16*AJ$17*AJ$18*$AD17+$AD$14 -> 5.3224 | AK20: =AK$16*AK$17*AK$18*$AD17+$AD$14 -> 4.0168 | AL20: =AL$16*AL$17*AL$18*$AD17+$AD$14 -> 7.6582 | AM20: =AM$16*AM$17*AM$18*$AD17+$AD$14 -> 5.68144 | AN20: =AN$16*AN$17*AN$18*$AD17+$AD$14 -> 6.4954 | AO20: =AO$16*AO$17*AO$18*$AD17+$AD$14 -> 4.0168 | AP20: =AP$16*AP$17*AP$18*$AD17+$AD$14 -> #REF! | AQ20: =AQ$16*AQ$17*AQ$18*$AD17+$AD$14 -> #REF! | AR20: =AR$16*AR$17*AR$18*$AD17+$AD$14 -> #REF!
B21: 450 | C21: 4 | D21: 2.3 | E21: 2.6 | F21: 2.9 | G21: 3.2 | H21: 3.5 | I21: 4.1 | J21: 4.7 | K21: 5.2 | L21: 5.8 | M21: 7 | N21: 8.7 | O21: 10.5 | R21: 19 | S21: 1 | U21: 650 | V21: =V20+10 -> 250 | W21: 22 | Y21: =VLOOKUP(Z20,ДСП_ТабФ,Y20+1+1) -> 7.2 | Z21: =VLOOKUP(Z20+1,ДСП_ТабФ,Y20+1) -> 6.6 | AC21: Стекло 4 мм | AD21: =$AD$18/$AD$17 -> 1.1176471 | AH21: 6 | AI21: =AC18 -> МДФ | AJ21: =AJ$16*AJ$17*AJ$18*$AD18+$AD$14 -> 5.9368 | AK21: =AK$16*AK$17*AK$18*$AD18+$AD$14 -> 4.4776 | AL21: =AL$16*AL$17*AL$18*$AD18+$AD$14 -> 8.5474 | AM21: =AM$16*AM$17*AM$18*$AD18+$AD$14 -> 6.33808 | AN21: =AN$16*AN$17*AN$18*$AD18+$AD$14 -> 7.2478 | AO21: =AO$16*AO$17*AO$18*$AD18+$AD$14 -> 4.4776 | AP21: =AP$16*AP$17*AP$18*$AD18+$AD$14 -> #REF! | AQ21: =AQ$16*AQ$17*AQ$18*$AD18+$AD$14 -> #REF! | AR21: =AR$16*AR$17*AR$18*$AD18+$AD$14 -> #REF!
B22: 500 | C22: 5 | D22: 2.6 | E22: 2.9 | F22: 3.2 | G22: 3.6 | H22: 3.9 | I22: 4.5 | J22: 5.2 | K22: 5.8 | L22: 6.5 | M22: 7.8 | N22: 9.7 | O22: 11.6 | R22: 20 | S22: 1.05 | U22: =U21+50 -> 700 | V22: =V21+10 -> 260 | W22: 23 | Y22: =Y21-Y24 -> 1 | Z22: =Z21-Y24 -> 0.4 | AH22: 7 | AI22: Расчет вес | AJ22: =FFDВес -> 5.9368
B23: 550 | C23: 6 | D23: 2.8 | E23: 3.2 | F23: 3.6 | G23: 3.9 | H23: 4.3 | I23: 5 | J23: 5.7 | K23: 6.4 | L23: 7.1 | M23: 8.5 | N23: 10.7 | O23: 12.8 | R23: 22 | S23: 1.16 | U23: =U22+50 -> 750 | V23: =V22+10 -> 270 | W23: 26 | Y23: =Y19*Y22 -> 0 | Z23: =Z19*Z22 -> 0
B24: 600 | C24: 7 | D24: 3.1 | E24: 3.5 | F24: 3.9 | G24: 4.3 | H24: 4.7 | I24: 5.4 | J24: 6.2 | K24: 7 | L24: 7.8 | M24: 9.3 | N24: 11.6 | O24: 14 | R24: 23 | S24: 1.21 | U24: =U23+50 -> 800 | V24: =V23+10 -> 280 | W24: 29 | Y24: =VLOOKUP(Z20,C17:O33,Y20+1) -> 6.2 | Z24: =SUM(Y23:Z23) -> 0 | AA24: =VLOOKUP(AA16,Таб_МножФ,2) -> 0.84
B25: 650 | C25: 8 | D25: 3.4 | E25: 3.8 | F25: 4.2 | G25: 4.6 | H25: 5 | I25: 5.9 | J25: 6.7 | K25: 7.6 | L25: 8.4 | M25: 10.1 | N25: 12.6 | O25: 15.1 | R25: 26 | S25: 1.37 | U25: =U24+50 -> 850 | V25: =V24+10 -> 290 | Y25: Коэф. Веса | Z25: =SUM(Y24:Z24) -> 6.2 | AC25: добавить
B26: 700 | C26: 9 | D26: 3.6 | E26: 4.1 | F26: 4.5 | G26: 5 | H26: 5.4 | I26: 6.3 | J26: 7.2 | K26: 8.1 | L26: 9 | M26: 10.9 | N26: 13.6 | O26: 16.3 | R26: 29 | S26: 1.53 | U26: =U25+50 -> 900 | V26: 300 | Y26: Итого ВЕС | Z26: =Z25*AA24 -> 5.208 | AC26: -
B27: 750 | C27: 10 | D27: 3.9 | E27: 4.4 | F27: 4.8 | G27: 5.3 | H27: 5.8 | I27: 6.8 | J27: 7.8 | K27: 8.7 | L27: 9.7 | M27: 11.6 | N27: 14.5 | O27: 17.4 | U27: =U26+50 -> 950 | V27: =V26+10 -> 310
B28: 800 | C28: 11 | D28: 4.1 | E28: 4.7 | F28: 5.2 | G28: 5.7 | H28: 6.2 | I28: 7.2 | J28: 8.3 | K28: 9.3 | L28: 10.3 | M28: 12.4 | N28: 15.5 | O28: 18.6 | U28: =U27+50 -> 1000 | V28: =V27+10 -> 320 | Y28: Алюм | AC28: 75
B29: 850 | C29: 12 | D29: 4.4 | E29: 4.9 | F29: 5.5 | G29: 6 | H29: 6.6 | I29: 7.7 | J29: 8.8 | K29: 9.9 | L29: 11 | M29: 13.2 | N29: 16.5 | O29: 19.8 | U29: =U28+50 -> 1050 | V29: =V28+10 -> 330 | Y29: Ширина | Z29: Высота | AA29: Толщина | AC29: 90
B30: 900 | C30: 13 | D30: 4.7 | E30: 5.2 | F30: 5.8 | G30: 6.4 | H30: 7 | I30: 8.1 | J30: 9.3 | K30: 10.5 | L30: 11.6 | M30: 14 | N30: 17.4 | O30: 20.9 | U30: =U29+50 -> 1100 | V30: =V29+10 -> 340 | Y30: ='Free-Серия'!I3 -> 600 | Z30: ='Free-Серия'!I5 -> 800 | AA30: ='Free-Серия'!M3 -> 16 | AC30: 110
B31: 950 | C31: 14 | D31: 4.9 | E31: 5.5 | F31: 6.1 | G31: 6.8 | H31: 7.4 | I31: 8.6 | J31: 9.8 | K31: 11 | L31: 12.3 | M31: 14.7 | N31: 18.4 | O31: 22.1 | U31: =U30+50 -> 1150 | V31: =V30+10 -> 350 | Y31: =INT(Y30/50)*50 -> 600 | Z31: =INT(Z30/50)*50 -> 800
B32: 1000 | C32: 15 | D32: 5.2 | E32: 5.8 | F32: 6.5 | G32: 7.1 | H32: 7.8 | I32: 9 | J32: 10.3 | K32: 11.6 | L32: 12.9 | M32: 15.5 | N32: 19.4 | O32: 23.3 | U32: =U31+50 -> 1200 | V32: =V31+10 -> 360 | Y32: =Y30-Y31 -> 0 | Z32: =Z30-Z31 -> 0 | AC32: Белый
B33: 1040 | C33: 16 | D33: 5.4 | E33: 6 | F33: 6.7 | G33: 7.4 | H33: 8.1 | I33: 9.4 | J33: 10.7 | K33: 12.1 | L33: 13.4 | M33: 16.1 | N33: 20.2 | O33: 24.2 | U33: =U32+50 -> 1250 | V33: =V32+10 -> 370 | Y33: =Y32/50 -> 0 | Z33: =Z32/50 -> 0 | AC33: Серый
U34: =U33+50 -> 1300 | V34: =V33+10 -> 380 | Y34: =MATCH(Y30,ШиринаФТаб_Алм,3) -> 5 | Z34: =MATCH(Z30,ВысотаФТаб_Алм,3) -> 11
B35: Широкие, узкие алюминиевые рамки | U35: =U34+50 -> 1350 | V35: =V34+10 -> 390 | Y35: =VLOOKUP(Z34,Алм_ТабФ,Y34+1+1) -> 6.6 | Z35: =VLOOKUP(Z34+1,Алм_ТабФ,Y34+1) -> 6.1 | AC35: шт
B36: Высота двери (мм). | D36: Ширина (мм) | U36: =U35+50 -> 1400 | V36: =V35+10 -> 400 | Y36: =Y35-Y38 -> 0.9 | Z36: =Z35-Y38 -> 0.4
D37: 400 | E37: 450 | F37: 500 | G37: 550 | H37: 600 | I37: 700 | J37: 800 | K37: 900 | L37: 1000 | M37: 1200 | N37: 1500 | O37: 1800 | P37: 1800 | U37: =U36+50 -> 1450 | V37: =V36+10 -> 410 | Y37: =Y33*Y36 -> 0 | Z37: =Z33*Z36 -> 0 | AC37: 1200
D38: 1 | E38: 2 | F38: 3 | G38: 4 | H38: 5 | I38: 6 | J38: 7 | K38: 8 | L38: 9 | M38: 10 | N38: 11 | O38: 12 | P38: 13 | U38: =U37+50 -> 1500 | V38: =V37+10 -> 420 | Y38: =VLOOKUP(Z34,C38:O54,Y34+1) -> 5.7 | Z38: =SUM(Y37:Z37) -> 0 | AA38: 1 | AC38: 1800
B39: 300 | C39: 1 | D39: 1.6 | E39: 1.8 | F39: 2 | G39: 2.2 | H39: 2.4 | I39: 2.7 | J39: 3.1 | K39: 3.5 | L39: 3.8 | M39: 4.6 | N39: 5.7 | O39: 6.8 | P39: 6.8 | U39: =U38+50 -> 1550 | V39: =V38+10 -> 430 | Y39: Коэф. Веса | Z39: =SUM(Y38:Z38) -> 5.7
B40: 350 | C40: 2 | D40: 1.9 | E40: 2.1 | F40: 2.3 | G40: 2.5 | H40: 2.7 | I40: 3.1 | J40: 3.5 | K40: 4 | L40: 4.4 | M40: 5.2 | N40: 6.5 | O40: 7.7 | P40: 7.7 | U40: =U39+50 -> 1600 | V40: =V39+10 -> 440 | Y40: Итого ВЕС | Z40: =Z39*AA38 -> 5.7
B41: 400 | C41: 3 | D41: 2.1 | E41: 2.3 | F41: 2.6 | G41: 2.8 | H41: 3 | I41: 3.5 | J41: 4 | K41: 4.4 | L41: 4.9 | M41: 5.9 | N41: 7.3 | O41: 8.7 | P41: 8.7 | U41: =U40+50 -> 1650 | V41: =V40+10 -> 450
B42: 450 | C42: 4 | D42: 2.3 | E42: 2.6 | F42: 2.8 | G42: 3.1 | H42: 3.4 | I42: 3.9 | J42: 4.4 | K42: 4.9 | L42: 5.5 | M42: 6.5 | N42: 8.1 | O42: 9.6 | P42: 9.6 | U42: =U41+50 -> 1700 | V42: =V41+10 -> 460
B43: 500 | C43: 5 | D43: 2.6 | E43: 2.8 | F43: 3.1 | G43: 3.4 | H43: 3.7 | I43: 4.3 | J43: 4.8 | K43: 5.4 | L43: 6 | M43: 7.1 | N43: 8.8 | O43: 10.6 | P43: 10.6 | U43: =U42+50 -> 1750 | V43: =V42+10 -> 470
B44: 550 | C44: 6 | D44: 2.8 | E44: 3.1 | F44: 3.4 | G44: 3.7 | H44: 4 | I44: 4.7 | J44: 5.3 | K44: 5.9 | L44: 6.5 | M44: 7.8 | N44: 9.6 | O44: 11.5 | P44: 11.5 | U44: =U43+50 -> 1800 | V44: =V43+10 -> 480
B45: 600 | C45: 7 | D45: 3 | E45: 3.4 | F45: 3.7 | G45: 4 | H45: 4.4 | I45: 5 | J45: 5.7 | K45: 6.4 | L45: 7.1 | M45: 8.4 | N45: 10.4 | O45: 12.4 | P45: 12.4 | V45: =V44+10 -> 490
B46: 650 | C46: 8 | D46: 3.3 | E46: 3.6 | F46: 4 | G46: 4.3 | H46: 4.7 | I46: 5.4 | J46: 6.2 | K46: 6.9 | L46: 7.6 | M46: 9 | N46: 12.2 | O46: 13.4 | P46: 13.4 | V46: =V45+10 -> 500
B47: 700 | C47: 9 | D47: 3.5 | E47: 3.9 | F47: 4.3 | G47: 4.7 | H47: 5 | I47: 5.8 | J47: 6.6 | K47: 7.4 | L47: 8.1 | M47: 9.7 | N47: 12 | O47: 14.3 | P47: 14.3 | V47: =V46+10 -> 510
B48: 750 | C48: 10 | D48: 3.7 | E48: 4.1 | F48: 4.6 | G48: 5 | H48: 5.4 | I48: 6.2 | J48: 7 | K48: 7.8 | L48: 8.7 | M48: 10.3 | N48: 12.8 | O48: 15.2 | P48: 15.2 | V48: =V47+10 -> 520
B49: 800 | C49: 11 | D49: 4 | E49: 4.4 | F49: 4.8 | G49: 5.3 | H49: 5.7 | I49: 6.6 | J49: 7.5 | K49: 8.3 | L49: 9.2 | M49: 10.9 | N49: 13.6 | O49: 16.2 | P49: 16.2 | V49: =V48+10 -> 530
B50: 850 | C50: 12 | D50: 4.2 | E50: 4.7 | F50: 5.1 | G50: 5.6 | H50: 6.1 | I50: 7 | J50: 7.9 | K50: 8.8 | L50: 9.7 | M50: 11.6 | N50: 14.3 | O50: 17.1 | P50: 17.1 | V50: =V49+10 -> 540
B51: 900 | C51: 13 | D51: 4.4 | E51: 4.9 | F51: 5.4 | G51: 5.9 | H51: 6.4 | I51: 7.4 | J51: 8.3 | K51: 9.3 | L51: 10.3 | M51: 12.2 | N51: 15.1 | O51: 18 | P51: 18 | V51: =V50+10 -> 550
B52: 950 | C52: 14 | D52: 4.7 | E52: 5.2 | F52: 5.7 | G52: 6.2 | H52: 6.7 | I52: 7.7 | J52: 8.8 | K52: 9.8 | L52: 10.8 | M52: 12.8 | N52: 15.9 | O52: 19 | P52: 19 | V52: =V51+10 -> 560
B53: 1000 | C53: 15 | D53: 4.9 | E53: 5.5 | F53: 6 | G53: 6.5 | H53: 7.1 | I53: 8.1 | J53: 9.2 | K53: 10.3 | L53: 11.3 | M53: 13.5 | N53: 16.7 | O53: 19.9 | P53: 19.9 | V53: =V52+10 -> 570
B54: 1040 | C54: 16 | D54: 5.1 | E54: 5.7 | F54: 6.2 | G54: 6.8 | H54: 7.3 | I54: 8.4 | J54: 9.5 | K54: 10.7 | L54: 11.8 | M54: 14 | N54: 17.3 | O54: 20.7 | P54: 20.7 | V54: =V53+10 -> 580
B55: 1040 | C55: 17 | D55: 5.1 | E55: 5.7 | F55: 6.2 | G55: 6.8 | H55: 7.3 | I55: 8.4 | J55: 9.5 | K55: 10.7 | L55: 11.8 | M55: 14 | N55: 17.3 | O55: 20.7 | P55: 20.7 | V55: =V54+10 -> 590
V56: =V55+10 -> 600
V57: =V56+10 -> 610
B58: Высота двери (мм). | D58: Ширина (мм) | V58: =V57+10 -> 620
D59: 400 | E59: 450 | F59: 500 | G59: 550 | H59: 600 | I59: 700 | J59: 800 | K59: 900 | L59: 1000 | M59: 1200 | N59: 1500 | O59: 1800 | V59: =V58+10 -> 630
C60: 0 | D60: 1 | E60: 2 | F60: 3 | G60: 4 | H60: 5 | I60: 6 | J60: 7 | K60: 8 | L60: 9 | M60: 10 | N60: 11 | O60: 12 | V60: =V59+10 -> 640
B61: 300 | C61: 1 | D61: 1.7882353 | E61: 1.9 | F61: 2.1235294 | G61: 2.3470588 | H61: 2.5705882 | I61: 3.0176471 | J61: 3.4647059 | K61: 3.9117647 | L61: 4.3588235 | M61: 5.2529412 | N61: 6.4823529 | O61: 7.8235294 | V61: =V60+10 -> 650
B62: 350 | C62: 2 | D62: 2.0117647 | E62: 2.2352941 | F62: 2.5705882 | G62: 2.7941176 | H62: 3.0176471 | I62: 3.5764706 | J62: 4.0235294 | K62: 4.5823529 | L62: 5.0294118 | M62: 6.0352941 | N62: 7.6 | O62: 9.0529412 | V62: =V61+10 -> 660
B63: 400 | C63: 3 | D63: 2.3470588 | E63: 2.5705882 | F63: 2.9058824 | G63: 3.1294118 | H63: 3.4647059 | I63: 4.0235294 | J63: 4.5823529 | K63: 5.2529412 | L63: 5.8117647 | M63: 6.9294118 | N63: 8.7176471 | O63: 10.394118 | V63: =V62+10 -> 670
B64: 450 | C64: 4 | D64: 2.5705882 | E64: 2.9058824 | F64: 3.2411765 | G64: 3.5764706 | H64: 3.9117647 | I64: 4.5823529 | J64: 5.2529412 | K64: 5.8117647 | L64: 6.4823529 | M64: 7.8235294 | N64: 9.7235294 | O64: 11.735294 | V64: =V63+10 -> 680
B65: 500 | C65: 5 | D65: 2.9058824 | E65: 3.2411765 | F65: 3.5764706 | G65: 4.0235294 | H65: 4.3588235 | I65: 5.0294118 | J65: 5.8117647 | K65: 6.4823529 | L65: 7.2647059 | M65: 8.7176471 | N65: 10.841176 | O65: 12.964706 | V65: =V64+10 -> 690
B66: 550 | C66: 6 | D66: 3.1294118 | E66: 3.5764706 | F66: 4.0235294 | G66: 4.3588235 | H66: 4.8058824 | I66: 5.5882353 | J66: 6.3705882 | K66: 7.1529412 | L66: 7.9352941 | M66: 9.5 | N66: 11.958824 | O66: 14.305882 | V66: =V65+10 -> 700
B67: 600 | C67: 7 | D67: 3.4647059 | E67: 3.9117647 | F67: =(TODAY()+Цены!Q2)/10000 -> 4.472 | G67: 4.8058824 | H67: 5.2529412 | I67: 6.0352941 | J67: 6.9294118 | K67: 7.8235294 | L67: 8.7176471 | M67: 10.394118 | N67: 12.964706 | O67: 15.647059 | V67: =V66+10 -> 710
B68: 650 | C68: 8 | D68: 3.8 | E68: 4.2470588 | F68: 4.6941176 | G68: 5.1411765 | H68: 5.5882353 | I68: 6.5941176 | J68: 7.4882353 | K68: 8.4941176 | L68: 9.3882353 | M68: 11.288235 | N68: 14.082353 | O68: 16.876471 | V68: =V67+10 -> 720
B69: 700 | C69: 9 | D69: 4.0235294 | E69: 4.5823529 | F69: 5.0294118 | G69: 5.5882353 | H69: 6.0352941 | I69: 7.0411765 | J69: 8.0470588 | K69: 9.0529412 | L69: 10.058824 | M69: 12.182353 | N69: 15.2 | O69: 18.217647 | V69: =V68+10 -> 730
B70: 750 | C70: 10 | D70: 4.3588235 | E70: 4.9176471 | F70: 5.3647059 | G70: 5.9235294 | H70: 6.4823529 | I70: 7.6 | J70: 8.7176471 | K70: 9.7235294 | L70: 10.841176 | M70: 12.964706 | N70: 16.205882 | O70: 19.447059 | V70: =V69+10 -> 740
B71: 800 | C71: 11 | D71: 4.5823529 | E71: 5.2529412 | F71: 5.8117647 | G71: 6.3705882 | H71: 6.9294118 | I71: 8.0470588 | J71: 9.2764706 | K71: 10.394118 | L71: 11.511765 | M71: 13.858824 | N71: 17.323529 | O71: 20.788235 | V71: =V70+10 -> 750
B72: 850 | C72: 12 | D72: 4.9176471 | E72: 5.4764706 | F72: 6.1470588 | G72: 6.7058824 | H72: 7.3764706 | I72: 8.6058824 | J72: 9.8352941 | K72: 11.064706 | L72: 12.294118 | M72: 14.752941 | N72: 18.441176 | O72: 22.129412 | V72: =V71+10 -> 760
B73: 900 | C73: 13 | D73: 5.2529412 | E73: 5.8117647 | F73: 6.4823529 | G73: 7.1529412 | H73: 7.8235294 | I73: 9.0529412 | J73: 10.394118 | K73: 11.735294 | L73: 12.964706 | M73: 15.647059 | N73: 19.447059 | O73: 23.358824 | V73: =V72+10 -> 770
B74: 950 | C74: 14 | D74: 5.4764706 | E74: 6.1470588 | F74: 6.8176471 | G74: 7.6 | H74: 8.2705882 | I74: 9.6117647 | J74: 10.952941 | K74: 12.294118 | L74: 13.747059 | M74: 16.429412 | N74: 20.564706 | O74: 24.7 | V74: =V73+10 -> 780
B75: 1000 | C75: 15 | D75: 5.8117647 | E75: 6.4823529 | F75: 7.2647059 | G75: 7.9352941 | H75: 8.7176471 | I75: 10.058824 | J75: 11.511765 | K75: 12.964706 | L75: 14.417647 | M75: 17.323529 | N75: 21.682353 | O75: 26.041176 | V75: =V74+10 -> 790
B76: 1040 | C76: 16 | D76: 6.0352941 | E76: 6.7058824 | F76: 7.4882353 | G76: 8.2705882 | H76: 9.0529412 | I76: 10.505882 | J76: 11.958824 | K76: 13.523529 | L76: 14.976471 | M76: 17.994118 | N76: 22.576471 | O76: 27.047059 | V76: =V75+10 -> 800
V77: =V76+10 -> 810
C78: 1 | F78: =INDEX(ТабМДФ,7,MATCH("МДФ",$AI$19:$AI$21,0)) -> 4.472 | I78: =INT((INDEX(ТабМДФ,7,MATCH("МДФ",$AI$19:$AI$21,0))+14)/30)+C78 -> 1 | R78: =Цены!R2*10000 -> 4.472e+08 | V78: =V77+10 -> 820
F79: =MATCH("МДФ",$AI$19:$AI$21,0) -> 3 | R79: =MONTH(R78) -> #NUM! | V79: =V78+10 -> 830
R80: =YEAR(R78) -> #NUM! | V80: =V79+10 -> 840
V81: =V80+10 -> 850
V82: =V81+10 -> 860
V83: =V82+10 -> 870
V84: =V83+10 -> 880
V85: =V84+10 -> 890
V86: =V85+10 -> 900
V87: =V86+10 -> 910
V88: =V87+10 -> 920
V89: =V88+10 -> 930
V90: =V89+10 -> 940
V91: =V90+10 -> 950
V92: =V91+10 -> 960
... V100: =V99+10 -> 1040

Sheet СправАссорт
E1: 373.66.681 | G1: 43202 | H1: =Цены!D2 -> 0 | K1: Учесть фасады более 600 мм
A2: =LARGE(A4:$A$214,1) -> #NUM! | C2: =MATCH(2,$A$4:$A$214,0) -> #N/A | K2: Кол-во креплений для 2-х фасадов
A3: Группа | B3: Подгруппа | C3: Подгруппа2 | D3: Артикул | E3: Номенклатура | F3: кол-во | G3: Цена | H3: Цена
I4: =COUNTIF(D:D,D4) -> 1
I5: =COUNTIF(D:D,D5) -> 1
I6: =COUNTIF(D:D,D6) -> 1
A7: Петли | B7: Планки для петель | C7: Планки для петель | D7: 329.71.503 | E7: Монтажная планка Hafele Duomatic SM, крестовая, быстрый монтаж | F7: 1 | G7: =SUMIF(Цены!$B:$B,D7,Цены!$C:$C) -> 0.77792208 | H7: =G7*$H$1 -> 0 | I7: =COUNTIF(D:D,D7) -> 1
I8: =COUNTIF(D:D,D8) -> 1
A9: ПМ | B9: FREE FOLD | C9: Аксессуары для ПМ | D9: 372.37.060 | E9: Ограничитель открывния FREE FOLD на 90 градусов | F9: 1 | G9: =SUMIF(Цены!$B:$B,D9,Цены!$C:$C) -> 1.968471 | H9: =G9*$H$1 -> 0 | I9: =COUNTIF(D:D,D9) -> 1
A10: ПМ | B10: FREE FOLD | C10: Аксессуары для ПМ | D10: 372.37.026 | E10: Заглушка FREE FOLD белая | F10: 1 | G10: =SUMIF(Цены!$B:$B,D10,Цены!$C:$C) -> 2.2425063 | H10: =G10*$H$1 -> 0 | I10: =COUNTIF(D:D,D10) -> 1
A11: ПМ | B11: FREE FOLD | C11: Аксессуары для ПМ | D11: 372.37.040 | E11: Крепления к фасаду FREE FOLD | F11: 1 | G11: =SUMIF(Цены!$B:$B,D11,Цены!$C:$C) -> 1.6597535 | H11: =G11*$H$1 -> 0 | I11: =COUNTIF(D:D,D11) -> 1
A12: ПМ | B12: FREE FLAP H 1.5 | C12: Аксессуары для ПМ | D12: 372.37.044 | E12: Адаптер для креплений Free Fold/Free flap H1.5 к фасадам с алюминиевой рамкой 20 мм | F12: 1 | G12: =SUMIF(Цены!$B:$B,D12,Цены!$C:$C) -> 2.9216848 | H12: =G12*$H$1 -> 0 | I12: =COUNTIF(D:D,D12) -> 1
A13: ПМ | B13: FREE FOLD | C13: Аксессуары для ПМ | D13: 372.64.796 | E13: Средняя петля для двух секционных складных фасадов (с защитой от защемл. пальцев) | F13: 1 | G13: =SUMIF(Цены!$B:$B,D13,Цены!$C:$C) -> 3.9607044 | H13: =G13*$H$1 -> 0 | I13: =COUNTIF(D:D,D13) -> 1
A14: ПМ | B14: FREE FLAP 1.7 | C14: Аксессуары для ПМ | D14: 372.91.135 | E14: Заглушка FREE flap 1.7 белая | F14: 1 | G14: =SUMIF(Цены!$B:$B,D14,Цены!$C:$C) -> 1.8687111 | H14: =G14*$H$1 -> 0 | I14: =COUNTIF(D:D,D14) -> 1
A15: ПМ | B15: FREE Flap / Swing / Up | C15: Аксессуары для ПМ | D15: 372.91.141 | E15: Крепления FREE Flap / Swing / Up | F15: 1 | G15: =SUMIF(Цены!$B:$B,D15,Цены!$C:$C) -> 0.93273259 | H15: =G15*$H$1 -> 0 | I15: =COUNTIF(D:D,D15) -> 1
A16: ПМ | B16: FREE FLAP 1.7 | C16: Аксессуары для ПМ | D16: 372.91.499 | E16: Ограничитель угла открывния FREE FLAP на 90' | F16: 1 | G16: =SUMIF(Цены!$B:$B,D16,Цены!$C:$C) -> 0.30183751 | H16: =G16*$H$1 -> 0 | I16: =COUNTIF(D:D,D16) -> 1
A17: ПМ | B17: FREE FLAP | C17: Аксессуары для ПМ | D17: 372.91.599 | E17: Адаптер для креплений FREE FLAP к фасадам с алюминиевой рамкой 20 мм | F17: 1 | G17: =SUMIF(Цены!$B:$B,D17,Цены!$C:$C) -> 4.258802 | H17: =G17*$H$1 -> 0 | I17: =COUNTIF(D:D,D17) -> 1
A18: ПМ | B18: FREE FLAP 3.15 | C18: Аксессуары для ПМ | D18: 372.91.236 | E18: Заглушка FREE flap 3.15, белая | F18: 1 | G18: =SUMIF(Цены!$B:$B,D18,Цены!$C:$C) -> 1.9502125 | H18: =G18*$H$1 -> 0 | I18: =COUNTIF(D:D,D18) -> 1
A19: ПМ | B19: FREE SWING / UP | C19: Аксессуары для ПМ | D19: 372.33.696 | E19: Синхронизирующая Штанга 1074 мм для шкафа 1200 мм | F19: 1 | G19: =SUMIF(Цены!$B:$B,D19,Цены!$C:$C) -> 5.1194711 | H19: =G19*$H$1 -> 0 | I19: =COUNTIF(D:D,D19) -> 1
A20: ПМ | B20: FREE SWING / UP | C20: Аксессуары для ПМ | D20: 372.33.699 | E20: Адаптеры (фиксаторы) для штанги SWING / UP | F20: 1 | G20: =SUMIF(Цены!$B:$B,D20,Цены!$C:$C) -> 0.48692688 | H20: =G20*$H$1 -> 0 | I20: =COUNTIF(D:D,D20) -> 1
... A113: ПМ | B113: DUO | C113: Механизм | D113: 373.66.700 | E113: Подъемный механизм DUO Forte | F113: 1 | G113: =SUMIF(Цены!$B:$B,D113,Цены!$C:$C) -> 7.9405493 | H113: =G113*$H$1 -> 0 | I113: =COUNTIF(D:D,D113) -> 1
D114: 000.000.000 | E114: Подъемного механизма для указаных характеристик нет в ассортименте | F114: 1 | G114: 0 | H114: 0 | I114: =COUNTIF(D:D,D114) -> 1
I115: =COUNTIF(D:D,D115) -> 1
I116: =COUNTIF(D:D,D116) -> 1
D117: 316.53.710 | E117: Амортизатор для привинчивания к чашке петли Metallamat, 48/6 | F117: 1 | G117: =SUMIF(Цены!$B:$B,D117,Цены!$C:$C) -> 1.8754853 | H117: =G117*$H$1 -> 0 | I117: =COUNTIF(D:D,D117) -> 1
D118: 316.53.720 | E118: Амортизатор для привинчивания к чашке петли Metallamat, 52/5,5 | F118: 1 | G118: =SUMIF(Цены!$B:$B,D118,Цены!$C:$C) -> 1.8754853 | H118: =G118*$H$1 -> 0 | I118: =COUNTIF(D:D,D118) -> 1
A119: ПМ | B119: FREE SWING | C119: FREE SWING | D119: 372.34.670 | E119: Заглушки FREE SWING серые | F119: 1 | G119: =SUMIF(Цены!$B:$B,D119,Цены!$C:$C) -> 2.9159515 | H119: =G119*$H$1 -> 0 | I119: =COUNTIF(D:D,D119) -> 1
A120: ПМ | B120: FREE FLAP 3.15 | C120: FREE FLAP 3.15 | D120: 372.91.234 | E120: Заглушка FREE flap 3.15, серые | F120: 1 | G120: =SUMIF(Цены!$B:$B,D120,Цены!$C:$C) -> 2.2045881 | H120: =G120*$H$1 -> 0 | I120: =COUNTIF(D:D,D120) -> 1
A121: ПМ | B121: FREE FLAP 1.7 | C121: FREE FLAP 1.7 | D121: 372.91.133 | E121: Заглушка FREE flap 1.7 серая | F121: 1 | G121: =SUMIF(Цены!$B:$B,D121,Цены!$C:$C) -> 2.1124561 | H121: =G121*$H$1 -> 0 | I121: =COUNTIF(D:D,D121) -> 1
A122: ПМ | B122: FREE FOLD | C122: FREE FOLD | D122: 372.37.021 | E122: Заглушка FREE FOLD серая | F122: 1 | G122: =SUMIF(Цены!$B:$B,D122,Цены!$C:$C) -> 2.5350071 | H122: =G122*$H$1 -> 0 | I122: =COUNTIF(D:D,D122) -> 1
A123: ПМ | B123: Аксессуары для ПМ | C123: Толкатели PUSH | D123: 372.91.480 | E123: Толкатель, врезная версия. Тип 1, 17-23 N | F123: 1 | G123: =SUMIF(Цены!$B:$B,D123,Цены!$C:$C) -> 3.1864409 | H123: =G123*$H$1 -> 0 | I123: =COUNTIF(D:D,D123) -> 1
A124: ПМ | B124: Аксессуары для ПМ | C124: Толкатели PUSH | D124: 372.91.481 | E124: Толкатель, врезная версия. Тип 2, 23-34 N | F124: 1 | G124: =SUMIF(Цены!$B:$B,D124,Цены!$C:$C) -> 3.1864409 | H124: =G124*$H$1 -> 0 | I124: =COUNTIF(D:D,D124) -> 1
A125: ПМ | B125: Аксессуары для ПМ | C125: Толкатели PUSH | D125: 372.91.482 | E125: Толкатель, врезная версия. Тип 2, 26-48 N | F125: 1 | G125: =SUMIF(Цены!$B:$B,D125,Цены!$C:$C) -> 3.1864409 | H125: =G125*$H$1 -> 0 | I125: =COUNTIF(D:D,D125) -> 1
A126: ПМ | B126: Аксессуары для ПМ | C126: Толкатели PUSH | D126: 372.91.470 | E126: Толкатель, врезная версия. Тип 1, 17-23 N | F126: 1 | G126: =SUMIF(Цены!$B:$B,D126,Цены!$C:$C) -> 3.1761209 | H126: =G126*$H$1 -> 0 | I126: =COUNTIF(D:D,D126) -> 1
A127: ПМ | B127: Аксессуары для ПМ | C127: Толкатели PUSH | D127: 372.91.471 | E127: Толкатель, врезная версия. Тип 2, 23-34 N | F127: 1 | G127: =SUMIF(Цены!$B:$B,D127,Цены!$C:$C) -> 3.1759798 | H127: =G127*$H$1 -> 0 | I127: =COUNTIF(D:D,D127) -> 1
A128: ПМ | B128: Аксессуары для ПМ | C128: Толкатели PUSH | D128: 372.91.472 | E128: Толкатель, врезная версия. Тип 2, 26-48 N | F128: 1 | G128: =SUMIF(Цены!$B:$B,D128,Цены!$C:$C) -> 3.1834596 | H128: =G128*$H$1 -> 0 | I128: =COUNTIF(D:D,D128) -> 1
A129: ПМ | B129: Аксессуары для ПМ | C129: Толкатели PUSH | D129: 372.91.479 | E129: Адаптер для монтажа на проской поверхности, серый | F129: 1 | G129: =SUMIF(Цены!$B:$B,D129,Цены!$C:$C) -> 1.2375691 | H129: =G129*$H$1 -> 0
A130: ПМ | B130: Аксессуары для ПМ | C130: Толкатели PUSH | D130: 356.06.401 | E130: Магнитная нажимная защелка Push, сопряженная планка для вбивания | F130: 1 | G130: =SUMIF(Цены!$B:$B,D130,Цены!$C:$C) -> 4.4643549 | H130: =G130*$H$1 -> 0
A131: ПМ | B131: Аксессуары для ПМ | C131: Толкатели PUSH | D131: 356.06.402 | E131: Магнитная нажимная защелка Push, сопряженная планка для приклеивания | F131: 1 | G131: =SUMIF(Цены!$B:$B,D131,Цены!$C:$C) -> 4.6892248 | H131: =G131*$H$1 -> 0
A132: ПМ | B132: Аксессуары для ПМ | C132: Толкатели PUSH | D132: 356.06.441 | E132: Дополнительный магнит Push, для дверей, сопряженная планка для вбивания | F132: 1 | G132: =SUMIF(Цены!$B:$B,D132,Цены!$C:$C) -> 4.4643549 | H132: =G132*$H$1 -> 0
A133: ПМ | B133: Аксессуары для ПМ | C133: Толкатели PUSH | D133: 356.06.410 | E133: Крестовая адаптерная планка | F133: 1 | G133: =SUMIF(Цены!$B:$B,D133,Цены!$C:$C) -> 0.29915608 | H133: =G133*$H$1 -> 0
D136: 000.000.001 | E136: Прошу | F136: 1 | G136: =SUMIF(Цены!$B:$B,D136,Цены!$C:$C) -> 0 | H136: =G136*$H$1 -> 0 | I136: =COUNTIF(D:D,D136) -> 1
I137: =COUNTIF(D:D,D137) -> 1
I138: =COUNTIF(D:D,D138) -> 1
I139: =COUNTIF(D:D,D139) -> 1
I140: =COUNTIF(D:D,D140) -> 1
A141: Петли | B141: Петли | C141: Петли | D141: =Петли!E3 -> 329.03.640 | E141: =Петли!F3 -> Петля Duomatic Standard угол раскрытия 120 , для накладной двери, схема 52/5,5мм | G141: =SUMIF(Цены!$B:$B,D141,Цены!$C:$C) -> 1.7241784 | H141: =G141*$H$1 -> 0 | I141: =COUNTIF(D:D,D141) -> 1
A142: Петли | B142: Петли | C142: Монтажные планки | D142: =Петли!E4 -> 329.73.503 | E142: =Петли!F4 -> Монтажная планка Hafele Duomatic SM, крестовая, быстрый монтаж | G142: =SUMIF(Цены!$B:$B,D142,Цены!$C:$C) -> 0.64867721 | H142: =G142*$H$1 -> 0 | I142: =COUNTIF(D:D,D142) -> 3
A143: Петли | B143: Петли | C143: Петли | D143: =Петли!E5 -> 318.40.543 | E143: =Петли!F5 -> Петля Metallamat 110⁰ для накладной двери, 52/5,5, быстрый монтаж | G143: =SUMIF(Цены!$B:$B,D143,Цены!$C:$C) -> 0.67499758 | H143: =G143*$H$1 -> 0 | I143: =COUNTIF(D:D,D143) -> 1
A144: Петли | B144: Петли | C144: Монтажные планки | D144: =Петли!E6 -> 318.61.506 | E144: =Петли!F6 -> Крестовые монтаж планки Metallamat SM, быстр. монтаж, высота 6 мм | G144: =SUMIF(Цены!$B:$B,D144,Цены!$C:$C) -> 0.13634729 | H144: =G144*$H$1 -> 0 | I144: =COUNTIF(D:D,D144) -> 1
A145: Петли | B145: Петли | C145: Петли | D145: =Петли!E7 -> 329.17.700 | E145: =Петли!F7 -> Петля Duomatic Premium с доводчиком 110 гр. для накладной двери, схема 48/6 мм | G145: =SUMIF(Цены!$B:$B,D145,Цены!$C:$C) -> 2.2770297 | H145: =G145*$H$1 -> 0 | I145: =COUNTIF(D:D,D145) -> 2
A146: Петли | B146: Петли | C146: Монтажные планки | D146: =Петли!E8 -> 329.73.503 | E146: =Петли!F8 -> Монтажная планка Hafele Duomatic SM, крестовая, быстрый монтаж | G146: =SUMIF(Цены!$B:$B,D146,Цены!$C:$C) -> 0.64867721 | H146: =G146*$H$1 -> 0 | I146: =COUNTIF(D:D,D146) -> 3
A147: Петли | B147: Петли | C147: Петли | D147: =Петли!E9 -> 329.17.600 | E147: =Петли!F9 -> Петля Duomatic Standard 110 гр. для накладной двери, схема 48/6 мм | G147: =SUMIF(Цены!$B:$B,D147,Цены!$C:$C) -> 1.2719514 | H147: =G147*$H$1 -> 0 | I147: =COUNTIF(D:D,D147) -> 3
A148: Петли | B148: Петли | C148: Монтажные планки | D148: =Петли!E10 -> 316.51.502 | E148: =Петли!F10 -> Монтажная планка Hafele Duomatic SM, крестовая, быстрый монтаж | G148: =SUMIF(Цены!$B:$B,D148,Цены!$C:$C) -> 0.12422792 | H148: =G148*$H$1 -> 0 | I148: =COUNTIF(D:D,D148) -> 6
A149: Петли | B149: Петли | C149: Петли | D149: =Петли!E11 -> 311.60.515 | E149: =Петли!F11 -> Петля Metalla SM Kombi, угол откр 110. для накладных дв. Схема 52/5,5 с амортизатором | G149: =SUMIF(Цены!$B:$B,D149,Цены!$C:$C) -> 2.0297558 | H149: =G149*$H$1 -> 0 | I149: =COUNTIF(D:D,D149) -> 2
A150: Петли | B150: Петли | C150: Монтажные планки | D150: =Петли!E12 -> 311.71.540 | E150: =Петли!F12 -> Монтажная планка Hafele Metalla SM Kombi, быстрого монтажа высота 0 мм, под шурупы | G150: =SUMIF(Цены!$B:$B,D150,Цены!$C:$C) -> 0.23605422 | H150: =G150*$H$1 -> 0 | I150: =COUNTIF(D:D,D150) -> 2
A151: Петли | B151: Петли | C151: Петли | D151: =Петли!E13 -> 316.30.500 | E151: =Петли!F13 -> Петля Metallamat 110⁰ для накладной двери, 48/6, монтаж задвижением | G151: =SUMIF(Цены!$B:$B,D151,Цены!$C:$C) -> 0.34669857 | H151: =G151*$H$1 -> 0 | I151: =COUNTIF(D:D,D151) -> 3
A152: Петли | B152: Петли | C152: Монтажные планки | D152: =Петли!E14 -> 316.51.502 | E152: =Петли!F14 -> Крестовая монтажная планка Metallamat А (тех задвиж.) (для шурупов) высота 2 мм | G152: =SUMIF(Цены!$B:$B,D152,Цены!$C:$C) -> 0.12422792 | H152: =G152*$H$1 -> 0 | I152: =COUNTIF(D:D,D152) -> 6
... A158: Петли | B158: Петли | C158: Монтажные планки | D158: =Петли!E20 -> 329.73.503 | E158: =Петли!F20 -> Монтажная планка Hafele Duomatic SM, крестовая, быстрый монтаж | G158: =SUMIF(Цены!$B:$B,D158,Цены!$C:$C) -> 0.64867721 | H158: =G158*$H$1 -> 0 | I158: =COUNTIF(D:D,D158) -> 3
D159: =Петли!E21 -> 329.17.600 | E159: =Петли!F21 -> Петля Duomatic Standard 110 гр. для накладной двери, схема 48/6 мм | G159: =SUMIF(Цены!$B:$B,D159,Цены!$C:$C) -> 1.2719514 | H159: =G159*$H$1 -> 0 | I159: =COUNTIF(D:D,D159) -> 3
D160: =Петли!E22 -> 316.51.502 | E160: =Петли!F22 -> Монтажная планка Hafele Duomatic SM, крестовая, быстрый монтаж | G160: =SUMIF(Цены!$B:$B,D160,Цены!$C:$C) -> 0.12422792 | H160: =G160*$H$1 -> 0 | I160: =COUNTIF(D:D,D160) -> 6
D161: =Петли!E23 -> 311.60.515 | E161: =Петли!F23 -> Петля Metalla SM Kombi, угол откр 110. для накладных дв. Схема 52/5,5 с амортизатором | G161: =SUMIF(Цены!$B:$B,D161,Цены!$C:$C) -> 2.0297558 | H161: =G161*$H$1 -> 0 | I161: =COUNTIF(D:D,D161) -> 2
D162: =Петли!E24 -> 311.71.540 | E162: =Петли!F24 -> Монтажная планка Hafele Metalla SM Kombi, быстрого монтажа высота 0 мм, под шурупы | G162: =SUMIF(Цены!$B:$B,D162,Цены!$C:$C) -> 0.23605422 | H162: =G162*$H$1 -> 0 | I162: =COUNTIF(D:D,D162) -> 2
D163: =Петли!E25 -> 316.30.500 | E163: =Петли!F25 -> Петля Metallamat 110⁰ для накладной двери, 48/6, монтаж задвижением | G163: =SUMIF(Цены!$B:$B,D163,Цены!$C:$C) -> 0.34669857 | H163: =G163*$H$1 -> 0 | I163: =COUNTIF(D:D,D163) -> 3
D164: =Петли!E26 -> 316.51.502 | E164: =Петли!F26 -> Крестовая монтажная планка Metallamat А (тех задвиж.) (для шурупов) высота 2 мм | G164: =SUMIF(Цены!$B:$B,D164,Цены!$C:$C) -> 0.12422792 | H164: =G164*$H$1 -> 0 | I164: =COUNTIF(D:D,D164) -> 6
D165: 329.17.900 | E165: Петля Duomatic Push Угол раскрытия 110⁰ для накладной двери, схема 48/6 мм | G165: =SUMIF(Цены!$B:$B,D165,Цены!$C:$C) -> 2.688312 | H165: =G165*$H$1 -> 0
D166: =Петли!E27 -> 0 | E166: =Петли!F27 -> 0 | I166: =COUNTIF(D:D,D166) -> 1
I167: =COUNTIF(D:D,D167) -> 1
I168: =COUNTIF(D:D,D168) -> 1
I169: =COUNTIF(D:D,D169) -> 1
I170: =COUNTIF(D:D,D170) -> 1
I171: =COUNTIF(D:D,D171) -> 1
I172: =COUNTIF(D:D,D172) -> 1
I173: =COUNTIF(D:D,D173) -> 1
I174: =COUNTIF(D:D,D174) -> 1
I175: =COUNTIF(D:D,D175) -> 1
I176: =COUNTIF(D:D,D176) -> 1
I177: =COUNTIF(D:D,D177) -> 1
I178: =COUNTIF(D:D,D178) -> 1
... I196: =COUNTIF(D:D,D196) -> 1
E197: =CONCATENATE(F197," ",C197, " - ",G197,"; ",H197) -> Подъемный механизм - L4fo; правый | F197: Подъемный механизм | G197: L4fo | H197: правый | I197: =COUNTIF(D:D,D197) -> 1
G198: =SUMIF(Цены!$B:$B,D198,Цены!$C:$C) -> 0 | H198: =G198*$H$1 -> 0 | I198: =COUNTIF(D:D,D198) -> 1
G199: =SUMIF(Цены!$B:$B,D199,Цены!$C:$C) -> 0 | H199: =G199*$H$1 -> 0 | I199: =COUNTIF(D:D,D199) -> 1
G200: =SUMIF(Цены!$B:$B,D200,Цены!$C:$C) -> 0 | H200: =G200*$H$1 -> 0 | I200: =COUNTIF(D:D,D200) -> 1
G201: =SUMIF(Цены!$B:$B,D201,Цены!$C:$C) -> 0 | H201: =G201*$H$1 -> 0 | I201: =COUNTIF(D:D,D201) -> 1
G202: =SUMIF(Цены!$B:$B,D202,Цены!$C:$C) -> 0 | H202: =G202*$H$1 -> 0 | I202: =COUNTIF(D:D,D202) -> 1
G203: =SUMIF(Цены!$B:$B,D203,Цены!$C:$C) -> 0 | H203: =G203*$H$1 -> 0 | I203: =COUNTIF(D:D,D203) -> 1
G204: =SUMIF(Цены!$B:$B,D204,Цены!$C:$C) -> 0 | H204: =G204*$H$1 -> 0 | I204: =COUNTIF(D:D,D204) -> 1
G205: =SUMIF(Цены!$B:$B,D205,Цены!$C:$C) -> 0 | H205: =G205*$H$1 -> 0 | I205: =COUNTIF(D:D,D205) -> 1
G206: =SUMIF(Цены!$B:$B,D206,Цены!$C:$C) -> 0 | H206: =G206*$H$1 -> 0 | I206: =COUNTIF(D:D,D206) -> 1
G207: =SUMIF(Цены!$B:$B,D207,Цены!$C:$C) -> 0 | H207: =G207*$H$1 -> 0 | I207: =COUNTIF(D:D,D207) -> 1
G208: =SUMIF(Цены!$B:$B,D208,Цены!$C:$C) -> 0 | H208: =G208*$H$1 -> 0 | I208: =COUNTIF(D:D,D208) -> 1
G209: =SUMIF(Цены!$B:$B,D209,Цены!$C:$C) -> 0 | H209: =G209*$H$1 -> 0 | I209: =COUNTIF(D:D,D209) -> 1
... G214: =SUMIF(Цены!$B:$B,D214,Цены!$C:$C) -> 0 | H214: =G214*$H$1 -> 0 | I214: =COUNTIF(D:D,D214) -> 1

Sheet Справ
I3: Сегмент
A4: FREE FLAP H 1.5 | B4: 372.39.300 | C4: Model A | E4: Белый | F4: 372.33.675 | G4: Заглушки FREE UP - Белые | I4: Средний | J4: 0
B5: 372.39.400 | C5: Model A | E5: Серый | F5: 372.33.670 | G5: Заглушки FREE UP - Серые | I5: Эконом | J5: 1
B6: 372.39.310 | C6: Model B
B7: 372.39.410 | C7: Model B
B8: 372.39.310 | C8: Model C | E8: 1200 | F8: 372.33.696 | G8: Синхронизирующая Штанга 1074 мм для шкафа 1200 мм | I8: закупочные цены | J8: 0
B9: 372.39.410 | C9: Model C | E9: 1800 | F9: 372.33.698 | G9: Синхронизирующая Штанга 1674 мм для шкафа 1800 мм | I9: розничные цены | J9: 1
B10: 372.39.330 | C10: Model D
B11: 372.39.430 | C11: Model D | I11: Единая наценка | J11: 0
E12: Белый | F12: 372.39.015 | G12: Крепление к фасаду, для Free flap H1.5, белое | I12: Индивидуальная наценка | J12: 1
E13: Серый | F13: 372.39.014 | G13: Крепление к фасаду, для Free flap H1.5, серое
I14: Единая наценка на весь ассортимент | J14: 0
I15: Индивидуальная наценка | J15: 1
E16: Белый | F16: 372.39.017 | G16: Крепление к корпусу, для Free flap H1.5, белое
E17: Серый | F17: 372.39.016 | G17: Крепление к корпусу, для Free flap H1.5, серое | I17: Механизм | J17: 1
I18: Аксессуары для ПМ | J18: 2
I19: Петли | J19: 3
E20: Белый | F20: 372.39.003 | G20: Заглушка HAFELE для Free flap H1.5, белая, левая
E21: Серый | F21: 372.39.001 | G21: Заглушка HAFELE для Free flap H1.5, серая, левая | I21: Плавное закрывание | J21: 0
I22: Система PUSH OPEN | J22: 1
E24: Белый | F24: 372.39.002 | G24: Заглушка HAFELE для Free flap H1.5, белая, правая | I24: Врезной
E25: Серый | F25: 372.39.000 | G25: Заглушка HAFELE для Free flap H1.5, серая, правая | I25: Накладной
I27: Для приклеивания
E28: Белый | F28: 372.34.675 | G28: Заглушки FREE SWING белые | I28: Для вбивания
E29: Серый | F29: 372.34.670 | G29: Заглушки FREE SWING серые
E32: Белый | F32: 372.91.236 | G32: Заглушка FREE flap 3.15, белая
E33: Серый | F33: 372.91.234 | G33: Заглушка FREE flap 3.15, серые
E36: Белый | F36: 372.91.135 | G36: Заглушка FREE flap 1.7 белая
E37: Серый | F37: 372.91.133 | G37: Заглушка FREE flap 1.7 серая
E40: Белый | F40: 372.37.026 | G40: Заглушка FREE FOLD белая
E41: Серый | F41: 372.37.021 | G41: Заглушка FREE FOLD серая
E44: Для вбивания | F44: 356.06.401 | G44: Магнитная нажимная защелка Push, сопряженная планка для вбивания
E45: Для приклеивания | F45: 356.06.402 | G45: Магнитная нажимная защелка Push, сопряженная планка для приклеивания
E47: Для приклеивания

Sheet КВ
A2: Яндекс
A4: Найти
A5: Будьте в Плюсе
A6: Войти
A7: Поиск
A8: Картинки
A9: Видео
A10: Карты
A11: Маркет
A12: Новости
A13: Переводчик
A14: Кью
... A73: Изменение
A74: 44720
A75: 64.5699
A76: 0.3
A77: 44719
A78: 64.8669
A79: 1.05
A80: 44716
A81: 65.9191
A82: 1.01
A83: 44715
A84: 64.9053
A85: 1.24
... A103: 0.95
A105: Главное
A107: Москвичи проголосовали за создание площади ДНР у посольства США
A108: РБК12:28
A109: Экс-президент Молдавии Додон заявил о подготовке военного присоединения страны к Румынии
A110: РИА Новости12:27
A111: МИД Японии продолжит консультации с Россией по соглашению о промысле морских ресурсов
A112: РИА Новости12:21
A113: Захарова назвала чьим-то планом слова Зеленского о переговорах с Путиным
A114: Lenta.ru12:26
A115: Референдум о вхождении Запорожской области в состав РФ планируют провести в 2022 году
A116: ТАСС12:23
A117: Yeni Şafak: Турция поставила десять условий Швеции и Финляндии для вхождения в НАТО
... A146: Данные предоставлены: АО «Интерфакс»

Sheet Лист1
A1: {=LARGE(A5:A14,ROW(INDIRECT("1:3")))} -> 244
A2: 123
A3: 100
D4: =MATCH("№",'Free-Серия'!D1:D862,0) -> 17 | G4: A1
A5: 1 | J5: =ROW(INDIRECT("1:10")) -> 1
A6: 3
A7: 15
A8: 244 | H8: =INDIRECT(G4,1) -> 244
A9: 100
A10: 13
A11: 123
F13: {=SMALL(FFD_Колво,ROW(INDIRECT("1:2")))} -> 7 | G13: =IF(F13=ffdКолво,1,0) -> #NAME?
F14: 16

Sheet Настройки
B3: Петли для механизмов
B6: 329.03.640
B7: 329.71.503

Sheet Карта
B1: 1 | D1: 2 | F1: 3 | H1: 4 | J1: 5 | L1: 6 | N1: 7 | P1: 8 | R1: 9
B2: 372.37.441 | C2: 372.37.439 | D2: 372.91.175 | E2: 372.91.173 | F2: 372.91.243 | G2: 372.91.241 | H2: 372.34.422 | I2: 372.34.412 | J2: 372.33.424 | K2: 372.33.422 | L2: 372.39.300 | M2: 372.39.410 | N2: 373.69.902 | O2: 373.69.900 | P2: 373.66.500 | Q2: 373.66.500 | R2: 373.66.500 | S2: 373.66.500
B3: 372.37.442 | C3: 372.37.440 | D3: 372.91.176 | E3: 372.91.174 | F3: 372.91.244 | G3: 372.91.242 | H3: 372.34.423 | I3: 372.34.413 | J3: 372.33.425 | K3: 372.33.423 | L3: 372.39.014 | M3: 372.39.015 | N3: 373.66.681 | O3: 373.66.681 | P3: 373.66.681 | Q3: 373.66.681 | R3: 373.66.681 | S3: 373.66.681
B4: 372.37.026 | C4: 372.37.021 | D4: 372.91.135 | E4: 372.91.133 | F4: 372.91.236 | G4: 372.91.234 | H4: 372.34.675 | I4: 372.34.670 | J4: 372.33.675 | K4: 372.33.670 | L4: 372.39.016 | M4: 372.39.017 | N4: 373.69.906 | O4: 373.69.906 | P4: 373.66.694 | Q4: 373.66.694 | R4: 373.66.694 | S4: 373.66.694
B5: 372.37.040 | C5: 372.37.040 | D5: 372.91.141 | E5: 372.91.141 | F5: 372.91.141 | G5: 372.91.141 | H5: 372.91.141 | I5: 372.91.141 | J5: 372.91.141 | K5: 372.91.141 | L5: 372.39.001 | M5: 372.39.003 | N5: 373.69.799 | O5: 373.69.799 | P5: =INDEX(Вариант_Пт,MATCH(NDUDS,Вариант_Пт_Номера,0)+VLOOKUP(НСегмент,ЦСегмент,2,0)*4,5) -> #REF! | Q5: =INDEX(Вариант_Пт,MATCH(NDUDS,Вариант_Пт_Номера,0),5) -> #REF! | R5: =INDEX(Вариант_Пт,MATCH(NDUDS,Вариант_Пт_Номера,0)+VLOOKUP(НСегмент,ЦСегмент,2,0)*4,5) -> #REF! | S5: =INDEX(Вариант_Пт,MATCH(NDUDS,Вариант_Пт_Номера,0),5) -> #REF!
B6: 372.64.796 | C6: 372.64.796 | D6: 372.91.499 | E6: 372.91.499 | F6: 372.91.599 | G6: 372.91.599 | H6: 372.33.696 | I6: 372.33.696 | J6: 372.33.699 | K6: 372.33.699 | L6: 372.39.000 | M6: 372.39.002 | N6: =INDEX(Вариант_Пт,MATCH(NMAXI,Вариант_Пт_Номера,0)+VLOOKUP(НСегмент,ЦСегмент,2,0)*2,5) -> #REF! | O6: =INDEX(Вариант_Пт,MATCH(NMAXI,Вариант_Пт_Номера,0)+VLOOKUP(НСегмент,ЦСегмент,2,0)*2,5) -> #REF! | P6: =INDEX(Вариант_Пт,MATCH(NDUDS,Вариант_Пт_Номера,0)+VLOOKUP(НСегмент,ЦСегмент,2,0)*4+1,5) -> #REF! | Q6: =INDEX(Вариант_Пт,MATCH(NDUDS,Вариант_Пт_Номера,0)+1,5) -> #REF! | R6: =INDEX(Вариант_Пт,MATCH(NDUDS,Вариант_Пт_Номера,0)+VLOOKUP(НСегмент,ЦСегмент,2,0)*4+1,5) -> #REF! | S6: =INDEX(Вариант_Пт,MATCH(NDUDS,Вариант_Пт_Номера,0)+1,5) -> #REF!
B7: =INDEX(Вариант_Пт,MATCH(NFFD,Вариант_Пт_Номера,0)+VLOOKUP(НСегмент,ЦСегмент,2,0)*2,5) -> 329.03.640 | C7: =INDEX(Вариант_Пт,MATCH(NFFD,Вариант_Пт_Номера,0),5) -> 329.03.640 | D7: 372.91.599 | E7: 372.91.599 | H7: 372.33.699 | I7: 372.33.699 | J7: 372.33.698 | K7: 372.33.698 | L7: =INDEX(Вариант_Пт,MATCH(NFFH15,Вариант_Пт_Номера,0)+VLOOKUP(НСегмент,ЦСегмент,2,0)*4,5) -> 329.17.700 | M7: =INDEX(Вариант_Пт,MATCH(NFFH15,Вариант_Пт_Номера,0)+VLOOKUP(НСегмент,ЦСегмент,2,0)*4,5) -> 329.17.700 | N7: =INDEX(Вариант_Пт,MATCH(NMAXI,Вариант_Пт_Номера,0)+VLOOKUP(НСегмент,ЦСегмент,2,0)*2+1,5) -> #REF! | O7: =INDEX(Вариант_Пт,MATCH(NMAXI,Вариант_Пт_Номера,0)+VLOOKUP(НСегмент,ЦСегмент,2,0)*2+1,5) -> #REF! | P7: =INDEX(Вариант_Пт,MATCH(NDUDS,Вариант_Пт_Номера,0)+VLOOKUP(НСегмент,ЦСегмент,2,0)*4+2,5) -> #REF! | Q7: =INDEX(Вариант_Пт,MATCH(NDUDS,Вариант_Пт_Номера,0)+2,5) -> #REF! | R7: =INDEX(Вариант_Пт,MATCH(NDUDS,Вариант_Пт_Номера,0)+VLOOKUP(НСегмент,ЦСегмент,2,0)*4+2,5) -> #REF! | S7: =INDEX(Вариант_Пт,MATCH(NDUDS,Вариант_Пт_Номера,0)+2,5) -> #REF!
B8: =INDEX(Вариант_Пт,MATCH(NFFD,Вариант_Пт_Номера,0)+VLOOKUP(НСегмент,ЦСегмент,2,0)*2+1,5) -> 329.73.503 | C8: =INDEX(Вариант_Пт,MATCH(NFFD,Вариант_Пт_Номера,0)+1,5) -> 329.73.503 | F8: 372.91.479 | G8: =F8 -> 372.91.479 | H8: 372.91.599 | I8: 372.91.599 | J8: 372.91.599 | K8: 372.91.599 | L8: =INDEX(Вариант_Пт,MATCH(NFFH15,Вариант_Пт_Номера,0)+VLOOKUP(НСегмент,ЦСегмент,2,0)*4+1,5) -> 329.73.503 | M8: =INDEX(Вариант_Пт,MATCH(NFFH15,Вариант_Пт_Номера,0)+VLOOKUP(НСегмент,ЦСегмент,2,0)*4+1,5) -> 329.73.503 | P8: =INDEX(Вариант_Пт,MATCH(NDUDS,Вариант_Пт_Номера,0)+VLOOKUP(НСегмент,ЦСегмент,2,0)*4+1+2,5) -> #REF! | Q8: =INDEX(Вариант_Пт,MATCH(NDUDS,Вариант_Пт_Номера,0)+2+1,5) -> #REF! | R8: =INDEX(Вариант_Пт,MATCH(NDUDS,Вариант_Пт_Номера,0)+VLOOKUP(НСегмент,ЦСегмент,2,0)*4+1+2,5) -> #REF! | S8: =INDEX(Вариант_Пт,MATCH(NDUDS,Вариант_Пт_Номера,0)+2+1,5) -> #REF!
B9: 372.37.060 | C9: 372.37.060 | D9: 372.91.479 | E9: =D9 -> 372.91.479 | L9: =INDEX(Вариант_Пт,MATCH(NFFH15,Вариант_Пт_Номера,0)+VLOOKUP(НСегмент,ЦСегмент,2,0)*4+2,5) -> 329.17.600 | M9: =INDEX(Вариант_Пт,MATCH(NFFH15,Вариант_Пт_Номера,0)+VLOOKUP(НСегмент,ЦСегмент,2,0)*4+2,5) -> 329.17.600 | P9: 316.53.710 | Q9: 316.53.710 | R9: 316.53.710 | S9: 316.53.710
B10: 372.37.044 | C10: 372.37.044 | L10: =INDEX(Вариант_Пт,MATCH(NFFH15,Вариант_Пт_Номера,0)+VLOOKUP(НСегмент,ЦСегмент,2,0)*4+1+2,5) -> 316.51.502 | M10: =INDEX(Вариант_Пт,MATCH(NFFH15,Вариант_Пт_Номера,0)+VLOOKUP(НСегмент,ЦСегмент,2,0)*4+1+2,5) -> 316.51.502 | P10: =INDEX(Вариант_Пт,MATCH(20,Вариант_Пт_Номера,0)+VLOOKUP(НСегмент,ЦСегмент,2,0)*2,5) -> 329.17.900 | Q10: =INDEX(Вариант_Пт,MATCH(NDUDS,Вариант_Пт_Номера,0)+VLOOKUP(НСегмент,ЦСегмент,2,0)*4,5) -> #REF! | R10: =INDEX(Вариант_Пт,MATCH(20,Вариант_Пт_Номера,0)+VLOOKUP(НСегмент,ЦСегмент,2,0)*2,5) -> 329.17.900 | S10: =INDEX(Вариант_Пт,MATCH(NDUDS,Вариант_Пт_Номера,0)+VLOOKUP(НСегмент,ЦСегмент,2,0)*4,5) -> #REF!
L11: 316.53.710 | M11: 316.53.710 | P11: =INDEX(Вариант_Пт,MATCH(20,Вариант_Пт_Номера,0)+VLOOKUP(НСегмент,ЦСегмент,2,0)*2+1,5) -> 316.51.502 | R11: =INDEX(Вариант_Пт,MATCH(20,Вариант_Пт_Номера,0)+VLOOKUP(НСегмент,ЦСегмент,2,0)*2+1,5) -> 316.51.502
L12: 235.79.301 | M12: 235.79.301 | P12: 356.06.402 | R12: 356.06.402
P13: 356.06.441 | R13: 356.06.441
P14: 356.06.410 | R14: 356.06.410

Sheet ПМ
A2: Группа | B2: Подгруппа | D2: Подгруппа2 | E2: Артикул | F2: Номенклатура
A3: ПМ | B3: Механизм | C3: Механизм | D3: DUO | E3: 373.66.500 | F3: Подъемный механизм DUO | G3: =INDEX(Таб_ПМ_Наценка,MATCH(D3,Таб_ПМ,0),2) -> 0.15
A4: ПМ | B4: Механизм | C4: Механизм | D4: DUO | E4: 373.66.700 | F4: Подъемный механизм DUO Forte | G4: =INDEX(Таб_ПМ_Наценка,MATCH(D4,Таб_ПМ,0),2) -> 0.15
A5: ПМ | B5: Механизм | C5: Механизм | D5: FREE FLAP 1.7 | E5: 372.91.172 | F5: Подъемный механизм FREE FLAP 1.7 - Model A; левый | G5: =INDEX(Таб_ПМ_Наценка,MATCH(D5,Таб_ПМ,0),2) -> 0.15
A6: ПМ | B6: Механизм | C6: Механизм | D6: FREE FLAP 1.7 | E6: 372.91.171 | F6: Подъемный механизм FREE FLAP 1.7 - Model A; правый | G6: =INDEX(Таб_ПМ_Наценка,MATCH(D6,Таб_ПМ,0),2) -> 0.15
A7: ПМ | B7: Механизм | C7: Механизм | D7: FREE FLAP 1.7 | E7: 372.91.174 | F7: Подъемный механизм FREE FLAP 1.7 - Model B; левый | G7: =INDEX(Таб_ПМ_Наценка,MATCH(D7,Таб_ПМ,0),2) -> 0.15
A8: ПМ | B8: Механизм | C8: Механизм | D8: FREE FLAP 1.7 | E8: 372.91.173 | F8: Подъемный механизм FREE FLAP 1.7 - Model B; правый | G8: =INDEX(Таб_ПМ_Наценка,MATCH(D8,Таб_ПМ,0),2) -> 0.15
A9: ПМ | B9: Механизм | C9: Механизм | D9: FREE FLAP 1.7 | E9: 372.91.176 | F9: Подъемный механизм FREE FLAP 1.7 - Model C; левый | G9: =INDEX(Таб_ПМ_Наценка,MATCH(D9,Таб_ПМ,0),2) -> 0.15
A10: ПМ | B10: Механизм | C10: Механизм | D10: FREE FLAP 1.7 | E10: 372.91.175 | F10: Подъемный механизм FREE FLAP 1.7 - Model C; правый | G10: =INDEX(Таб_ПМ_Наценка,MATCH(D10,Таб_ПМ,0),2) -> 0.15
A11: ПМ | B11: Механизм | C11: Механизм | D11: FREE FLAP 3.15 | E11: 372.91.242 | F11: Подъемный механизм FREE FLAP 3.15 - Model D; левый | G11: =INDEX(Таб_ПМ_Наценка,MATCH(D11,Таб_ПМ,0),2) -> 0.15
A12: ПМ | B12: Механизм | C12: Механизм | D12: FREE FLAP 3.15 | E12: 372.91.241 | F12: Подъемный механизм FREE FLAP 3.15 - Model D; правый | G12: =INDEX(Таб_ПМ_Наценка,MATCH(D12,Таб_ПМ,0),2) -> 0.15
A13: ПМ | B13: Механизм | C13: Механизм | D13: FREE FLAP 3.15 | E13: 372.91.244 | F13: Подъемный механизм FREE FLAP 3.15 - Model E; левый | G13: =INDEX(Таб_ПМ_Наценка,MATCH(D13,Таб_ПМ,0),2) -> 0.15
A14: ПМ | B14: Механизм | C14: Механизм | D14: FREE FLAP 3.15 | E14: 372.91.243 | F14: Подъемный механизм FREE FLAP 3.15 - Model E; правый | G14: =INDEX(Таб_ПМ_Наценка,MATCH(D14,Таб_ПМ,0),2) -> 0.15
... A78: ПМ | B78: Механизм | C78: Механизм | D78: MAXI | E78: 373.69.903 | F78: Подъемный механизм MAXI - Model D; цв. кольца черный | G78: =INDEX(Таб_ПМ_Наценка,MATCH(D78,Таб_ПМ,0),2) -> 0.15
A79: ПМ | B79: Аксессуары для ПМ | C79: Крепление к корпусу | D79: DUO | E79: 373.66.694 | F79: Крепление DUO к корпусу | G79: =INDEX(Таб_Аксессуары_Наценка,MATCH(C79,Таб_Аксессуары,0),2) -> 0.15
A80: ПМ | B80: Аксессуары для ПМ | C80: Крепление к фасаду | D80: DUO / MAXI | E80: 373.66.681 | F80: Крепления DUO / MAXI к сплошному фасаду | G80: =INDEX(Таб_Аксессуары_Наценка,MATCH(C80,Таб_Аксессуары,0),2) -> 0.15
A81: ПМ | B81: Аксессуары для ПМ | C81: Адаптер алюм рам | D81: FREE FLAP | E81: 372.91.599 | F81: Адаптер для креплений FREE FLAP к фасадам с алюминиевой рамкой 20 мм | G81: =INDEX(Таб_Аксессуары_Наценка,MATCH(C81,Таб_Аксессуары,0),2) -> 0.15
A82: ПМ | B82: Аксессуары для ПМ | C82: Крепление к фасаду | D82: FREE Flap / Swing / Up | E82: 372.91.141 | F82: Крепления FREE Flap / Swing / Up | G82: =INDEX(Таб_Аксессуары_Наценка,MATCH(C82,Таб_Аксессуары,0),2) -> 0.15
A83: ПМ | B83: Аксессуары для ПМ | C83: Заглушки | D83: FREE FLAP 1.7 | E83: 372.91.135 | F83: Заглушка FREE flap 1.7 белая | G83: =INDEX(Таб_Аксессуары_Наценка,MATCH(C83,Таб_Аксессуары,0),2) -> 0.15
A84: ПМ | B84: Аксессуары для ПМ | C84: Заглушки | D84: FREE FLAP 1.7 | E84: 372.91.133 | F84: Заглушка FREE flap 1.7 серая | G84: =INDEX(Таб_Аксессуары_Наценка,MATCH(C84,Таб_Аксессуары,0),2) -> 0.15
A85: ПМ | B85: Аксессуары для ПМ | C85: Ограничитель угла | D85: FREE FLAP 1.7 | E85: 372.91.499 | F85: Ограничитель угла открывния FREE FLAP на 90' | G85: =INDEX(Таб_Аксессуары_Наценка,MATCH(C85,Таб_Аксессуары,0),2) -> 0.15
A86: ПМ | B86: Аксессуары для ПМ | C86: Заглушки | D86: FREE FLAP 3.15 | E86: 372.91.236 | F86: Заглушка FREE flap 3.15, белая | G86: =INDEX(Таб_Аксессуары_Наценка,MATCH(C86,Таб_Аксессуары,0),2) -> 0.15
A87: ПМ | B87: Аксессуары для ПМ | C87: Заглушки | D87: FREE FLAP 3.15 | E87: 372.91.234 | F87: Заглушка FREE flap 3.15, серые | G87: =INDEX(Таб_Аксессуары_Наценка,MATCH(C87,Таб_Аксессуары,0),2) -> 0.15
A88: ПМ | B88: Аксессуары для ПМ | C88: Адаптер алюм рам | D88: FREE FLAP H 1.5 | E88: 372.37.044 | F88: Адаптер для креплений Free Fold/Free flap H1.5 к фасадам с алюминиевой рамкой 20 мм | G88: =INDEX(Таб_Аксессуары_Наценка,MATCH(C88,Таб_Аксессуары,0),2) -> 0.15
A89: ПМ | B89: Аксессуары для ПМ | C89: Заглушки | D89: FREE FLAP H 1.5 | E89: 372.39.003 | F89: Заглушка HAFELE для Free flap H1.5, белая, левая | G89: =INDEX(Таб_Аксессуары_Наценка,MATCH(C89,Таб_Аксессуары,0),2) -> 0.15
A90: ПМ | B90: Аксессуары для ПМ | C90: Заглушки | D90: FREE FLAP H 1.5 | E90: 372.39.002 | F90: Заглушка HAFELE для Free flap H1.5, белая, правая | G90: =INDEX(Таб_Аксессуары_Наценка,MATCH(C90,Таб_Аксессуары,0),2) -> 0.15
... A114: ПМ | B114: Аксессуары для ПМ | C114: Заглушки | D114: FREE FOLD | E114: 372.37.021 | F114: Заглушка FREE FOLD серая | G114: =INDEX(Таб_Аксессуары_Наценка,MATCH(C114,Таб_Аксессуары,0),2) -> 0.15
A115: ПМ | B115: Аксессуары для ПМ | C115: Амортизатор к чашке петли | E115: 316.53.710 | F115: Амортизатор для привинчивания к чашке петли Metallamat, 48/6 | G115: =INDEX(Таб_Аксессуары_Наценка,MATCH(C115,Таб_Аксессуары,0),2) -> 0.15
A116: ПМ | B116: Аксессуары для ПМ | C116: Амортизатор к чашке петли | E116: 316.53.720 | F116: Амортизатор для привинчивания к чашке петли Metallamat, 52/5,5 | G116: =INDEX(Таб_Аксессуары_Наценка,MATCH(C116,Таб_Аксессуары,0),2) -> 0.15
A117: ПМ | B117: Аксессуары для ПМ | C117: Толкатели PUSH | D117: Толкатели PUSH | E117: 372.91.480 | F117: Толкатель, врезная версия. Тип 1, 17-23 N | G117: =INDEX(Таб_Аксессуары_Наценка,MATCH(C117,Таб_Аксессуары,0),2) -> 0.15
A118: ПМ | B118: Аксессуары для ПМ | C118: Толкатели PUSH | D118: Толкатели PUSH | E118: 372.91.481 | F118: Толкатель, врезная версия. Тип 2, 23-34 N | G118: =INDEX(Таб_Аксессуары_Наценка,MATCH(C118,Таб_Аксессуары,0),2) -> 0.15
A119: ПМ | B119: Аксессуары для ПМ | C119: Толкатели PUSH | D119: Толкатели PUSH | E119: 372.91.482 | F119: Толкатель, врезная версия. Тип 2, 26-48 N | G119: =INDEX(Таб_Аксессуары_Наценка,MATCH(C119,Таб_Аксессуары,0),2) -> 0.15
A120: ПМ | B120: Аксессуары для ПМ | C120: Толкатели PUSH | D120: Толкатели PUSH | E120: 372.91.470 | F120: Толкатель, врезная версия. Тип 1, 17-23 N | G120: =INDEX(Таб_Аксессуары_Наценка,MATCH(C120,Таб_Аксессуары,0),2) -> 0.15
A121: ПМ | B121: Аксессуары для ПМ | C121: Толкатели PUSH | D121: Толкатели PUSH | E121: 372.91.471 | F121: Толкатель, врезная версия. Тип 2, 23-34 N | G121: =INDEX(Таб_Аксессуары_Наценка,MATCH(C121,Таб_Аксессуары,0),2) -> 0.15
A122: ПМ | B122: Аксессуары для ПМ | C122: Толкатели PUSH | D122: Толкатели PUSH | E122: 372.91.472 | F122: Толкатель, врезная версия. Тип 2, 26-48 N | G122: =INDEX(Таб_Аксессуары_Наценка,MATCH(C122,Таб_Аксессуары,0),2) -> 0.15
A123: ПМ | B123: Аксессуары для ПМ | C123: Толкатели PUSH | D123: Толкатели PUSH | E123: 372.91.479 | F123: Адаптер для монтажа на проской поверхности, серый | G123: =INDEX(Таб_Аксессуары_Наценка,MATCH(C123,Таб_Аксессуары,0),2) -> 0.15
A124: ПМ | B124: Аксессуары для ПМ | C124: Толкатели PUSH | D124: Толкатели PUSH | E124: 356.06.401 | F124: Магнитная нажимная защелка Push, сопряженная планка для вбивания | G124: =INDEX(Таб_Аксессуары_Наценка,MATCH(C124,Таб_Аксессуары,0),2) -> 0.15
A125: ПМ | B125: Аксессуары для ПМ | C125: Толкатели PUSH | D125: Толкатели PUSH | E125: 356.06.402 | F125: Магнитная нажимная защелка Push, сопряженная планка для приклеивания | G125: =INDEX(Таб_Аксессуары_Наценка,MATCH(C125,Таб_Аксессуары,0),2) -> 0.15
A126: ПМ | B126: Аксессуары для ПМ | C126: Толкатели PUSH | D126: Толкатели PUSH | E126: 356.06.441 | F126: Дополнительный магнит Push, для дверей, сопряженная планка для вбивания | G126: =INDEX(Таб_Аксессуары_Наценка,MATCH(C126,Таб_Аксессуары,0),2) -> 0.15
A127: ПМ | B127: Аксессуары для ПМ | C127: Толкатели PUSH | D127: Толкатели PUSH | E127: 356.06.410 | F127: Крестовая адаптерная планка | G127: =INDEX(Таб_Аксессуары_Наценка,MATCH(C127,Таб_Аксессуары,0),2) -> 0.15

Sheet Петли
A1: 1 | B1: 2 | C1: 3 | D1: 4 | E1: 5 | F1: 6 | G1: 7 | H1: 8 | I1: 9
B2: ПМ | C2: Петли | E2: арт | F2: описание | G2: Цена | H2: Комментарий | I2: Шаг
A3: 1 | B3: FREE FOLD | C3: Петли | D3: без доводчика | E3: 329.03.640 | F3: Петля Duomatic Standard угол раскрытия 120 , для накладной двери, схема 52/5,5мм | G3: =SUMIF(Цены!B:B,E3,Цены!C:C) -> 1.7241784 | H3: Средний | I3: =COUNTIF($B$3:$B$35,B3)/2 -> 2
A4: 1 | B4: FREE FOLD | C4: Монтажная планка | D4: без доводчика | E4: 329.73.503 | F4: Монтажная планка Hafele Duomatic SM, крестовая, быстрый монтаж | G4: =SUMIF(Цены!B:B,E4,Цены!C:C) -> 0.64867721 | H4: Средний | I4: =COUNTIF($B$3:$B$35,B4)/2 -> 2
A5: 1 | B5: FREE FOLD | C5: Петли | D5: без доводчика | E5: 318.40.543 | F5: Петля Metallamat 110⁰ для накладной двери, 52/5,5, быстрый монтаж | G5: =SUMIF(Цены!B:B,E5,Цены!C:C) -> 0.67499758 | H5: Эконом | I5: =COUNTIF($B$3:$B$35,B5)/2 -> 2
A6: 1 | B6: FREE FOLD | C6: Монтажная планка | D6: без доводчика | E6: 318.61.506 | F6: Крестовые монтаж планки Metallamat SM, быстр. монтаж, высота 6 мм | G6: =SUMIF(Цены!B:B,E6,Цены!C:C) -> 0.13634729 | H6: Эконом | I6: =COUNTIF($B$3:$B$35,B6)/2 -> 2
A7: 6 | B7: FREE FLAP H 1.5 | C7: Петли | D7: с доводчиком | E7: 329.17.700 | F7: Петля Duomatic Premium с доводчиком 110 гр. для накладной двери, схема 48/6 мм | G7: =SUMIF(Цены!B:B,E7,Цены!C:C) -> 2.2770297 | H7: Средний | I7: =COUNTIF($B$3:$B$35,B7)/2 -> 4
A8: 6 | B8: FREE FLAP H 1.5 | C8: Монтажная планка | D8: с доводчиком | E8: 329.73.503 | F8: Монтажная планка Hafele Duomatic SM, крестовая, быстрый монтаж | G8: =SUMIF(Цены!B:B,E8,Цены!C:C) -> 0.64867721 | H8: Средний | I8: =COUNTIF($B$3:$B$35,B8)/2 -> 4
A9: 6 | B9: FREE FLAP H 1.5 | C9: Петли | D9: без доводчика | E9: 329.17.600 | F9: Петля Duomatic Standard 110 гр. для накладной двери, схема 48/6 мм | G9: =SUMIF(Цены!B:B,E9,Цены!C:C) -> 1.2719514 | H9: Средний | I9: =COUNTIF($B$3:$B$35,B9)/2 -> 4
A10: 6 | B10: FREE FLAP H 1.5 | C10: Монтажная планка | D10: без доводчика | E10: 316.51.502 | F10: Монтажная планка Hafele Duomatic SM, крестовая, быстрый монтаж | G10: =SUMIF(Цены!B:B,E10,Цены!C:C) -> 0.12422792 | H10: Средний | I10: =COUNTIF($B$3:$B$35,B10)/2 -> 4
A11: 6 | B11: FREE FLAP H 1.5 | C11: Петли | D11: с доводчиком | E11: 311.60.515 | F11: Петля Metalla SM Kombi, угол откр 110. для накладных дв. Схема 52/5,5 с амортизатором | G11: =SUMIF(Цены!B:B,E11,Цены!C:C) -> 2.0297558 | H11: Эконом | I11: =COUNTIF($B$3:$B$35,B11)/2 -> 4
A12: 6 | B12: FREE FLAP H 1.5 | C12: Монтажная планка | D12: с доводчиком | E12: 311.71.540 | F12: Монтажная планка Hafele Metalla SM Kombi, быстрого монтажа высота 0 мм, под шурупы | G12: =SUMIF(Цены!B:B,E12,Цены!C:C) -> 0.23605422 | H12: Эконом | I12: =COUNTIF($B$3:$B$35,B12)/2 -> 4
A13: 6 | B13: FREE FLAP H 1.5 | C13: Петли | D13: без доводчика | E13: 316.30.500 | F13: Петля Metallamat 110⁰ для накладной двери, 48/6, монтаж задвижением | G13: =SUMIF(Цены!B:B,E13,Цены!C:C) -> 0.34669857 | H13: Эконом | I13: =COUNTIF($B$3:$B$35,B13)/2 -> 4
A14: 6 | B14: FREE FLAP H 1.5 | C14: Монтажная планка | D14: без доводчика | E14: 316.51.502 | F14: Крестовая монтажная планка Metallamat А (тех задвиж.) (для шурупов) высота 2 мм | G14: =SUMIF(Цены!B:B,E14,Цены!C:C) -> 0.12422792 | H14: Эконом | I14: =COUNTIF($B$3:$B$35,B14)/2 -> 4
... A16: 7 | B16: MAXI | C16: Монтажная планка | D16: без доводчика | E16: 316.51.502 | F16: Монтажная планка Hafele Duomatic SM, крестовая, быстрый монтаж | G16: =SUMIF(Цены!B:B,E16,Цены!C:C) -> 0.12422792 | H16: Средний | I16: =COUNTIF($B$3:$B$35,B16)/2 -> 2
B17: MAXI | C17: Петли | D17: без доводчика | E17: 316.30.500 | F17: Петля Metallamat 110⁰ для накладной двери, 48/6, монтаж задвижением | G17: =SUMIF(Цены!B:B,E17,Цены!C:C) -> 0.34669857 | H17: Эконом | I17: =COUNTIF($B$3:$B$35,B17)/2 -> 2
B18: MAXI | C18: Монтажная планка | D18: без доводчика | E18: 316.51.502 | F18: Крестовая монтажная планка Metallamat А (тех задвиж.) (для шурупов) высота 2 мм | G18: =SUMIF(Цены!B:B,E18,Цены!C:C) -> 0.12422792 | H18: Эконом | I18: =COUNTIF($B$3:$B$35,B18)/2 -> 2
A19: 8 | B19: DUO Standart | C19: Петли | D19: с доводчиком | E19: 329.17.700 | F19: Петля Duomatic Premium с доводчиком 110 гр. для накладной двери, схема 48/6 мм | G19: =SUMIF(Цены!B:B,E19,Цены!C:C) -> 2.2770297 | H19: Средний | I19: =COUNTIF($B$3:$B$35,B19)/2 -> 4
A20: 8 | B20: DUO Standart | C20: Монтажная планка | D20: с доводчиком | E20: 329.73.503 | F20: Монтажная планка Hafele Duomatic SM, крестовая, быстрый монтаж | G20: =SUMIF(Цены!B:B,E20,Цены!C:C) -> 0.64867721 | H20: Средний | I20: =COUNTIF($B$3:$B$35,B20)/2 -> 4
A21: 8 | B21: DUO Standart | C21: Петли | D21: без доводчика | E21: 329.17.600 | F21: Петля Duomatic Standard 110 гр. для накладной двери, схема 48/6 мм | G21: =SUMIF(Цены!B:B,E21,Цены!C:C) -> 1.2719514 | H21: Средний | I21: =COUNTIF($B$3:$B$35,B21)/2 -> 4
A22: 8 | B22: DUO Standart | C22: Монтажная планка | D22: без доводчика | E22: 316.51.502 | F22: Монтажная планка Hafele Duomatic SM, крестовая, быстрый монтаж | G22: =SUMIF(Цены!B:B,E22,Цены!C:C) -> 0.12422792 | H22: Средний | I22: =COUNTIF($B$3:$B$35,B22)/2 -> 4
A23: 8 | B23: DUO Standart | C23: Петли | D23: с доводчиком | E23: 311.60.515 | F23: Петля Metalla SM Kombi, угол откр 110. для накладных дв. Схема 52/5,5 с амортизатором | G23: =SUMIF(Цены!B:B,E23,Цены!C:C) -> 2.0297558 | H23: Эконом | I23: =COUNTIF($B$3:$B$35,B23)/2 -> 4
A24: 8 | B24: DUO Standart | C24: Монтажная планка | D24: с доводчиком | E24: 311.71.540 | F24: Монтажная планка Hafele Metalla SM Kombi, быстрого монтажа высота 0 мм, под шурупы | G24: =SUMIF(Цены!B:B,E24,Цены!C:C) -> 0.23605422 | H24: Эконом | I24: =COUNTIF($B$3:$B$35,B24)/2 -> 4
A25: 8 | B25: DUO Standart | C25: Петли | D25: без доводчика | E25: 316.30.500 | F25: Петля Metallamat 110⁰ для накладной двери, 48/6, монтаж задвижением | G25: =SUMIF(Цены!B:B,E25,Цены!C:C) -> 0.34669857 | H25: Эконом | I25: =COUNTIF($B$3:$B$35,B25)/2 -> 4
A26: 8 | B26: DUO Standart | C26: Монтажная планка | D26: без доводчика | E26: 316.51.502 | F26: Крестовая монтажная планка Metallamat А (тех задвиж.) (для шурупов) высота 2 мм | G26: =SUMIF(Цены!B:B,E26,Цены!C:C) -> 0.12422792 | H26: Эконом | I26: =COUNTIF($B$3:$B$35,B26)/2 -> 4
A28: 20 | B28: PUSH | C28: Петли | D28: Обратная пружина | E28: 329.17.900 | F28: Петля Duomatic Push Угол раскрытия 110⁰ для накладной двери, схема 48/6 мм | G28: =SUMIF(Цены!B:B,E28,Цены!C:C) -> 2.688312 | H28: Средний | I28: =COUNTIF($B$3:$B$35,B28)/2 -> 2
A29: 20 | B29: PUSH | C29: Монтажная планка | D29: Обратная пружина | E29: 316.51.502 | F29: Монтажная планка Hafele Duomatic SM, крестовая, быстрый монтаж | G29: =SUMIF(Цены!B:B,E29,Цены!C:C) -> 0.12422792 | H29: Средний | I29: =COUNTIF($B$3:$B$35,B29)/2 -> 2
A30: 20 | B30: PUSH | C30: Петли | D30: Обратная пружина | E30: 329.17.900 | F30: Петля Duomatic Push Угол раскрытия 110⁰ для накладной двери, схема 48/6 мм | H30: Эконом | I30: =COUNTIF($B$3:$B$35,B30)/2 -> 2
A31: 20 | B31: PUSH | C31: Монтажная планка | D31: Обратная пружина | E31: 316.51.502 | F31: Монтажная планка Hafele Duomatic SM, крестовая, быстрый монтаж | G31: =SUMIF(Цены!B:B,E31,Цены!C:C) -> 0.12422792 | H31: Эконом | I31: =COUNTIF($B$3:$B$35,B31)/2 -> 2

Sheet Присадки
C2: FREE FOLD | D2: FFD
B4: Y | C4: =VLOOKUP('Free-Серия'!E18,$B$9:$E$21,2,0)*FFDВысота-VLOOKUP('Free-Серия'!E18,$B$9:$E$21,3,0)-$C$6 -> 140 | D4: X | E4: =FFDВысота-$C$4-VLOOKUP('Free-Серия'!E18,$B$9:$E$21,4,0)-$C$6*2+$C$7 -> 175
B5: Y1 | C5: 57 | D5: X1 | E5: =17+C7 -> 31
B6: Толщина корпуса | C6: 16 | D6: 18 | E6: 26
B7: Наложение фасада | C7: =C6-2 -> 14 | D7: =D6-2 -> 16 | E7: =E6-2 -> 24
C8: Q | D8: R | E8: S
B9: =Мех!E5 -> 372.37.430 | C9: 1.2 | D9: 589 | E9: 377
B10: =Мех!E6 -> 372.37.432 | C10: 1.2 | D10: 589 | E10: 377
B11: =Мех!E7 -> 372.37.439 | C11: 1.2 | D11: 664 | E11: 409
B12: =Мех!E8 -> 372.37.441 | C12: 1.2 | D12: 664 | E12: 409
B13: =Мех!E9 -> 372.37.450 | C13: 1.2 | D13: 736 | E13: 439
B14: =Мех!E10 -> 372.37.452 | C14: 1.2 | D14: 736 | E14: 439
B15: =Мех!E11 -> 372.37.459 | C15: 1 | D15: 644 | E15: 467
B16: =Мех!E12 -> 372.37.461 | C16: 1 | D16: 644 | E16: 467
B17: =Мех!E13 -> 372.37.468 | C17: 1.2 | D17: 882 | E17: 501
B18: =Мех!E14 -> 372.37.470 | C18: 1.2 | D18: 882 | E18: 501
B19: =Мех!E16 -> 372.37.479 | C19: 1.1 | D19: 865 | E19: 533
B20: =Мех!E18 -> 372.37.488 | C20: 1.1 | D20: 915 | E20: 557
B21: =Мех!E19 -> 372.37.497 | C21: 1.1 | D21: 954 | E21: 576

Sheet Версия
B2: Код доступа

Sheet Комментарий
B3: Сделать
B4: Версия для закупщиков | C4: цены закупок клиента
B5: Версия для розницы | C5: цены продаж клиента | D5: Дать возможность клиенту регулировать наценку
